#------------------------------------------------------------------------------
#$Date: 2017-10-13 07:28:26 +0200 (vie 13 de oct de 2017) $
#$Revision: 201972 $
#$URL: svn://www.crystallography.net/cod/cif/2/10/30/2103068.cif $
#------------------------------------------------------------------------------
#
# This file is available in the Crystallography Open Database (COD),
# http://www.crystallography.net/. The original data for this entry
# were provided by IUCr Journals, http://journals.iucr.org/.
#
# The file may be used within the scientific community so long as
# proper attribution is given to the journal article from which the
# data were obtained.
#
data_2103068
loop_
_publ_author_name
'Wardell, Solange M. S. V.'
'de Souza, Marcus V. N.'
'Vasconcelos, Thatyana R. A.'
'Ferreira, Marcelle de L.'
'Wardell, James L.'
'Low, John N.'
'Glidewell, Christopher'
_publ_section_title
;
 Patterns of hydrogen bonding in mono- and di-substituted
 N-arylpyrazinecarboxamides
;
_journal_coeditor_code           BM5049
_journal_issue                   1
_journal_name_full               'Acta Crystallographica Section B'
_journal_page_first              84
_journal_page_last               100
_journal_paper_doi               10.1107/S0108768107051804
_journal_volume                  64
_journal_year                    2008
_chemical_formula_moiety         'C11 H7 Cl F N3 O'
_chemical_formula_sum            'C11 H7 Cl F N3 O'
_chemical_formula_weight         251.65
_chemical_name_systematic
;
N-(4-chloro-2-fluorophenyl)pyrazinecarboxamide
;
_space_group_IT_number           14
_symmetry_cell_setting           monoclinic
_symmetry_space_group_name_Hall  '-P 2ybc'
_symmetry_space_group_name_H-M   'P 1 21/c 1'
_atom_sites_solution_hydrogens   geom
_atom_sites_solution_primary     direct
_atom_sites_solution_secondary   difmap
_cell_angle_alpha                90.00
_cell_angle_beta                 99.008(3)
_cell_angle_gamma                90.00
_cell_formula_units_Z            4
_cell_length_a                   6.8885(2)
_cell_length_b                   10.5369(5)
_cell_length_c                   14.6683(7)
_cell_measurement_reflns_used    2414
_cell_measurement_temperature    120(2)
_cell_measurement_theta_max      27.59
_cell_measurement_theta_min      3.41
_cell_volume                     1051.54(8)
_computing_cell_refinement       'DENZO (Otwinowski & Minor, 1997) & COLLECT'
_computing_data_collection       'COLLECT (Hooft, 1999)'
_computing_data_reduction        'DENZO & COLLECT'
_computing_molecular_graphics    'PLATON (Spek, 2003)'
_computing_publication_material  'SHELXL-97 & PRPKAPPA (Ferguson, 1999)'
_computing_structure_refinement  'OSCAIL and SHELXL-97 (Sheldrick, 1997)'
_computing_structure_solution
'OSCAIL (McArdle, 2003) & SHELXS-97 (Sheldrick, 1997)'
_diffrn_ambient_temperature      120(2)
_diffrn_detector_area_resol_mean 9.091
_diffrn_measured_fraction_theta_full 0.996
_diffrn_measured_fraction_theta_max 0.993
_diffrn_measurement_device_type  'Bruker-Nonius KappaCCD'
_diffrn_measurement_method       'φ & ω scans'
_diffrn_radiation_monochromator  graphite
_diffrn_radiation_source         'Bruker-Nonius FR591 rotating anode'
_diffrn_radiation_type           'Mo K\a'
_diffrn_radiation_wavelength     0.71073
_diffrn_reflns_av_R_equivalents  0.0879
_diffrn_reflns_av_sigmaI/netI    0.0566
_diffrn_reflns_limit_h_max       8
_diffrn_reflns_limit_h_min       -8
_diffrn_reflns_limit_k_max       13
_diffrn_reflns_limit_k_min       -13
_diffrn_reflns_limit_l_max       19
_diffrn_reflns_limit_l_min       -19
_diffrn_reflns_number            14068
_diffrn_reflns_theta_full        25.00
_diffrn_reflns_theta_max         27.59
_diffrn_reflns_theta_min         3.41
_diffrn_standards_decay_%        0
_diffrn_standards_number         0
_exptl_absorpt_coefficient_mu    0.362
_exptl_absorpt_correction_T_max  0.979
_exptl_absorpt_correction_T_min  0.845
_exptl_absorpt_correction_type   multi-scan
_exptl_absorpt_process_details   'SADABS 2.10 (Sheldrick, 2003)'
_exptl_crystal_colour            colourless
_exptl_crystal_density_diffrn    1.590
_exptl_crystal_density_method    'not measured'
_exptl_crystal_description       needle
_exptl_crystal_F_000             512
_exptl_crystal_size_max          0.48
_exptl_crystal_size_mid          0.08
_exptl_crystal_size_min          0.06
_refine_diff_density_max         0.410
_refine_diff_density_min         -0.603
_refine_ls_extinction_method     none
_refine_ls_goodness_of_fit_ref   1.069
_refine_ls_hydrogen_treatment    constr
_refine_ls_matrix_type           full
_refine_ls_number_parameters     154
_refine_ls_number_reflns         2414
_refine_ls_number_restraints     0
_refine_ls_restrained_S_all      1.069
_refine_ls_R_factor_all          0.0709
_refine_ls_R_factor_gt           0.0536
_refine_ls_shift/su_max          0.000
_refine_ls_shift/su_mean         0.000
_refine_ls_structure_factor_coef Fsqd
_refine_ls_weighting_details
'w=1/[σ²(Fo²)+(0.0594P)²+0.7800P] where P=(Fo²+2Fc²)/3'
_refine_ls_weighting_scheme      calc
_refine_ls_wR_factor_gt          0.1260
_refine_ls_wR_factor_ref         0.1363
_reflns_number_gt                1903
_reflns_number_total             2414
_reflns_threshold_expression     I>2σ(I)
_cod_data_source_file            bm5049.cif
_cod_data_source_block           XXIII
_cod_depositor_comments
;
The following automatic conversions were performed:
'_exptl_absorpt_correction_type' value 'Multi-scan' changed to
'multi-scan' according to
'/home/saulius/struct/CIF-dictionaries/cif_core.dic' dictionary named
'cif_core.dic' version 2.4.1 from 2010-06-29.

Automatic conversion script
Id: cif_fix_enum 1527 2010-12-29 10:47:43Z saulius 

The following automatic conversions were performed:

'_exptl_absorpt_correction_type' value 'Multi-scan' changed to
'multi-scan' according to
/home/saulius/struct/CIF-dictionaries/cif_core.dic dictionary named
'cif_core.dic' version 2.4.1 from 2010-06-29.

Automatic conversion script
Id: cif_fix_values 1715 2011-07-08 13:25:40Z adriana 
;
_cod_original_sg_symbol_H-M      'P 21/c'
_cod_database_code               2103068
loop_
_symmetry_equiv_pos_as_xyz
'x, y, z'
'-x, y+1/2, -z+1/2'
'-x, -y, -z'
'x, -y-1/2, z-1/2'
loop_
_atom_site_type_symbol
_atom_site_label
_atom_site_fract_x
_atom_site_fract_y
_atom_site_fract_z
_atom_site_U_iso_or_equiv
_atom_site_adp_type
_atom_site_calc_flag
_atom_site_refinement_flags
_atom_site_occupancy
N N1 0.1577(3) 0.33660(18) 0.33583(12) 0.0259(4) Uani d . 1
C C2 0.1690(3) 0.2941(2) 0.42208(15) 0.0234(5) Uani d . 1
C C3 0.1414(3) 0.1672(2) 0.44199(16) 0.0277(5) Uani d . 1
N N4 0.1037(3) 0.07971(19) 0.37480(14) 0.0320(5) Uani d . 1
C C5 0.0927(3) 0.1227(2) 0.28893(17) 0.0306(5) Uani d . 1
C C6 0.1194(3) 0.2500(2) 0.26898(16) 0.0305(5) Uani d . 1
C C7 0.2147(3) 0.3886(2) 0.49933(14) 0.0236(5) Uani d . 1
O O7 0.2190(3) 0.35856(16) 0.57997(11) 0.0356(4) Uani d . 1
N N17 0.2490(3) 0.50689(16) 0.46880(12) 0.0233(4) Uani d . 1
C C11 0.2903(3) 0.6177(2) 0.52125(15) 0.0219(4) Uani d . 1
C C12 0.2996(3) 0.7310(2) 0.47305(14) 0.0238(5) Uani d . 1
F F12 0.2682(2) 0.72518(13) 0.37956(8) 0.0322(3) Uani d . 1
C C13 0.3350(3) 0.8472(2) 0.51551(15) 0.0263(5) Uani d . 1
C C14 0.3653(3) 0.8498(2) 0.61107(16) 0.0254(5) Uani d . 1
Cl Cl14 0.40321(9) 0.99463(5) 0.66766(4) 0.0335(2) Uani d . 1
C C15 0.3618(3) 0.7396(2) 0.66226(15) 0.0248(5) Uani d . 1
C C16 0.3249(3) 0.6233(2) 0.61750(14) 0.0243(5) Uani d . 1
H H3 0.1494 0.1415 0.5046 0.033 Uiso calc R 1
H H5 0.0654 0.0643 0.2393 0.037 Uiso calc R 1
H H6 0.1102 0.2758 0.2064 0.037 Uiso calc R 1
H H17 0.2354 0.5103 0.4074 0.028 Uiso d R 1
H H13 0.3384 0.9228 0.4805 0.032 Uiso calc R 1
H H15 0.3845 0.7433 0.7278 0.030 Uiso calc R 1
H H16 0.3234 0.5477 0.6526 0.029 Uiso calc R 1
loop_
_atom_site_aniso_label
_atom_site_aniso_U_11
_atom_site_aniso_U_22
_atom_site_aniso_U_33
_atom_site_aniso_U_12
_atom_site_aniso_U_13
_atom_site_aniso_U_23
N1 0.0250(10) 0.0298(10) 0.0234(9) -0.0008(8) 0.0051(7) -0.0041(7)
C2 0.0197(10) 0.0257(11) 0.0251(11) 0.0036(8) 0.0046(8) -0.0023(8)
C3 0.0294(12) 0.0241(11) 0.0287(12) 0.0051(9) 0.0019(9) -0.0012(9)
N4 0.0337(11) 0.0264(10) 0.0350(11) 0.0043(8) 0.0028(8) -0.0058(8)
C5 0.0257(12) 0.0351(13) 0.0302(12) 0.0017(10) 0.0019(9) -0.0103(10)
C6 0.0305(13) 0.0356(13) 0.0255(12) -0.0017(10) 0.0046(9) -0.0057(9)
C7 0.0253(11) 0.0227(11) 0.0231(11) 0.0037(9) 0.0045(8) -0.0020(8)
O7 0.0574(12) 0.0282(9) 0.0214(8) -0.0003(8) 0.0071(7) -0.0001(6)
N17 0.0280(10) 0.0229(9) 0.0189(8) 0.0017(7) 0.0036(7) -0.0010(7)
C11 0.0194(10) 0.0221(10) 0.0244(11) 0.0033(8) 0.0043(8) -0.0008(8)
C12 0.0242(11) 0.0267(11) 0.0207(10) 0.0043(9) 0.0039(8) 0.0014(8)
F12 0.0463(8) 0.0301(7) 0.0200(7) -0.0011(6) 0.0044(6) 0.0020(5)
C13 0.0263(12) 0.0223(11) 0.0303(12) 0.0018(8) 0.0048(9) 0.0020(8)
C14 0.0217(11) 0.0238(11) 0.0308(12) 0.0016(8) 0.0047(8) -0.0052(8)
Cl14 0.0376(4) 0.0270(3) 0.0351(3) 0.0008(2) 0.0034(2) -0.0084(2)
C15 0.0242(11) 0.0293(11) 0.0210(11) 0.0026(9) 0.0041(8) -0.0024(8)
C16 0.0234(11) 0.0276(11) 0.0222(11) 0.0040(9) 0.0049(8) 0.0021(8)
loop_
_atom_type_symbol
_atom_type_description
_atom_type_scat_dispersion_real
_atom_type_scat_dispersion_imag
_atom_type_scat_source
C C 0.0033 0.0016 'International Tables Vol C Tables 4.2.6.8 and 6.1.1.4'
H H 0.0000 0.0000 'International Tables Vol C Tables 4.2.6.8 and 6.1.1.4'
Cl Cl 0.1484 0.1585 'International Tables Vol C Tables 4.2.6.8 and 6.1.1.4'
F F 0.0171 0.0103 'International Tables Vol C Tables 4.2.6.8 and 6.1.1.4'
N N 0.0061 0.0033 'International Tables Vol C Tables 4.2.6.8 and 6.1.1.4'
O O 0.0106 0.0060 'International Tables Vol C Tables 4.2.6.8 and 6.1.1.4'
loop_
_geom_angle_atom_site_label_1
_geom_angle_atom_site_label_2
_geom_angle_atom_site_label_3
_geom_angle
_geom_angle_publ_flag
C2 N1 C6 116.3(2) no
N1 C2 C3 122.3(2) no
N1 C2 C7 117.83(19) no
C3 C2 C7 119.9(2) no
N4 C3 C2 121.6(2) no
N4 C3 H3 119.2 no
C2 C3 H3 119.2 no
C5 N4 C3 115.9(2) no
N4 C5 C6 122.6(2) no
N4 C5 H5 118.7 no
C6 C5 H5 118.7 no
N1 C6 C5 121.5(2) no
N1 C6 H6 119.3 no
C5 C6 H6 119.3 no
O7 C7 N17 125.4(2) no
O7 C7 C2 121.9(2) no
N17 C7 C2 112.70(18) no
C7 N17 C11 127.87(18) no
C7 N17 H17 111.9 no
C11 N17 H17 120.1 no
C12 C11 C16 117.5(2) no
C12 C11 N17 117.12(18) no
C16 C11 N17 125.35(19) no
F12 C12 C13 119.07(19) no
F12 C12 C11 117.51(19) no
C13 C12 C11 123.4(2) no
C12 C13 C14 117.6(2) no
C12 C13 H13 121.2 no
C14 C13 H13 121.2 no
C15 C14 C13 121.3(2) no
C15 C14 Cl14 119.43(17) no
C13 C14 Cl14 119.23(17) no
C14 C15 C16 119.9(2) no
C14 C15 H15 120.0 no
C16 C15 H15 120.0 no
C15 C16 C11 120.2(2) no
C15 C16 H16 119.9 no
C11 C16 H16 119.9 no
loop_
_geom_bond_atom_site_label_1
_geom_bond_atom_site_label_2
_geom_bond_distance
_geom_bond_publ_flag
N1 C2 1.333(3) no
N1 C6 1.335(3) no
C2 C3 1.388(3) no
C2 C7 1.504(3) no
C3 N4 1.345(3) no
C3 H3 0.95 no
N4 C5 1.330(3) no
C5 C6 1.391(3) no
C5 H5 0.95 no
C6 H6 0.95 no
C7 O7 1.220(3) no
C7 N17 1.358(3) no
N17 C11 1.402(3) no
N17 H17 0.89 no
C11 C12 1.394(3) no
C11 C16 1.396(3) no
C12 F12 1.356(2) no
C12 C13 1.379(3) no
C13 C14 1.385(3) no
C13 H13 0.95 no
C14 C15 1.385(3) no
C14 Cl14 1.737(2) no
C15 C16 1.394(3) no
C15 H15 0.95 no
C16 H16 0.95 no
loop_
_geom_hbond_atom_site_label_D
_geom_hbond_atom_site_label_H
_geom_hbond_atom_site_label_A
_geom_hbond_distance_DH
_geom_hbond_distance_HA
_geom_hbond_distance_DA
_geom_hbond_angle_DHA
_geom_hbond_publ_flag
N17 H17 N1 0.89 2.14 2.652(3) 116 no
loop_
_geom_torsion_atom_site_label_1
_geom_torsion_atom_site_label_2
_geom_torsion_atom_site_label_3
_geom_torsion_atom_site_label_4
_geom_torsion
_geom_torsion_publ_flag
C6 N1 C2 C3 -0.5(3) no
C6 N1 C2 C7 179.18(19) no
N1 C2 C3 N4 0.8(3) no
C7 C2 C3 N4 -178.9(2) no
C2 C3 N4 C5 -0.7(3) no
C3 N4 C5 C6 0.4(3) no
C2 N1 C6 C5 0.1(3) no
N4 C5 C6 N1 -0.1(4) no
N1 C2 C7 O7 176.6(2) no
C3 C2 C7 O7 -3.7(3) no
N1 C2 C7 N17 -3.3(3) no
C3 C2 C7 N17 176.31(19) no
O7 C7 N17 C11 -1.8(4) no
C2 C7 N17 C11 178.13(18) no
C7 N17 C11 C12 -173.3(2) no
C7 N17 C11 C16 7.4(3) no
C16 C11 C12 F12 179.25(18) no
N17 C11 C12 F12 -0.1(3) no
C16 C11 C12 C13 -2.0(3) no
N17 C11 C12 C13 178.7(2) no
F12 C12 C13 C14 179.65(19) no
C11 C12 C13 C14 1.0(3) no
C12 C13 C14 C15 0.5(3) no
C12 C13 C14 Cl14 -178.12(17) no
C13 C14 C15 C16 -0.7(3) no
Cl14 C14 C15 C16 177.86(16) no
C14 C15 C16 C11 -0.4(3) no
C12 C11 C16 C15 1.7(3) no
N17 C11 C16 C15 -179.0(2) no
loop_
_cod_related_entry_id
_cod_related_entry_database
_cod_related_entry_code
1 ChemSpider 3374089
