#------------------------------------------------------------------------------
#$Date: 2018-06-14 06:30:58 +0200 (jue 14 de jun de 2018) $
#$Revision: 208365 $
#$URL: svn://www.crystallography.net/cod/cif/2/10/33/2103391.cif $
#------------------------------------------------------------------------------
#
# This file is available in the Crystallography Open Database (COD),
# http://www.crystallography.net/. The original data for this entry
# were provided by IUCr Journals, http://journals.iucr.org/.
#
# The file may be used within the scientific community so long as
# proper attribution is given to the journal article from which the
# data were obtained.
#
data_2103391
loop_
_publ_author_name
'Marsh, Richard E.'
_publ_section_title
;
 The space groups of point group C₃: some corrections, some
 comments
;
_journal_issue                   5
_journal_name_full               'Acta Crystallographica Section B'
_journal_page_first              893
_journal_page_last               899
_journal_paper_doi               10.1107/S0108768102011758
_journal_volume                  58
_journal_year                    2002
_chemical_formula_moiety         'C3 H6 O6 Ru, 2(B F4)'
_chemical_formula_sum            'C3 H6 B2 F8 O6 Ru'
_space_group_crystal_system      trigonal
_space_group_IT_number           148
_space_group_name_Hall           '-R 3'
_space_group_name_H-M_alt        'R -3 :H'
_cell_angle_alpha                90.0
_cell_angle_beta                 90.0
_cell_angle_gamma                120.0
_cell_formula_units_Z            6
_cell_length_a                   7.5675
_cell_length_b                   7.5675
_cell_length_c                   34.703
_cell_volume                     1721.086
_cod_data_source_file            bk0117.cif
_cod_data_source_block           GOZYOJ
_cod_depositor_comments
;
 Updating space group information.

 Antanas Vaitkus,
 2018-06-14

 Adding the _cell_formula_units_Z and _chemical_formula_moiety data items
 after consulting the original publication.

 Antanas Vaitkus,
 2017-08-03
;
_cod_original_sg_symbol_H-M      'R -3'
_cod_original_formula_sum        'C3 H6 O6 B2 F8 Ru'
_cod_database_code               2103391
loop_
_space_group_symop_id
_space_group_symop_operation_xyz
1 x,y,z
2 -y,x-y,z
3 -x+y,-x,z
4 -x,-y,-z
5 y,-x+y,-z
6 x-y,x,-z
7 x+2/3,y+1/3,z+1/3
8 -y+2/3,x-y+1/3,z+1/3
9 -x+y+2/3,-x+1/3,z+1/3
10 -x+2/3,-y+1/3,-z+1/3
11 y+2/3,-x+y+1/3,-z+1/3
12 x-y+2/3,x+1/3,-z+1/3
13 x+1/3,y+2/3,z+2/3
14 -y+1/3,x-y+2/3,z+2/3
15 -x+y+1/3,-x+2/3,z+2/3
16 -x+1/3,-y+2/3,-z+2/3
17 y+1/3,-x+y+2/3,-z+2/3
18 x-y+1/3,x+2/3,-z+2/3
loop_
_atom_site_label
_atom_site_fract_x
_atom_site_fract_y
_atom_site_fract_z
RU1 0.6667 0.3333 -0.08603
O1 0.5641 0.0902 -0.12578
C1 0.4289 0.1968 -0.0538
O2 0.2914 0.1148 -0.0352
B1 0.0 0.0 -0.1434
F1 0.0 0.0 -0.1833
F2 0.1627 -0.0169 -0.1300
B2 0.3333 -0.3333 -0.0564
F3 0.3333 -0.3333 -0.0166
F4 0.5212 -0.1832 -0.0700
H1 0.4574 0.0539 -0.1353
H2 0.5413 -0.0060 -0.1130
