#------------------------------------------------------------------------------
#$Date: 2016-02-14 15:26:36 +0100 (dom 14 de feb de 2016) $
#$Revision: 176435 $
#$URL: svn://www.crystallography.net/cod/cif/2/10/37/2103758.cif $
#------------------------------------------------------------------------------
#
# This file is available in the Crystallography Open Database (COD),
# http://www.crystallography.net/. The original data for this entry
# were provided by IUCr Journals, http://journals.iucr.org/.
#
# The file may be used within the scientific community so long as
# proper attribution is given to the journal article from which the
# data were obtained.
#
data_2103758
loop_
_publ_author_name
'Friedrich, Alexandra'
'Kunz, Martin'
'Suard, Emmanuelle'
_publ_section_title
;
 Temperature-dependent neutron powder diffraction study of the
 Ba(OD)₂ polymorphs: a new low-temperature phase
;
_journal_issue                   6
_journal_name_full               'Acta Crystallographica Section B'
_journal_page_first              747
_journal_page_last               758
_journal_paper_doi               10.1107/S0108768101013647
_journal_volume                  57
_journal_year                    2001
_chemical_formula_iupac          'Ba (O D)2'
_chemical_formula_moiety         'Ba, 2(O D)'
_chemical_formula_structural     'Ba (O D)2'
_chemical_formula_sum            'Ba D2 O2'
_chemical_formula_weight         3467.320
_chemical_name_systematic
;
deuterated barium hydroxide
;
_space_group_IT_number           62
_symmetry_cell_setting           orthorhombic
_symmetry_space_group_name_Hall  '-P 2ac 2n'
_symmetry_space_group_name_H-M   'P n m a'
_cell_angle_alpha                90.0
_cell_angle_beta                 90.0
_cell_angle_gamma                90.0
_cell_formula_units_Z            20
_cell_length_a                   11.0818(4)
_cell_length_b                   16.6025(5)
_cell_length_c                   7.1255(2)
_cell_measurement_temperature    480
_cell_volume                     1310.99(7)
_computing_cell_refinement       'GSAS (Larson and Von Dreele, 1994)'
_computing_data_reduction        GSAS
_computing_molecular_graphics
'Crystal Maker, version 4.0.1 (Palmer, D.C., 1994-99)'
_computing_publication_material  GSAS
_computing_structure_refinement  GSAS
_diffrn_measurement_device_type  'diffractometer D 2B, ILL'
_diffrn_radiation_probe          neutron
_diffrn_radiation_source         'high-flux isotope reactor'
_diffrn_radiation_type           neutron
_diffrn_radiation_wavelength     1.59432
_refine_ls_extinction_method     none
_refine_ls_goodness_of_fit_all   1.53
_refine_ls_number_parameters     78
_refine_ls_structure_factor_coef rietveld
_reflns_number_gt                1342
_cod_data_source_file            os0074.cif
_cod_data_source_block           480
_cod_original_formula_sum        'D2 O2 Ba1'
_cod_database_code               2103758
loop_
_symmetry_equiv_pos_as_xyz
+x,+y,+z
-x+1/2,+y+1/2,+z+1/2
+x,-y+1/2,+z
-x+1/2,-y,+z+1/2
-x,-y,-z
+x+1/2,-y+1/2,-z+1/2
-x,+y+1/2,-z
+x+1/2,+y,-z+1/2
loop_
_atom_site_label
_atom_site_fract_x
_atom_site_fract_y
_atom_site_fract_z
_atom_site_U_iso_or_equiv
_atom_site_thermal_displace_type
_atom_site_occupancy
Ba1 .3171(8) .25 .4408(12) .02123 Uiso 1.0
Ba2 .4737(4) .3764(4) .9180(7) .01903 Uiso 1.0
Ba3 .3338(5) .4883(3) .4249(9) .02065 Uiso 1.0
O1 .0775(9) .25 .3760(14) .0415 Uiso 1.0
O2 .3257(9) .25 .8140(13) .04299 Uiso 1.0
O3 .4930(7) .3654(5) .5294(10) .04643 Uiso 1.0
O4 .2809(6) .3803(4) .1639(10) .03464 Uiso 1.0
O5 .2141(5) .3950(3) .6572(8) .02691 Uiso 1.0
O6 .0574(7) .4756(4) .2984(10) .03786 Uiso 1.0
D1 .0551(13) .25 .261(2) .13132 Uiso 1.0
D2 .2683(9) .25 .9128(15) .07645 Uiso 1.0
D3 .5542(8) .3390(5) .4957(12) .10137 Uiso 1.0
D4 .2252(7) .3516(5) .1270(12) .1021 Uiso 1.0
D5 .2372(5) .3527(4) .7382(8) .04792 Uiso 1.0
D6 .0779(7) .4303(4) .2460(11) .08113 Uiso 1.0
loop_
_atom_type_symbol
_atom_type_description
_atom_type_scat_source
Ba Ba 'Koster & Yelon (1982), Neutron Diffraction Newsletter'
O O 'Koster & Yelon (1982), Neutron Diffraction Newsletter'
D D 'Koster & Yelon (1982), Neutron Diffraction Newsletter'
