#------------------------------------------------------------------------------
#$Date: 2018-08-13 15:26:29 +0200 (lun 13 de ago de 2018) $
#$Revision: 209649 $
#$URL: svn://www.crystallography.net/cod/cif/2/30/03/2300305.cif $
#------------------------------------------------------------------------------
#
# This file is available in the Crystallography Open Database (COD),
# http://www.crystallography.net/. The original data for this entry
# were provided by IUCr Journals, http://journals.iucr.org/.
#
# The file may be used within the scientific community so long as
# proper attribution is given to the journal article from which the
# data were obtained.
#
data_2300305
loop_
_publ_author_name
'Eccles, Kevin S.'
'Stokes, Stephen P.'
'Daly, Carla A.'
'Barry, Nicola M.'
'McSweeney, Sharon P.'
'O'Neill, Damian J.'
'Kelly, Dawn M.'
'Jennings, W. Brian'
'Ní Dhubhghaill, O. M.'
'Moynihan, Humphrey A.'
'Maguire, Anita R.'
'Lawrence, Simon E.'
_publ_section_title
;
 Evaluation of the Bruker SMART X2S: crystallography for the
 nonspecialist?
;
_journal_coden_ASTM              JACGAR
_journal_coeditor_code           KK5074
_journal_issue                   1
_journal_name_full               'Journal of Applied Crystallography'
_journal_page_first              213
_journal_page_last               215
_journal_paper_doi               10.1107/S0021889810042561
_journal_volume                  44
_journal_year                    2011
_chemical_formula_moiety         'C14 H14 O2 S'
_chemical_formula_sum            'C14 H14 O2 S'
_chemical_formula_weight         246.31
_space_group_IT_number           15
_symmetry_cell_setting           monoclinic
_symmetry_space_group_name_Hall  '-C 2yc'
_symmetry_space_group_name_H-M   'C 1 2/c 1'
_atom_sites_solution_hydrogens   geom
_atom_sites_solution_primary     direct
_atom_sites_solution_secondary   difmap
_audit_creation_method           SHELXL-97
_cell_angle_alpha                90.00
_cell_angle_beta                 90.185(4)
_cell_angle_gamma                90.00
_cell_formula_units_Z            4
_cell_length_a                   24.003(3)
_cell_length_b                   4.7435(6)
_cell_length_c                   10.8255(12)
_cell_measurement_reflns_used    2014
_cell_measurement_temperature    300(2)
_cell_measurement_theta_max      24.99
_cell_measurement_theta_min      3.39
_cell_volume                     1232.6(3)
_computing_cell_refinement       'Bruker SAINT'
_computing_data_collection       'Bruker GIS'
_computing_data_reduction        'Bruker SAINT'
_computing_molecular_graphics    'Bruker APEX2'
_computing_structure_refinement  'SHELXL-97 (Sheldrick, 2008)'
_computing_structure_solution    'SHELXS-97 (Sheldrick, 2008)'
_diffrn_ambient_temperature      300(2)
_diffrn_measured_fraction_theta_full 0.998
_diffrn_measured_fraction_theta_max 0.998
_diffrn_measurement_device_type  'Bruker SMART X2S'
_diffrn_measurement_method       'ω scans'
_diffrn_radiation_monochromator  'doubly curved silicon crystal'
_diffrn_radiation_source         'micro-focus sealed tube'
_diffrn_radiation_type           MoK\a
_diffrn_radiation_wavelength     0.71073
_diffrn_reflns_av_R_equivalents  0.0305
_diffrn_reflns_av_sigmaI/netI    0.0299
_diffrn_reflns_limit_h_max       28
_diffrn_reflns_limit_h_min       -28
_diffrn_reflns_limit_k_max       5
_diffrn_reflns_limit_k_min       -5
_diffrn_reflns_limit_l_max       12
_diffrn_reflns_limit_l_min       -11
_diffrn_reflns_number            3757
_diffrn_reflns_theta_full        25.00
_diffrn_reflns_theta_max         25.00
_diffrn_reflns_theta_min         1.70
_exptl_absorpt_coefficient_mu    0.249
_exptl_absorpt_correction_T_max  0.8857
_exptl_absorpt_correction_T_min  0.7685
_exptl_absorpt_correction_type   multi-scan
_exptl_absorpt_process_details   'SADABS V2008/1 (Bruker AXS)'
_exptl_crystal_colour            colorless
_exptl_crystal_density_diffrn    1.327
_exptl_crystal_density_method    'not measured'
_exptl_crystal_description       block
_exptl_crystal_F_000             520
_exptl_crystal_size_max          0.29
_exptl_crystal_size_mid          0.28
_exptl_crystal_size_min          0.24
_refine_diff_density_max         0.240
_refine_diff_density_min         -0.334
_refine_ls_extinction_method     none
_refine_ls_goodness_of_fit_ref   1.162
_refine_ls_hydrogen_treatment    constr
_refine_ls_matrix_type           full
_refine_ls_number_parameters     78
_refine_ls_number_reflns         1094
_refine_ls_number_restraints     0
_refine_ls_restrained_S_all      1.162
_refine_ls_R_factor_all          0.0537
_refine_ls_R_factor_gt           0.0360
_refine_ls_shift/su_max          0.003
_refine_ls_shift/su_mean         0.001
_refine_ls_structure_factor_coef Fsqd
_refine_ls_weighting_details
'calc w=1/[σ²(Fo²)+(0.0805P)²+0.0091P] where P=(Fo²+2Fc²)/3'
_refine_ls_weighting_scheme      calc
_refine_ls_wR_factor_gt          0.1045
_refine_ls_wR_factor_ref         0.1321
_reflns_number_gt                894
_reflns_number_total             1094
_reflns_threshold_expression     >2sigma(I)
_cod_data_source_file            kk5074.cif
_cod_data_source_block           Compound_1_Centre
_cod_depositor_comments
;
The following automatic conversions were performed:
'_symmetry_cell_setting' value 'Monoclinic' changed to 'monoclinic'
according to '/home/saulius/struct/CIF-dictionaries/cif_core.dic'
dictionary named 'cif_core.dic' version 2.4.1 from 2010-06-29.

Automatic conversion script
Id: cif_fix_enum 1555 2011-01-17 13:19:09Z saulius 
;
_cod_original_sg_symbol_H-M      C12/c1
_cod_database_code               2300305
loop_
_symmetry_equiv_pos_as_xyz
'x, y, z'
'-x, y, -z+1/2'
'x+1/2, y+1/2, z'
'-x+1/2, y+1/2, -z+1/2'
'-x, -y, -z'
'x, -y, z-1/2'
'-x+1/2, -y+1/2, -z'
'x+1/2, -y+1/2, z-1/2'
loop_
_atom_site_type_symbol
_atom_site_label
_atom_site_fract_x
_atom_site_fract_y
_atom_site_fract_z
_atom_site_U_iso_or_equiv
_atom_site_adp_type
_atom_site_calc_flag
_atom_site_refinement_flags
_atom_site_occupancy
_atom_site_disorder_assembly
_atom_site_disorder_group
S S1 0.5000 0.14712(15) 0.2500 0.0388(3) Uani d S 1 . .
O O1 0.47410(6) 0.3057(3) 0.15153(14) 0.0516(5) Uani d . 1 . .
C C1 0.69124(12) 0.4134(6) 0.0722(3) 0.0700(9) Uani d . 1 . .
H H1 0.7216 0.5214 0.0479 0.084 Uiso calc R 1 . .
C C2 0.69521(11) 0.2466(7) 0.1749(3) 0.0708(8) Uani d . 1 . .
H H2 0.7282 0.2405 0.2200 0.085 Uiso calc R 1 . .
C C3 0.64978(10) 0.0866(5) 0.2114(2) 0.0559(7) Uani d . 1 . .
H H3 0.6522 -0.0243 0.2820 0.067 Uiso calc R 1 . .
C C4 0.60086(9) 0.0907(4) 0.1436(2) 0.0407(6) Uani d . 1 . .
C C5 0.55117(9) -0.0820(4) 0.1842(2) 0.0440(6) Uani d . 1 . .
H H5A 0.5628 -0.2209 0.2448 0.053 Uiso calc R 1 . .
H H5B 0.5354 -0.1807 0.1138 0.053 Uiso calc R 1 . .
C C6 0.59791(10) 0.2614(5) 0.0397(2) 0.0513(6) Uani d . 1 . .
H H6 0.5652 0.2664 -0.0067 0.062 Uiso calc R 1 . .
C C7 0.64250(12) 0.4227(6) 0.0043(3) 0.0645(8) Uani d . 1 . .
H H7 0.6399 0.5377 -0.0651 0.077 Uiso calc R 1 . .
loop_
_atom_site_aniso_label
_atom_site_aniso_U_11
_atom_site_aniso_U_22
_atom_site_aniso_U_33
_atom_site_aniso_U_12
_atom_site_aniso_U_13
_atom_site_aniso_U_23
S1 0.0421(5) 0.0264(4) 0.0479(5) 0.000 0.0034(3) 0.000
O1 0.0529(10) 0.0442(10) 0.0575(11) 0.0059(8) 0.0023(8) 0.0128(8)
C1 0.0606(19) 0.0567(18) 0.093(2) -0.0104(13) 0.0298(16) -0.0048(15)
C2 0.0445(15) 0.0691(18) 0.099(2) -0.0050(14) 0.0004(15) -0.0002(19)
C3 0.0514(16) 0.0526(15) 0.0636(16) 0.0058(12) 0.0002(13) 0.0053(12)
C4 0.0442(13) 0.0322(12) 0.0458(13) 0.0038(9) 0.0090(10) -0.0081(9)
C5 0.0482(14) 0.0297(11) 0.0543(13) 0.0007(9) 0.0059(11) -0.0044(9)
C6 0.0575(15) 0.0524(14) 0.0441(13) -0.0014(12) 0.0044(11) -0.0009(12)
C7 0.080(2) 0.0565(16) 0.0576(16) -0.0010(14) 0.0226(15) 0.0061(13)
loop_
_atom_type_symbol
_atom_type_description
_atom_type_scat_dispersion_real
_atom_type_scat_dispersion_imag
_atom_type_scat_source
C C 0.0033 0.0016 'International Tables Vol C Tables 4.2.6.8 and 6.1.1.4'
H H 0.0000 0.0000 'International Tables Vol C Tables 4.2.6.8 and 6.1.1.4'
O O 0.0106 0.0060 'International Tables Vol C Tables 4.2.6.8 and 6.1.1.4'
S S 0.1246 0.1234 'International Tables Vol C Tables 4.2.6.8 and 6.1.1.4'
loop_
_geom_angle_atom_site_label_1
_geom_angle_atom_site_label_2
_geom_angle_atom_site_label_3
_geom_angle_site_symmetry_1
_geom_angle_site_symmetry_3
_geom_angle
_geom_angle_publ_flag
O1 S1 O1 . 2_655 117.21(14) ?
O1 S1 C5 . . 108.47(10) ?
O1 S1 C5 2_655 . 108.41(10) ?
O1 S1 C5 . 2_655 108.41(10) ?
O1 S1 C5 2_655 2_655 108.48(10) ?
C5 S1 C5 . 2_655 105.22(14) ?
C2 C1 C7 . . 120.5(3) ?
C2 C1 H1 . . 119.7 ?
C7 C1 H1 . . 119.7 ?
C1 C2 C3 . . 119.7(3) ?
C1 C2 H2 . . 120.1 ?
C3 C2 H2 . . 120.1 ?
C4 C3 C2 . . 120.5(2) ?
C4 C3 H3 . . 119.7 ?
C2 C3 H3 . . 119.7 ?
C3 C4 C6 . . 118.6(2) ?
C3 C4 C5 . . 120.5(2) ?
C6 C4 C5 . . 120.9(2) ?
C4 C5 S1 . . 109.24(14) ?
C4 C5 H5A . . 109.8 ?
S1 C5 H5A . . 109.8 ?
C4 C5 H5B . . 109.8 ?
S1 C5 H5B . . 109.8 ?
H5A C5 H5B . . 108.3 ?
C7 C6 C4 . . 121.0(2) ?
C7 C6 H6 . . 119.5 ?
C4 C6 H6 . . 119.5 ?
C6 C7 C1 . . 119.6(3) ?
C6 C7 H7 . . 120.2 ?
C1 C7 H7 . . 120.2 ?
loop_
_geom_bond_atom_site_label_1
_geom_bond_atom_site_label_2
_geom_bond_site_symmetry_2
_geom_bond_distance
_geom_bond_publ_flag
S1 O1 . 1.4437(15) ?
S1 O1 2_655 1.4437(15) ?
S1 C5 . 1.790(2) ?
S1 C5 2_655 1.790(2) ?
C1 C2 . 1.368(4) ?
C1 C7 . 1.380(4) ?
C1 H1 . 0.9300 ?
C2 C3 . 1.387(4) ?
C2 H2 . 0.9300 ?
C3 C4 . 1.383(3) ?
C3 H3 . 0.9300 ?
C4 C6 . 1.388(3) ?
C4 C5 . 1.513(3) ?
C5 H5A . 0.9700 ?
C5 H5B . 0.9700 ?
C6 C7 . 1.371(3) ?
C6 H6 . 0.9300 ?
C7 H7 . 0.9300 ?
