#------------------------------------------------------------------------------
#$Date: 2018-08-13 15:26:29 +0200 (lun 13 de ago de 2018) $
#$Revision: 209649 $
#$URL: svn://www.crystallography.net/cod/cif/2/30/03/2300317.cif $
#------------------------------------------------------------------------------
#
# This file is available in the Crystallography Open Database (COD),
# http://www.crystallography.net/. The original data for this entry
# were provided by IUCr Journals, http://journals.iucr.org/.
#
# The file may be used within the scientific community so long as
# proper attribution is given to the journal article from which the
# data were obtained.
#
data_2300317
loop_
_publ_author_name
'Eccles, Kevin S.'
'Stokes, Stephen P.'
'Daly, Carla A.'
'Barry, Nicola M.'
'McSweeney, Sharon P.'
'O'Neill, Damian J.'
'Kelly, Dawn M.'
'Jennings, W. Brian'
'Ní Dhubhghaill, O. M.'
'Moynihan, Humphrey A.'
'Maguire, Anita R.'
'Lawrence, Simon E.'
_publ_section_title
;
 Evaluation of the Bruker SMART X2S: crystallography for the
 nonspecialist?
;
_journal_coden_ASTM              JACGAR
_journal_coeditor_code           KK5074
_journal_issue                   1
_journal_name_full               'Journal of Applied Crystallography'
_journal_page_first              213
_journal_page_last               215
_journal_paper_doi               10.1107/S0021889810042561
_journal_volume                  44
_journal_year                    2011
_chemical_formula_moiety         'C13 H10 O S'
_chemical_formula_sum            'C13 H10 O S'
_chemical_formula_weight         214.27
_space_group_IT_number           14
_symmetry_cell_setting           monoclinic
_symmetry_space_group_name_Hall  '-P 2yn'
_symmetry_space_group_name_H-M   'P 1 21/n 1'
_atom_sites_solution_hydrogens   geom
_atom_sites_solution_primary     direct
_atom_sites_solution_secondary   difmap
_audit_creation_method           SHELXL-97
_cell_angle_alpha                90.00
_cell_angle_beta                 95.097(10)
_cell_angle_gamma                90.00
_cell_formula_units_Z            4
_cell_length_a                   8.007(2)
_cell_length_b                   16.958(5)
_cell_length_c                   8.031(2)
_cell_measurement_reflns_used    2019
_cell_measurement_temperature    300(2)
_cell_measurement_theta_max      25.10
_cell_measurement_theta_min      2.82
_cell_volume                     1086.2(5)
_computing_cell_refinement       'Bruker SAINT'
_computing_data_collection       'Bruker GIS'
_computing_data_reduction        'Bruker SAINT'
_computing_molecular_graphics    'Bruker APEX2'
_computing_structure_refinement  'SHELXL-97 (Sheldrick, 2008)'
_computing_structure_solution    'SHELXS-97 (Sheldrick, 2008)'
_diffrn_ambient_temperature      300(2)
_diffrn_measured_fraction_theta_full 0.992
_diffrn_measured_fraction_theta_max 0.992
_diffrn_measurement_device_type  'Bruker SMART X2S'
_diffrn_measurement_method       'ω scans'
_diffrn_radiation_monochromator  'doubly curved silicon crystal'
_diffrn_radiation_source         'micro-focus sealed tube'
_diffrn_radiation_type           MoK\a
_diffrn_radiation_wavelength     0.71073
_diffrn_reflns_av_R_equivalents  0.0488
_diffrn_reflns_av_sigmaI/netI    0.0465
_diffrn_reflns_limit_h_max       9
_diffrn_reflns_limit_h_min       -9
_diffrn_reflns_limit_k_max       20
_diffrn_reflns_limit_k_min       -20
_diffrn_reflns_limit_l_max       7
_diffrn_reflns_limit_l_min       -9
_diffrn_reflns_number            6685
_diffrn_reflns_theta_full        25.10
_diffrn_reflns_theta_max         25.10
_diffrn_reflns_theta_min         2.40
_exptl_absorpt_coefficient_mu    0.265
_exptl_absorpt_correction_T_max  0.9318
_exptl_absorpt_correction_T_min  0.9223
_exptl_absorpt_correction_type   multi-scan
_exptl_absorpt_process_details   'SADABS V2008/1 (Bruker AXS)'
_exptl_crystal_colour            colorless
_exptl_crystal_density_diffrn    1.310
_exptl_crystal_density_method    'not measured'
_exptl_crystal_description       block
_exptl_crystal_F_000             448
_exptl_crystal_size_max          0.31
_exptl_crystal_size_mid          0.31
_exptl_crystal_size_min          0.27
_refine_diff_density_max         0.323
_refine_diff_density_min         -0.254
_refine_ls_extinction_method     none
_refine_ls_goodness_of_fit_ref   1.082
_refine_ls_hydrogen_treatment    constr
_refine_ls_matrix_type           full
_refine_ls_number_parameters     136
_refine_ls_number_reflns         1910
_refine_ls_number_restraints     0
_refine_ls_restrained_S_all      1.082
_refine_ls_R_factor_all          0.0726
_refine_ls_R_factor_gt           0.0466
_refine_ls_shift/su_max          0.001
_refine_ls_shift/su_mean         0.000
_refine_ls_structure_factor_coef Fsqd
_refine_ls_weighting_details
'calc w=1/[σ²(Fo²)+(0.0875P)²+0.0000P] where P=(Fo²+2Fc²)/3'
_refine_ls_weighting_scheme      calc
_refine_ls_wR_factor_gt          0.1249
_refine_ls_wR_factor_ref         0.1517
_reflns_number_gt                1366
_reflns_number_total             1910
_reflns_threshold_expression     >2sigma(I)
_cod_data_source_file            kk5074.cif
_cod_data_source_block           Compound_5_CCDC
_cod_depositor_comments
;
The following automatic conversions were performed:
'_symmetry_cell_setting' value 'Monoclinic' changed to 'monoclinic'
according to '/home/saulius/struct/CIF-dictionaries/cif_core.dic'
dictionary named 'cif_core.dic' version 2.4.1 from 2010-06-29.

Automatic conversion script
Id: cif_fix_enum 1555 2011-01-17 13:19:09Z saulius 
;
_cod_original_cell_volume        1086.1(5)
_cod_original_sg_symbol_H-M      P12(1)/n1
_cod_database_code               2300317
loop_
_symmetry_equiv_pos_as_xyz
'x, y, z'
'-x+1/2, y+1/2, -z+1/2'
'-x, -y, -z'
'x-1/2, -y-1/2, z-1/2'
loop_
_atom_site_type_symbol
_atom_site_label
_atom_site_fract_x
_atom_site_fract_y
_atom_site_fract_z
_atom_site_U_iso_or_equiv
_atom_site_adp_type
_atom_site_calc_flag
_atom_site_refinement_flags
_atom_site_occupancy
_atom_site_disorder_assembly
_atom_site_disorder_group
S S1 0.95308(8) 0.89514(5) 0.33211(9) 0.0507(3) Uani d . 1 . .
O O9 1.1091(3) 0.78594(14) 0.5555(3) 0.0697(7) Uani d . 1 . .
C C13 0.7126(4) 1.0597(2) -0.0634(4) 0.0657(9) Uani d . 1 . .
H H13 0.6673 1.0936 -0.1463 0.079 Uiso calc R 1 . .
C C12 0.7805(4) 1.0894(2) 0.0841(4) 0.0681(9) Uani d . 1 . .
H H12 0.7802 1.1435 0.1026 0.082 Uiso calc R 1 . .
C C11 0.8499(4) 1.03928(19) 0.2066(4) 0.0580(8) Uani d . 1 . .
H H11 0.8970 1.0599 0.3074 0.070 Uiso calc R 1 . .
C C10 0.8500(3) 0.95873(17) 0.1806(3) 0.0440(6) Uani d . 1 . .
C C2 0.7876(3) 0.86483(16) 0.4498(3) 0.0406(6) Uani d . 1 . .
C C3 0.8173(3) 0.80788(15) 0.5752(3) 0.0452(7) Uani d . 1 . .
C C4 0.6855(4) 0.78208(19) 0.6636(4) 0.0604(8) Uani d . 1 . .
H H4 0.7058 0.7439 0.7460 0.073 Uiso calc R 1 . .
C C5 0.5271(4) 0.8115(2) 0.6320(4) 0.0660(9) Uani d . 1 . .
H H5 0.4401 0.7929 0.6906 0.079 Uiso calc R 1 . .
C C14 0.7104(4) 0.9800(3) -0.0911(4) 0.0735(10) Uani d . 1 . .
H H14 0.6627 0.9602 -0.1924 0.088 Uiso calc R 1 . .
C C15 0.7787(4) 0.9287(2) 0.0311(4) 0.0624(8) Uani d . 1 . .
H H15 0.7766 0.8746 0.0125 0.075 Uiso calc R 1 . .
C C7 0.6253(3) 0.89590(18) 0.4229(4) 0.0505(7) Uani d . 1 . .
H H7 0.6029 0.9353 0.3435 0.061 Uiso calc R 1 . .
C C6 0.4983(4) 0.8686(2) 0.5132(4) 0.0608(8) Uani d . 1 . .
H H6 0.3911 0.8895 0.4926 0.073 Uiso calc R 1 . .
C C8 0.9816(4) 0.77186(18) 0.6176(4) 0.0604(8) Uani d . 1 . .
H H8 0.9879 0.7340 0.7016 0.072 Uiso calc R 1 . .
loop_
_atom_site_aniso_label
_atom_site_aniso_U_11
_atom_site_aniso_U_22
_atom_site_aniso_U_33
_atom_site_aniso_U_12
_atom_site_aniso_U_13
_atom_site_aniso_U_23
S1 0.0457(4) 0.0526(5) 0.0545(5) 0.0039(3) 0.0086(3) 0.0098(3)
O9 0.0586(13) 0.0641(15) 0.0862(16) 0.0103(11) 0.0048(12) 0.0112(12)
C13 0.0630(19) 0.073(3) 0.060(2) 0.0035(17) -0.0011(16) 0.0179(17)
C12 0.079(2) 0.052(2) 0.071(2) 0.0047(16) -0.0055(18) 0.0105(16)
C11 0.0697(18) 0.049(2) 0.0536(17) -0.0013(15) -0.0049(15) -0.0019(14)
C10 0.0422(14) 0.0471(18) 0.0435(14) -0.0019(12) 0.0077(11) 0.0019(12)
C2 0.0440(14) 0.0361(15) 0.0416(14) -0.0028(11) 0.0023(11) -0.0082(11)
C3 0.0556(16) 0.0326(15) 0.0472(15) -0.0039(12) 0.0041(13) -0.0021(12)
C4 0.070(2) 0.0509(19) 0.0616(19) -0.0069(15) 0.0128(16) 0.0056(15)
C5 0.065(2) 0.069(2) 0.067(2) -0.0158(17) 0.0248(16) 0.0006(17)
C14 0.082(2) 0.091(3) 0.0454(17) -0.003(2) -0.0073(16) 0.0006(18)
C15 0.078(2) 0.057(2) 0.0519(18) -0.0019(16) 0.0047(16) -0.0039(15)
C7 0.0486(15) 0.0544(19) 0.0481(16) 0.0008(13) 0.0017(13) -0.0016(13)
C6 0.0449(16) 0.075(2) 0.0637(19) -0.0020(15) 0.0085(14) -0.0059(17)
C8 0.069(2) 0.0398(18) 0.072(2) 0.0017(15) 0.0011(17) 0.0125(15)
loop_
_atom_type_symbol
_atom_type_description
_atom_type_scat_dispersion_real
_atom_type_scat_dispersion_imag
_atom_type_scat_source
C C 0.0033 0.0016 'International Tables Vol C Tables 4.2.6.8 and 6.1.1.4'
H H 0.0000 0.0000 'International Tables Vol C Tables 4.2.6.8 and 6.1.1.4'
O O 0.0106 0.0060 'International Tables Vol C Tables 4.2.6.8 and 6.1.1.4'
S S 0.1246 0.1234 'International Tables Vol C Tables 4.2.6.8 and 6.1.1.4'
loop_
_geom_angle_atom_site_label_1
_geom_angle_atom_site_label_2
_geom_angle_atom_site_label_3
_geom_angle_site_symmetry_1
_geom_angle_site_symmetry_3
_geom_angle
_geom_angle_publ_flag
C2 S1 C10 . . 102.59(12) ?
C12 C13 C14 . . 120.5(3) ?
C12 C13 H13 . . 119.7 ?
C14 C13 H13 . . 119.7 ?
C13 C12 C11 . . 119.9(3) ?
C13 C12 H12 . . 120.0 ?
C11 C12 H12 . . 120.0 ?
C12 C11 C10 . . 120.5(3) ?
C12 C11 H11 . . 119.8 ?
C10 C11 H11 . . 119.8 ?
C15 C10 C11 . . 119.3(3) ?
C15 C10 S1 . . 120.3(2) ?
C11 C10 S1 . . 120.3(2) ?
C3 C2 C7 . . 117.8(3) ?
C3 C2 S1 . . 119.8(2) ?
C7 C2 S1 . . 122.4(2) ?
C4 C3 C2 . . 119.6(3) ?
C4 C3 C8 . . 117.2(3) ?
C2 C3 C8 . . 123.2(3) ?
C5 C4 C3 . . 121.6(3) ?
C5 C4 H4 . . 119.2 ?
C3 C4 H4 . . 119.2 ?
C6 C5 C4 . . 119.1(3) ?
C6 C5 H5 . . 120.5 ?
C4 C5 H5 . . 120.5 ?
C13 C14 C15 . . 120.3(3) ?
C13 C14 H14 . . 119.8 ?
C15 C14 H14 . . 119.8 ?
C10 C15 C14 . . 119.4(3) ?
C10 C15 H15 . . 120.3 ?
C14 C15 H15 . . 120.3 ?
C6 C7 C2 . . 120.6(3) ?
C6 C7 H7 . . 119.7 ?
C2 C7 H7 . . 119.7 ?
C5 C6 C7 . . 121.2(3) ?
C5 C6 H6 . . 119.4 ?
C7 C6 H6 . . 119.4 ?
O9 C8 C3 . . 127.0(3) ?
O9 C8 H8 . . 116.5 ?
C3 C8 H8 . . 116.5 ?
loop_
_geom_bond_atom_site_label_1
_geom_bond_atom_site_label_2
_geom_bond_site_symmetry_2
_geom_bond_distance
_geom_bond_publ_flag
S1 C2 . 1.771(3) ?
S1 C10 . 1.773(3) ?
O9 C8 . 1.199(4) ?
C13 C12 . 1.355(4) ?
C13 C14 . 1.369(5) ?
C13 H13 . 0.9300 ?
C12 C11 . 1.379(4) ?
C12 H12 . 0.9300 ?
C11 C10 . 1.382(4) ?
C11 H11 . 0.9300 ?
C10 C15 . 1.380(4) ?
C2 C3 . 1.400(4) ?
C2 C7 . 1.401(4) ?
C3 C4 . 1.394(4) ?
C3 C8 . 1.463(4) ?
C4 C5 . 1.365(5) ?
C4 H4 . 0.9300 ?
C5 C6 . 1.365(5) ?
C5 H5 . 0.9300 ?
C14 C15 . 1.387(5) ?
C14 H14 . 0.9300 ?
C15 H15 . 0.9300 ?
C7 C6 . 1.380(4) ?
C7 H7 . 0.9300 ?
C6 H6 . 0.9300 ?
C8 H8 . 0.9300 ?
loop_
_cod_related_entry_id
_cod_related_entry_database
_cod_related_entry_code
1 ChemSpider 10592399
