#------------------------------------------------------------------------------
#$Date: 2018-08-13 15:26:29 +0200 (lun 13 de ago de 2018) $
#$Revision: 209649 $
#$URL: svn://www.crystallography.net/cod/cif/2/30/03/2300326.cif $
#------------------------------------------------------------------------------
#
# This file is available in the Crystallography Open Database (COD),
# http://www.crystallography.net/. The original data for this entry
# were provided by IUCr Journals, http://journals.iucr.org/.
#
# The file may be used within the scientific community so long as
# proper attribution is given to the journal article from which the
# data were obtained.
#
data_2300326
loop_
_publ_author_name
'Eccles, Kevin S.'
'Stokes, Stephen P.'
'Daly, Carla A.'
'Barry, Nicola M.'
'McSweeney, Sharon P.'
'O'Neill, Damian J.'
'Kelly, Dawn M.'
'Jennings, W. Brian'
'Ní Dhubhghaill, O. M.'
'Moynihan, Humphrey A.'
'Maguire, Anita R.'
'Lawrence, Simon E.'
_publ_section_title
;
 Evaluation of the Bruker SMART X2S: crystallography for the
 nonspecialist?
;
_journal_coden_ASTM              JACGAR
_journal_coeditor_code           KK5074
_journal_issue                   1
_journal_name_full               'Journal of Applied Crystallography'
_journal_page_first              213
_journal_page_last               215
_journal_paper_doi               10.1107/S0021889810042561
_journal_volume                  44
_journal_year                    2011
_chemical_formula_moiety         'C13 H10 F2 O S'
_chemical_formula_sum            'C13 H10 F2 O S'
_chemical_formula_weight         252.27
_space_group_IT_number           29
_symmetry_cell_setting           orthorhombic
_symmetry_space_group_name_Hall  'P 2c -2ac'
_symmetry_space_group_name_H-M   'P c a 21'
_atom_sites_solution_hydrogens   geom
_atom_sites_solution_primary     direct
_atom_sites_solution_secondary   difmap
_audit_creation_method           SHELXL-97
_cell_angle_alpha                90.00
_cell_angle_beta                 90.00
_cell_angle_gamma                90.00
_cell_formula_units_Z            4
_cell_length_a                   8.3649(16)
_cell_length_b                   5.5063(10)
_cell_length_c                   25.129(4)
_cell_measurement_reflns_used    2280
_cell_measurement_temperature    300(2)
_cell_measurement_theta_max      24.67
_cell_measurement_theta_min      3.70
_cell_volume                     1157.4(4)
_computing_cell_refinement       'Bruker SAINT'
_computing_data_collection       'Bruker GIS'
_computing_data_reduction        'Bruker SAINT'
_computing_molecular_graphics    'Bruker APEX2'
_computing_structure_refinement  'SHELXL-97 (Sheldrick, 2008)'
_computing_structure_solution    'SHELXS-97 (Sheldrick, 2008)'
_diffrn_ambient_temperature      300(2)
_diffrn_measured_fraction_theta_full 0.999
_diffrn_measured_fraction_theta_max 0.999
_diffrn_measurement_device_type  'Bruker SMART X2S'
_diffrn_measurement_method       'ω scans'
_diffrn_radiation_monochromator  'doubly curved silicon crystal'
_diffrn_radiation_source         'micro-focus sealed tube'
_diffrn_radiation_type           MoK\a
_diffrn_radiation_wavelength     0.71073
_diffrn_reflns_av_R_equivalents  0.0370
_diffrn_reflns_av_sigmaI/netI    0.0343
_diffrn_reflns_limit_h_max       9
_diffrn_reflns_limit_h_min       -9
_diffrn_reflns_limit_k_max       5
_diffrn_reflns_limit_k_min       -6
_diffrn_reflns_limit_l_max       28
_diffrn_reflns_limit_l_min       -29
_diffrn_reflns_number            6646
_diffrn_reflns_theta_full        25.03
_diffrn_reflns_theta_max         25.03
_diffrn_reflns_theta_min         1.62
_exptl_absorpt_coefficient_mu    0.285
_exptl_absorpt_correction_T_max  0.8708
_exptl_absorpt_correction_T_min  0.7491
_exptl_absorpt_correction_type   multi-scan
_exptl_absorpt_process_details   'SADABS V2008/1 (Bruker AXS)'
_exptl_crystal_colour            colorless
_exptl_crystal_density_diffrn    1.448
_exptl_crystal_density_method    'not measured'
_exptl_crystal_description       block
_exptl_crystal_F_000             520
_exptl_crystal_size_max          0.31
_exptl_crystal_size_mid          0.27
_exptl_crystal_size_min          0.24
_refine_diff_density_max         0.176
_refine_diff_density_min         -0.186
_refine_ls_abs_structure_details 'Flack H D (1983), Acta Cryst. A39, 876-881'
_refine_ls_abs_structure_Flack   -0.07(10)
_refine_ls_extinction_method     none
_refine_ls_goodness_of_fit_ref   1.190
_refine_ls_hydrogen_treatment    constr
_refine_ls_matrix_type           full
_refine_ls_number_parameters     154
_refine_ls_number_reflns         2013
_refine_ls_number_restraints     1
_refine_ls_restrained_S_all      1.190
_refine_ls_R_factor_all          0.0449
_refine_ls_R_factor_gt           0.0338
_refine_ls_shift/su_max          0.020
_refine_ls_shift/su_mean         0.004
_refine_ls_structure_factor_coef Fsqd
_refine_ls_weighting_details
'calc w=1/[σ²(Fo²)+(0.0681P)²+0.0000P] where P=(Fo²+2Fc²)/3'
_refine_ls_weighting_scheme      calc
_refine_ls_wR_factor_gt          0.0886
_refine_ls_wR_factor_ref         0.1182
_reflns_number_gt                1760
_reflns_number_total             2013
_reflns_threshold_expression     >2sigma(I)
_cod_data_source_file            kk5074.cif
_cod_data_source_block           Compound_9_X2S
_cod_depositor_comments
;
The following automatic conversions were performed:
'_symmetry_cell_setting' value 'Orthorhombic' changed to 'orthorhombic'
according to '/home/saulius/struct/CIF-dictionaries/cif_core.dic'
dictionary named 'cif_core.dic' version 2.4.1 from 2010-06-29.

Automatic conversion script
Id: cif_fix_enum 1555 2011-01-17 13:19:09Z saulius 
;
_cod_original_sg_symbol_H-M      Pca2(1)
_cod_database_code               2300326
loop_
_symmetry_equiv_pos_as_xyz
'x, y, z'
'-x, -y, z+1/2'
'-x+1/2, y, z+1/2'
'x+1/2, -y, z'
loop_
_atom_site_type_symbol
_atom_site_label
_atom_site_fract_x
_atom_site_fract_y
_atom_site_fract_z
_atom_site_U_iso_or_equiv
_atom_site_adp_type
_atom_site_calc_flag
_atom_site_refinement_flags
_atom_site_occupancy
_atom_site_disorder_assembly
_atom_site_disorder_group
S S1 0.29434(9) 0.17051(14) 0.00059(3) 0.0413(2) Uani d . 1 . .
F F1 0.5368(4) 0.3431(4) -0.21543(9) 0.0785(8) Uani d . 1 . .
F F2 0.2986(4) 0.1816(5) 0.25419(9) 0.0833(10) Uani d . 1 . .
O O1 0.3161(3) -0.0944(4) 0.01086(11) 0.0571(7) Uani d . 1 . .
C C1 0.4817(5) 0.3033(8) -0.16523(14) 0.0539(10) Uani d . 1 . .
C C2 0.5299(5) 0.0960(8) -0.13933(16) 0.0543(10) Uani d . 1 . .
H H2 0.5982 -0.0150 -0.1555 0.065 Uiso calc R 1 . .
C C3 0.4728(4) 0.0590(7) -0.08826(14) 0.0449(8) Uani d . 1 . .
H H3 0.5015 -0.0808 -0.0698 0.054 Uiso calc R 1 . .
C C4 0.3734(4) 0.2274(6) -0.06441(12) 0.0376(7) Uani d . 1 . .
C C5 0.4491(4) 0.3284(6) 0.03887(13) 0.0389(8) Uani d . 1 . .
H H5A 0.5535 0.2622 0.0305 0.047 Uiso calc R 1 . .
H H5B 0.4491 0.5000 0.0301 0.047 Uiso calc R 1 . .
C C6 0.4130(4) 0.2934(6) 0.09713(13) 0.0355(8) Uani d . 1 . .
C C7 0.3139(4) 0.4548(6) 0.12431(16) 0.0447(8) Uani d . 1 . .
H H7 0.2734 0.5894 0.1065 0.054 Uiso calc R 1 . .
C C8 0.2746(5) 0.4194(8) 0.17711(15) 0.0534(9) Uani d . 1 . .
H H8 0.2073 0.5264 0.1950 0.064 Uiso calc R 1 . .
C C9 0.3383(5) 0.2213(8) 0.20225(15) 0.0501(9) Uani d . 1 . .
C C10 0.3817(5) 0.4729(8) -0.14335(15) 0.0557(10) Uani d . 1 . .
H H10 0.3514 0.6102 -0.1624 0.067 Uiso calc R 1 . .
C C11 0.3270(5) 0.4339(7) -0.09210(16) 0.0495(9) Uani d . 1 . .
H H11 0.2590 0.5461 -0.0762 0.059 Uiso calc R 1 . .
C C12 0.4383(4) 0.0590(8) 0.17791(15) 0.0521(10) Uani d . 1 . .
H H12 0.4804 -0.0725 0.1964 0.063 Uiso calc R 1 . .
C C13 0.4747(4) 0.0967(7) 0.12502(16) 0.0468(9) Uani d . 1 . .
H H13 0.5419 -0.0119 0.1076 0.056 Uiso calc R 1 . .
loop_
_atom_site_aniso_label
_atom_site_aniso_U_11
_atom_site_aniso_U_22
_atom_site_aniso_U_33
_atom_site_aniso_U_12
_atom_site_aniso_U_13
_atom_site_aniso_U_23
S1 0.0374(4) 0.0481(5) 0.0383(4) -0.0047(3) 0.0004(4) -0.0003(5)
F1 0.102(2) 0.095(2) 0.0385(13) -0.0210(15) 0.0127(13) 0.0005(14)
F2 0.108(3) 0.106(2) 0.0354(13) 0.0111(16) 0.0135(14) 0.0080(14)
O1 0.0728(17) 0.0439(14) 0.0547(19) -0.0159(12) 0.0016(13) 0.0059(13)
C1 0.064(2) 0.066(3) 0.0309(18) -0.016(2) 0.0007(17) -0.0048(18)
C2 0.056(2) 0.056(3) 0.051(2) 0.0008(19) 0.0058(18) -0.0130(19)
C3 0.049(2) 0.0390(18) 0.046(2) 0.0013(16) -0.0057(16) -0.0006(17)
C4 0.0372(17) 0.0408(19) 0.0348(17) -0.0036(14) -0.0052(14) -0.0015(15)
C5 0.0365(17) 0.0358(19) 0.044(2) -0.0057(14) 0.0007(14) -0.0021(14)
C6 0.0307(16) 0.0359(18) 0.0399(19) -0.0039(13) -0.0016(12) -0.0019(14)
C7 0.047(2) 0.044(2) 0.043(2) 0.0070(15) -0.0016(17) -0.0015(19)
C8 0.054(2) 0.063(2) 0.043(2) 0.0097(19) 0.0076(17) -0.0108(18)
C9 0.054(2) 0.065(3) 0.0320(18) -0.0019(19) 0.0019(16) 0.0001(18)
C10 0.069(3) 0.055(2) 0.043(2) -0.005(2) -0.0079(19) 0.0074(19)
C11 0.055(2) 0.044(2) 0.050(2) 0.0074(17) -0.0038(17) 0.0014(18)
C12 0.056(2) 0.058(2) 0.042(2) 0.0077(19) 0.0001(17) 0.0115(17)
C13 0.0467(19) 0.048(2) 0.045(2) 0.0098(15) 0.0018(18) -0.0029(19)
loop_
_atom_type_symbol
_atom_type_description
_atom_type_scat_dispersion_real
_atom_type_scat_dispersion_imag
_atom_type_scat_source
C C 0.0033 0.0016 'International Tables Vol C Tables 4.2.6.8 and 6.1.1.4'
H H 0.0000 0.0000 'International Tables Vol C Tables 4.2.6.8 and 6.1.1.4'
O O 0.0106 0.0060 'International Tables Vol C Tables 4.2.6.8 and 6.1.1.4'
F F 0.0171 0.0103 'International Tables Vol C Tables 4.2.6.8 and 6.1.1.4'
S S 0.1246 0.1234 'International Tables Vol C Tables 4.2.6.8 and 6.1.1.4'
loop_
_geom_angle_atom_site_label_1
_geom_angle_atom_site_label_2
_geom_angle_atom_site_label_3
_geom_angle_site_symmetry_1
_geom_angle_site_symmetry_3
_geom_angle
_geom_angle_publ_flag
O1 S1 C4 . . 106.50(16) ?
O1 S1 C5 . . 106.67(15) ?
C4 S1 C5 . . 97.76(15) ?
F1 C1 C10 . . 118.0(4) ?
F1 C1 C2 . . 118.2(4) ?
C10 C1 C2 . . 123.7(4) ?
C1 C2 C3 . . 117.4(4) ?
C1 C2 H2 . . 121.3 ?
C3 C2 H2 . . 121.3 ?
C4 C3 C2 . . 120.7(3) ?
C4 C3 H3 . . 119.6 ?
C2 C3 H3 . . 119.6 ?
C3 C4 C11 . . 120.0(3) ?
C3 C4 S1 . . 120.0(3) ?
C11 C4 S1 . . 119.8(3) ?
C6 C5 S1 . . 107.9(2) ?
C6 C5 H5A . . 110.1 ?
S1 C5 H5A . . 110.1 ?
C6 C5 H5B . . 110.1 ?
S1 C5 H5B . . 110.1 ?
H5A C5 H5B . . 108.4 ?
C13 C6 C7 . . 118.1(3) ?
C13 C6 C5 . . 121.0(3) ?
C7 C6 C5 . . 120.9(3) ?
C8 C7 C6 . . 121.5(3) ?
C8 C7 H7 . . 119.3 ?
C6 C7 H7 . . 119.3 ?
C9 C8 C7 . . 117.6(3) ?
C9 C8 H8 . . 121.2 ?
C7 C8 H8 . . 121.2 ?
F2 C9 C12 . . 118.1(4) ?
F2 C9 C8 . . 118.3(3) ?
C12 C9 C8 . . 123.5(3) ?
C1 C10 C11 . . 118.1(4) ?
C1 C10 H10 . . 121.0 ?
C11 C10 H10 . . 121.0 ?
C10 C11 C4 . . 120.1(4) ?
C10 C11 H11 . . 120.0 ?
C4 C11 H11 . . 120.0 ?
C9 C12 C13 . . 117.9(4) ?
C9 C12 H12 . . 121.1 ?
C13 C12 H12 . . 121.1 ?
C12 C13 C6 . . 121.4(3) ?
C12 C13 H13 . . 119.3 ?
C6 C13 H13 . . 119.3 ?
loop_
_geom_bond_atom_site_label_1
_geom_bond_atom_site_label_2
_geom_bond_site_symmetry_2
_geom_bond_distance
_geom_bond_publ_flag
S1 O1 . 1.493(3) ?
S1 C4 . 1.790(3) ?
S1 C5 . 1.832(3) ?
F1 C1 . 1.361(4) ?
F2 C9 . 1.364(5) ?
C1 C10 . 1.369(6) ?
C1 C2 . 1.375(6) ?
C2 C3 . 1.384(5) ?
C2 H2 . 0.9300 ?
C3 C4 . 1.382(5) ?
C3 H3 . 0.9300 ?
C4 C11 . 1.388(5) ?
C5 C6 . 1.507(5) ?
C5 H5A . 0.9700 ?
C5 H5B . 0.9700 ?
C6 C13 . 1.390(5) ?
C6 C7 . 1.393(5) ?
C7 C8 . 1.381(5) ?
C7 H7 . 0.9300 ?
C8 C9 . 1.368(6) ?
C8 H8 . 0.9300 ?
C9 C12 . 1.369(6) ?
C10 C11 . 1.384(6) ?
C10 H10 . 0.9300 ?
C11 H11 . 0.9300 ?
C12 C13 . 1.379(5) ?
C12 H12 . 0.9300 ?
C13 H13 . 0.9300 ?
