#------------------------------------------------------------------------------
#$Date: 2018-09-27 06:13:35 +0200 (jue 27 de sep de 2018) $
#$Revision: 211196 $
#$URL: svn://www.crystallography.net/cod/cif/2/31/01/2310190.cif $
#------------------------------------------------------------------------------
#
# This file is available in the Crystallography Open Database (COD),
# http://www.crystallography.net/. The original data for this entry
# were provided by IUCr Journals, http://journals.iucr.org/.
#
# The file may be used within the scientific community so long as
# proper attribution is given to the journal article from which the
# data were obtained.
#
data_2310190
loop_
_publ_author_name
'Faber, J.jr.'
'Lander, G.H.'
'Brown, P.J.'
'Delapalme, A.'
_publ_section_title
;
 Neutron diffraction study of thermal parameters in U X3 compounds
;
_journal_name_full               'Acta Crystallographica A (24,1968-38,1982)'
_journal_page_first              558
_journal_page_last               565
_journal_volume                  37
_journal_year                    1981
_chemical_formula_sum            'Rh3 U'
_space_group_IT_number           221
_symmetry_space_group_name_Hall  '-P 4 2 3'
_symmetry_space_group_name_H-M   'P m -3 m'
_cell_angle_alpha                90
_cell_angle_beta                 90
_cell_angle_gamma                90
_cell_formula_units_Z            1
_cell_length_a                   3.988
_cell_length_b                   3.988
_cell_length_c                   3.988
_cell_volume                     63.426
_citation_journal_id_ASTM        ACACBN
_cod_data_source_file            Faber_ACACBN_1981_1975.cif
_cod_data_source_block           Rh3U1
_cod_original_cell_volume        63.42572
_cod_original_formula_sum        'Rh3 U1'
_cod_database_code               2310190
loop_
_symmetry_equiv_pos_as_xyz
x,y,z
-y,x,z
-x,-y,z
y,-x,z
x,-y,-z
y,x,-z
-x,y,-z
-y,-x,-z
z,x,y
-x,z,y
-z,-x,y
x,-z,y
z,-x,-y
x,z,-y
-z,x,-y
-x,-z,-y
y,z,x
y,-z,-x
z,y,-x
-y,z,-x
-z,-y,-x
-y,-z,x
z,-y,x
-z,y,x
-x,-y,-z
y,-x,-z
x,y,-z
-y,x,-z
-x,y,z
-y,-x,z
x,-y,z
y,x,z
-z,-x,-y
x,-z,-y
z,x,-y
-x,z,-y
-z,x,y
-x,-z,y
z,-x,y
x,z,y
-y,-z,-x
-y,z,x
-z,-y,x
y,-z,x
z,y,x
y,z,-x
-z,y,-x
z,-y,-x
loop_
_atom_site_label
_atom_site_type_symbol
_atom_site_fract_x
_atom_site_fract_y
_atom_site_fract_z
_atom_site_occupancy
_atom_site_U_iso_or_equiv
Rh1 Rh 0 0.5 0.5 1 0.0
U1 U 0 0 0 1 0.0
