#------------------------------------------------------------------------------
#$Date: 2016-12-12 09:17:37 +0100 (lun 12 de dic de 2016) $
#$Revision: 189067 $
#$URL: svn://www.crystallography.net/cod/cif/2/31/05/2310511.cif $
#------------------------------------------------------------------------------
#
# This file is available in the Crystallography Open Database (COD),
# http://www.crystallography.net/. The original data for this entry
# were provided by IUCr Journals, http://journals.iucr.org/.
#
# The file may be used within the scientific community so long as
# proper attribution is given to the journal article from which the
# data were obtained.
#
data_2310511
loop_
_publ_author_name
'Wiesner, J. R.'
'Srivastava, R. C.'
'Kennard, C. H. L.'
'di Vaira, M.'
'Lingafelter, E. C.'
_publ_section_title
;
 The crystal structures of tetramethylammonium tetrachloro- cobaltate(II),
 -nickelate(II), and -zincate(II)
;
_journal_issue                   4
_journal_name_full               'Acta Crystallographica (1,1948-23,1967)'
_journal_page_first              565
_journal_page_last               574
_journal_paper_doi               10.1107/S0365110X67003214
_journal_volume                  23
_journal_year                    1967
_chemical_formula_sum            'C8 H24 Cl4 Co N2'
_chemical_name_systematic        '(N (C H3)4)2 (Co Cl4)'
_space_group_IT_number           62
_symmetry_space_group_name_Hall  '-P 2ac 2n'
_symmetry_space_group_name_H-M   'P n m a'
_cell_angle_alpha                90
_cell_angle_beta                 90
_cell_angle_gamma                90
_cell_formula_units_Z            4
_cell_length_a                   12.276
_cell_length_b                   9.001
_cell_length_c                   15.539
_cell_volume                     1717.002
_citation_journal_id_ASTM        ACCRA9
_cod_data_source_file            Wiesner_ACCRA9_1967_1390.cif
_cod_data_source_block           C8H24Cl4Co1N2
_cod_depositor_comments
;
 Changing the z coordinate for atom 'C5' from 0.3943 to
 0.8943 after consulting the original publication.

 Antanas Vaitkus,
 2016-12-12
;
_cod_original_formula_sum        'C8 H24 Cl4 Co1 N2'
_cod_database_code               2310511
loop_
_symmetry_equiv_pos_as_xyz
x,y,z
-x+1/2,-y,z+1/2
x+1/2,-y+1/2,-z+1/2
-x,y+1/2,-z
-x,-y,-z
x-1/2,y,-z-1/2
-x-1/2,y-1/2,z-1/2
x,-y-1/2,z
loop_
_atom_site_label
_atom_site_type_symbol
_atom_site_fract_x
_atom_site_fract_y
_atom_site_fract_z
_atom_site_occupancy
_atom_site_U_iso_or_equiv
_atom_site_attached_hydrogens
N2 N+1 0.4936 0.25 0.8269 1 0.0 0
C5 C 0.4117 0.25 0.8943 1 0.0 3
C6 C 0.5404 0.3906 0.8434 1 0.0 3
Cl3 Cl-1 0.3145 0.25 0.54 1 0.0 0
Co1 Co+2 0.2447 0.25 0.407 1 0.0 0
C3 C 0.437 0.25 0.7378 1 0.0 3
C1 C 0.2614 0.25 0.0992 1 0.0 3
Cl2 Cl-1 0.3035 0.0432 0.3386 1 0.0 0
N1 N+1 0.1515 0.25 0.096 1 0.0 0
Cl1 Cl-1 0.0631 0.25 0.4055 1 0.0 0
C4 C 0.1103 0.3737 0.143 1 0.0 3
C2 C 0.1118 0.25 0.0043 1 0.0 3
