#------------------------------------------------------------------------------
#$Date: 2019-11-23 17:53:56 +0100 (Sat 23 de Nov de 2019) $
#$Revision: 234529 $
#$URL: svn://www.crystallography.net/cod/cif/4/03/63/4036308.cif $
#------------------------------------------------------------------------------
#
# This file is available in the Crystallography Open Database (COD),
# http://www.crystallography.net/
#
# All data on this site have been placed in the public domain by the
# contributors.
#
data_4036308
loop_
_publ_author_name
'Chaiyaveij, Duangduan'
'Batsanov, Andrei S.'
'Fox, Mark A.'
'Marder, Todd B.'
'Whiting, Andrew'
_publ_section_title
;
 An Experimental and Computational Approach to Understanding the Reactions
 of Acyl Nitroso Compounds in [4 + 2] Cycloadditions.
;
_journal_issue                   19
_journal_name_full               'The Journal of organic chemistry'
_journal_page_first              9518
_journal_page_last               9534
_journal_paper_doi               10.1021/acs.joc.5b01470
_journal_volume                  80
_journal_year                    2015
_chemical_formula_moiety         'C13 H13 N O2'
_chemical_formula_sum            'C13 H13 N O2'
_chemical_formula_weight         215.24
_chemical_melting_point          386
_chemical_name_systematic
;
 2-Oxa-3-azabicyclo[2.2.2]oct-5-en-3-yl(phenyl)metha-none 
;
_space_group_crystal_system      monoclinic
_space_group_IT_number           14
_space_group_name_Hall           '-P 2ybc'
_space_group_name_H-M_alt        'P 1 21/c 1'
_atom_sites_solution_hydrogens   geom
_atom_sites_solution_primary     direct
_atom_sites_solution_secondary   difmap
_audit_creation_date             2012-03-30
_audit_creation_method
;
  Olex2 1.1-beta
  (compiled 2011.11.01 svn.r2039, GUI svn.r3906)
;
_cell_angle_alpha                90.00
_cell_angle_beta                 108.091(10)
_cell_angle_gamma                90.00
_cell_formula_units_Z            4
_cell_length_a                   9.0358(9)
_cell_length_b                   10.3716(13)
_cell_length_c                   11.8962(14)
_cell_measurement_reflns_used    5077
_cell_measurement_temperature    120
_cell_measurement_theta_max      29.963
_cell_measurement_theta_min      2.371
_cell_volume                     1059.7(2)
_computing_cell_refinement       'SAINT v7.46A (Bruker, 2008)'
_computing_data_collection       'SMART v5.625 (Bruker, 2001)'
_computing_data_reduction        'SAINT v7.46A (Bruker, 2008)'
_computing_molecular_graphics
;
O. V. Dolomanov, L. J. Bourhis, R. J. Gildea, J. A. K. Howard and H. Puschmann,
OLEX2: a complete structure solution, refinement and analysis program.
J. Appl. Cryst. (2009). 42, 339-341.
;
_computing_publication_material
;
O. V. Dolomanov, L. J. Bourhis, R. J. Gildea, J. A. K. Howard and H. Puschmann,
OLEX2: a complete structure solution, refinement and analysis program.
J. Appl. Cryst. (2009). 42, 339-341.
;
_computing_structure_refinement
;
XL, G.M. Sheldrick, Acta Cryst. (2008). A64, 112-122
;
_computing_structure_solution
'XS, G.M. Sheldrick, Acta Cryst. (2008). A64, 112-122'
_diffrn_ambient_temperature      120
_diffrn_detector                 'CCD area detector'
_diffrn_detector_area_resol_mean 5.6
_diffrn_detector_type            'Bruker SMART CCD 6000 area detector'
_diffrn_measured_fraction_theta_full 1.000
_diffrn_measured_fraction_theta_max 1.000
_diffrn_measurement_device       'three-circle diffractometer'
_diffrn_measurement_device_type  'Bruker SMART CCD 6000 area detector'
_diffrn_measurement_method       'ω scans'
_diffrn_radiation_monochromator  graphite
_diffrn_radiation_probe          x-ray
_diffrn_radiation_type           MoK\a
_diffrn_radiation_wavelength     0.71073
_diffrn_radiation_xray_symbol    K-L~3~
_diffrn_reflns_av_R_equivalents  0.0274
_diffrn_reflns_av_unetI/netI     0.0226
_diffrn_reflns_limit_h_max       12
_diffrn_reflns_limit_h_min       -11
_diffrn_reflns_limit_k_max       14
_diffrn_reflns_limit_k_min       -14
_diffrn_reflns_limit_l_max       16
_diffrn_reflns_limit_l_min       -16
_diffrn_reflns_number            11139
_diffrn_reflns_theta_full        30.00
_diffrn_reflns_theta_max         30.00
_diffrn_reflns_theta_min         2.37
_diffrn_source                   'sealed X-ray tube'
_diffrn_source_current           35.0
_diffrn_source_power             1.75
_diffrn_source_target            Mo
_diffrn_source_voltage           50.0
_diffrn_standards_number         0
_exptl_absorpt_coefficient_mu    0.091
_exptl_absorpt_correction_type   none
_exptl_crystal_colour            colourless
_exptl_crystal_colour_primary    colourless
_exptl_crystal_density_diffrn    1.349
_exptl_crystal_density_method    'not measured'
_exptl_crystal_description       tablet
_exptl_crystal_F_000             456
_exptl_crystal_size_max          0.4
_exptl_crystal_size_mid          0.3
_exptl_crystal_size_min          0.2
_refine_diff_density_max         0.412
_refine_diff_density_min         -0.201
_refine_diff_density_rms         0.054
_refine_ls_extinction_method     none
_refine_ls_goodness_of_fit_ref   1.053
_refine_ls_hydrogen_treatment    constr
_refine_ls_matrix_type           full
_refine_ls_number_parameters     145
_refine_ls_number_reflns         3094
_refine_ls_number_restraints     0
_refine_ls_restrained_S_all      1.053
_refine_ls_R_factor_all          0.0534
_refine_ls_R_factor_gt           0.0465
_refine_ls_shift/su_max          0.000
_refine_ls_shift/su_mean         0.000
_refine_ls_structure_factor_coef Fsqd
_refine_ls_weighting_details
'calc w=1/[σ²(Fo²)+(0.0731P)²+0.3029P] where P=(Fo²+2Fc²)/3'
_refine_ls_weighting_scheme      calc
_refine_ls_wR_factor_gt          0.1252
_refine_ls_wR_factor_ref         0.1317
_reflns_number_gt                2639
_reflns_number_total             3094
_reflns_threshold_expression     I>2σ(I)
_cod_data_source_file            jo5b01470_si_002.cif
_cod_data_source_block           21
_cod_database_code               4036308
loop_
_space_group_symop_id
_space_group_symop_operation_xyz
1 'x, y, z'
2 '-x, y+1/2, -z+1/2'
3 '-x, -y, -z'
4 'x, -y-1/2, z-1/2'
loop_
_atom_site_label
_atom_site_type_symbol
_atom_site_fract_x
_atom_site_fract_y
_atom_site_fract_z
_atom_site_U_iso_or_equiv
_atom_site_adp_type
_atom_site_occupancy
_atom_site_symmetry_multiplicity
_atom_site_calc_flag
_atom_site_refinement_flags
O1 O 0.41409(9) 0.25324(7) 0.10014(8) 0.02264(19) Uani 1 1 d .
O2 O 0.70867(10) 0.02995(8) 0.21902(7) 0.0245(2) Uani 1 1 d .
N1 N 0.48331(11) 0.12697(8) 0.11513(8) 0.0196(2) Uani 1 1 d .
C1 C 0.64197(12) 0.12599(10) 0.16652(9) 0.0179(2) Uani 1 1 d .
C2 C 0.38716(13) 0.03073(10) 0.15278(10) 0.0210(2) Uani 1 1 d .
H2 H 0.4335 -0.0575 0.1580 0.025 Uiso 1 1 calc R
C3 C 0.37918(14) 0.07513(12) 0.27166(10) 0.0247(2) Uani 1 1 d .
H3 H 0.4085 0.0233 0.3409 0.030 Uiso 1 1 calc R
C4 C 0.32591(14) 0.19611(12) 0.26798(10) 0.0248(2) Uani 1 1 d .
H4 H 0.3180 0.2409 0.3355 0.030 Uiso 1 1 calc R
C5 C 0.28013(13) 0.25367(11) 0.14645(10) 0.0213(2) Uani 1 1 d .
H5 H 0.2410 0.3436 0.1481 0.026 Uiso 1 1 calc R
C6 C 0.15505(13) 0.17063(12) 0.06182(10) 0.0248(2) Uani 1 1 d .
H6A H 0.1241 0.2081 -0.0187 0.030 Uiso 1 1 calc R
H6B H 0.0618 0.1659 0.0886 0.030 Uiso 1 1 calc R
C7 C 0.22437(13) 0.03530(11) 0.06100(10) 0.0234(2) Uani 1 1 d .
H7A H 0.1563 -0.0301 0.0804 0.028 Uiso 1 1 calc R
H7B H 0.2316 0.0158 -0.0186 0.028 Uiso 1 1 calc R
C8 C 0.73074(12) 0.24036(10) 0.14629(9) 0.0175(2) Uani 1 1 d .
C9 C 0.86196(13) 0.27885(11) 0.23749(10) 0.0214(2) Uani 1 1 d .
H9 H 0.8902 0.2348 0.3111 0.026 Uiso 1 1 calc R
C10 C 0.95158(14) 0.38178(11) 0.22075(10) 0.0241(2) Uani 1 1 d .
H10 H 1.0394 0.4095 0.2835 0.029 Uiso 1 1 calc R
C11 C 0.91228(14) 0.44390(11) 0.11204(10) 0.0247(2) Uani 1 1 d .
H11 H 0.9738 0.5139 0.1005 0.030 Uiso 1 1 calc R
C12 C 0.78341(14) 0.40416(11) 0.02000(10) 0.0239(2) Uani 1 1 d .
H12 H 0.7582 0.4459 -0.0547 0.029 Uiso 1 1 calc R
C13 C 0.69125(13) 0.30322(11) 0.03721(9) 0.0207(2) Uani 1 1 d .
H13 H 0.6018 0.2772 -0.0250 0.025 Uiso 1 1 calc R
loop_
_atom_site_aniso_label
_atom_site_aniso_U_11
_atom_site_aniso_U_22
_atom_site_aniso_U_33
_atom_site_aniso_U_23
_atom_site_aniso_U_13
_atom_site_aniso_U_12
O1 0.0195(4) 0.0175(4) 0.0324(4) 0.0063(3) 0.0102(3) 0.0039(3)
O2 0.0233(4) 0.0220(4) 0.0277(4) 0.0066(3) 0.0072(3) 0.0045(3)
N1 0.0189(4) 0.0151(4) 0.0253(4) 0.0025(3) 0.0076(4) 0.0008(3)
C1 0.0195(5) 0.0182(5) 0.0169(4) 0.0001(3) 0.0070(4) 0.0008(3)
C2 0.0203(5) 0.0177(5) 0.0252(5) 0.0011(4) 0.0076(4) -0.0031(4)
C3 0.0219(5) 0.0306(6) 0.0207(5) 0.0025(4) 0.0053(4) -0.0068(4)
C4 0.0222(5) 0.0322(6) 0.0200(5) -0.0069(4) 0.0063(4) -0.0056(4)
C5 0.0178(5) 0.0214(5) 0.0250(5) -0.0033(4) 0.0068(4) 0.0005(4)
C6 0.0188(5) 0.0302(6) 0.0237(5) -0.0046(4) 0.0041(4) -0.0010(4)
C7 0.0215(5) 0.0236(5) 0.0240(5) -0.0056(4) 0.0058(4) -0.0041(4)
C8 0.0170(5) 0.0186(5) 0.0182(4) 0.0006(3) 0.0073(4) 0.0008(3)
C9 0.0183(5) 0.0261(5) 0.0196(5) 0.0002(4) 0.0054(4) -0.0001(4)
C10 0.0189(5) 0.0284(6) 0.0252(5) -0.0043(4) 0.0072(4) -0.0042(4)
C11 0.0253(6) 0.0235(5) 0.0300(6) -0.0028(4) 0.0156(5) -0.0051(4)
C12 0.0289(6) 0.0239(5) 0.0217(5) 0.0025(4) 0.0121(4) -0.0023(4)
C13 0.0215(5) 0.0226(5) 0.0180(4) 0.0004(4) 0.0060(4) -0.0018(4)
loop_
_atom_type_symbol
_atom_type_description
_atom_type_scat_dispersion_real
_atom_type_scat_dispersion_imag
_atom_type_scat_source
C C 0.0033 0.0016 'International Tables Vol C Tables 4.2.6.8 and 6.1.1.4'
H H 0.0000 0.0000 'International Tables Vol C Tables 4.2.6.8 and 6.1.1.4'
N N 0.0061 0.0033 'International Tables Vol C Tables 4.2.6.8 and 6.1.1.4'
O O 0.0106 0.0060 'International Tables Vol C Tables 4.2.6.8 and 6.1.1.4'
loop_
_geom_angle_atom_site_label_1
_geom_angle_atom_site_label_2
_geom_angle_atom_site_label_3
_geom_angle
N1 O1 C5 109.37(7)
O1 N1 C2 112.20(8)
C1 N1 O1 114.56(8)
C1 N1 C2 119.33(9)
O2 C1 N1 120.77(10)
O2 C1 C8 121.50(10)
N1 C1 C8 117.48(9)
N1 C2 H2 111.2
N1 C2 C3 106.31(9)
N1 C2 C7 106.64(9)
C3 C2 H2 111.2
C3 C2 C7 110.03(9)
C7 C2 H2 111.2
C2 C3 H3 124.0
C4 C3 C2 112.09(10)
C4 C3 H3 124.0
C3 C4 H4 123.4
C3 C4 C5 113.16(10)
C5 C4 H4 123.4
O1 C5 C4 110.23(9)
O1 C5 H5 110.2
O1 C5 C6 106.09(9)
C4 C5 H5 110.2
C4 C5 C6 109.74(9)
C6 C5 H5 110.2
C5 C6 H6A 110.2
C5 C6 H6B 110.2
C5 C6 C7 107.44(9)
H6A C6 H6B 108.5
C7 C6 H6A 110.2
C7 C6 H6B 110.2
C2 C7 C6 109.00(9)
C2 C7 H7A 109.9
C2 C7 H7B 109.9
C6 C7 H7A 109.9
C6 C7 H7B 109.9
H7A C7 H7B 108.3
C9 C8 C1 118.15(9)
C9 C8 C13 119.99(10)
C13 C8 C1 121.73(9)
C8 C9 H9 120.0
C10 C9 C8 120.04(10)
C10 C9 H9 120.0
C9 C10 H10 120.1
C11 C10 C9 119.83(10)
C11 C10 H10 120.1
C10 C11 H11 119.8
C10 C11 C12 120.36(10)
C12 C11 H11 119.8
C11 C12 H12 120.0
C11 C12 C13 120.01(10)
C13 C12 H12 120.0
C8 C13 H13 120.1
C12 C13 C8 119.74(10)
C12 C13 H13 120.1
loop_
_geom_bond_atom_site_label_1
_geom_bond_atom_site_label_2
_geom_bond_distance
O1 N1 1.4383(11)
O1 C5 1.4775(13)
O2 C1 1.2295(13)
N1 C1 1.3729(14)
N1 C2 1.4810(13)
C1 C8 1.4927(14)
C2 H2 1.0000
C2 C3 1.5102(16)
C2 C7 1.5364(16)
C3 H3 0.9500
C3 C4 1.3397(18)
C4 H4 0.9500
C4 C5 1.4988(16)
C5 H5 1.0000
C5 C6 1.5252(16)
C6 H6A 0.9900
C6 H6B 0.9900
C6 C7 1.5383(16)
C7 H7A 0.9900
C7 H7B 0.9900
C8 C9 1.3940(15)
C8 C13 1.3960(14)
C9 H9 0.9500
C9 C10 1.3912(16)
C10 H10 0.9500
C10 C11 1.3886(16)
C11 H11 0.9500
C11 C12 1.3903(17)
C12 H12 0.9500
C12 C13 1.3918(15)
C13 H13 0.9500
