#------------------------------------------------------------------------------
#$Date: 2016-03-21 16:14:19 +0100 (lun 21 de mar de 2016) $
#$Revision: 178774 $
#$URL: svn://www.crystallography.net/cod/cif/4/10/28/4102875.cif $
#------------------------------------------------------------------------------
#
# This file is available in the Crystallography Open Database (COD),
# http://www.crystallography.net/
#
# All data on this site have been placed in the public domain by the
# contributors.
#
data_4102875
loop_
_publ_author_name
'Panče Naumov'
'Petre Makreski'
'Gjorgji Petruševski'
'Tomče Runčevski'
'Gligor Jovanovski'
_publ_section_title
;
 Visualization of a Discrete Solid-State Process with Steady-State X-ray
 Diffraction: Observation of Hopping of Sulfur Atoms in Single Crystals of
 Realgar
;
_journal_name_full               'Journal of the American Chemical Society'
_journal_page_first              11398
_journal_page_last               11401
_journal_paper_doi               10.1021/ja1030672
_journal_volume                  132
_journal_year                    2010
_chemical_formula_sum            'As4 S4'
_chemical_formula_weight         427.92
_chemical_name_systematic
;
 ?
;
_space_group_IT_number           14
_symmetry_cell_setting           monoclinic
_symmetry_space_group_name_Hall  '-P 2yn'
_symmetry_space_group_name_H-M   'P 1 21/n 1'
_atom_sites_solution_hydrogens   geom
_atom_sites_solution_primary     direct
_atom_sites_solution_secondary   difmap
_audit_creation_method           SHELXL-97
_cell_angle_alpha                90.00
_cell_angle_beta                 106.4560(10)
_cell_angle_gamma                90.00
_cell_formula_units_Z            4
_cell_length_a                   9.3208(2)
_cell_length_b                   13.5481(2)
_cell_length_c                   6.57910(10)
_cell_measurement_temperature    296(2)
_cell_volume                     796.77(2)
_computing_structure_refinement  'SHELXL-97 (Sheldrick, 1997)'
_diffrn_ambient_temperature      296(2)
_diffrn_measured_fraction_theta_full 0.998
_diffrn_measured_fraction_theta_max 0.998
_diffrn_radiation_monochromator  graphite
_diffrn_radiation_source         'fine-focus sealed tube'
_diffrn_radiation_type           MoK\a
_diffrn_radiation_wavelength     0.71073
_diffrn_reflns_av_R_equivalents  0.0461
_diffrn_reflns_av_sigmaI/netI    0.0353
_diffrn_reflns_limit_h_max       9
_diffrn_reflns_limit_h_min       -12
_diffrn_reflns_limit_k_max       17
_diffrn_reflns_limit_k_min       -17
_diffrn_reflns_limit_l_max       8
_diffrn_reflns_limit_l_min       -8
_diffrn_reflns_number            6172
_diffrn_reflns_theta_full        27.45
_diffrn_reflns_theta_max         27.45
_diffrn_reflns_theta_min         2.73
_exptl_absorpt_coefficient_mu    17.575
_exptl_absorpt_correction_T_max  0.4736
_exptl_absorpt_correction_T_min  0.0837
_exptl_crystal_density_diffrn    3.567
_exptl_crystal_density_method    'not measured'
_exptl_crystal_F_000             784
_exptl_crystal_size_max          0.28
_exptl_crystal_size_mid          0.20
_exptl_crystal_size_min          0.05
_refine_diff_density_max         0.881
_refine_diff_density_min         -1.528
_refine_diff_density_rms         0.283
_refine_ls_extinction_method     none
_refine_ls_goodness_of_fit_ref   1.104
_refine_ls_hydrogen_treatment    mixed
_refine_ls_matrix_type           full
_refine_ls_number_parameters     73
_refine_ls_number_reflns         1824
_refine_ls_number_restraints     0
_refine_ls_restrained_S_all      1.104
_refine_ls_R_factor_all          0.0343
_refine_ls_R_factor_gt           0.0329
_refine_ls_shift/su_max          0.001
_refine_ls_shift/su_mean         0.000
_refine_ls_structure_factor_coef Fsqd
_refine_ls_weighting_details
'calc w=1/[σ²(Fo²)+(0.0520P)²+0.1662P] where P=(Fo²+2Fc²)/3'
_refine_ls_weighting_scheme      calc
_refine_ls_wR_factor_gt          0.0806
_refine_ls_wR_factor_ref         0.0817
_reflns_number_gt                1742
_reflns_number_total             1824
_reflns_threshold_expression     >2sigma(I)
_cod_data_source_file            ja1030672_control-08.cif
_cod_data_source_block           new
_cod_database_code               4102875
loop_
_symmetry_equiv_pos_as_xyz
'x, y, z'
'-x+1/2, y+1/2, -z+1/2'
'-x, -y, -z'
'x-1/2, -y-1/2, z-1/2'
loop_
_atom_site_label
_atom_site_type_symbol
_atom_site_fract_x
_atom_site_fract_y
_atom_site_fract_z
_atom_site_U_iso_or_equiv
_atom_site_adp_type
_atom_site_occupancy
_atom_site_symmetry_multiplicity
_atom_site_calc_flag
As3 As 0.17908(4) 0.62655(3) 0.32220(5) 0.03269(13) Uani 1 1 d
As1 As 0.37870(4) 0.47934(3) 0.73647(5) 0.03302(13) Uani 1 1 d
As2 As 0.07628(4) 0.63903(3) 0.64375(5) 0.03259(13) Uani 1 1 d
As4 As 0.46050(4) 0.66098(3) 0.78537(5) 0.03469(13) Uani 1 1 d
S2 S 0.28593(10) 0.47679(7) 0.38429(13) 0.0345(2) Uani 1 1 d
S1 S 0.15553(10) 0.49381(7) 0.79901(13) 0.0354(2) Uani 1 1 d
S3 S 0.26131(10) 0.72611(7) 0.86038(13) 0.0370(2) Uani 1 1 d
S4 S 0.39320(10) 0.70991(7) 0.44814(13) 0.0380(2) Uani 1 1 d
loop_
_atom_site_aniso_label
_atom_site_aniso_U_11
_atom_site_aniso_U_22
_atom_site_aniso_U_33
_atom_site_aniso_U_23
_atom_site_aniso_U_13
_atom_site_aniso_U_12
As3 0.0277(2) 0.0394(2) 0.02986(19) 0.00349(12) 0.00625(14) 0.00143(13)
As1 0.0300(2) 0.0338(2) 0.0340(2) 0.00308(12) 0.00701(14) 0.00419(14)
As2 0.0252(2) 0.0351(2) 0.0389(2) -0.00159(13) 0.01140(15) 0.00110(13)
As4 0.0265(2) 0.0392(3) 0.0364(2) -0.00229(13) 0.00573(14) -0.00556(14)
S2 0.0309(5) 0.0382(5) 0.0344(4) -0.0046(3) 0.0090(3) 0.0024(3)
S1 0.0345(5) 0.0354(5) 0.0388(4) 0.0026(3) 0.0142(3) -0.0039(4)
S3 0.0369(5) 0.0364(5) 0.0390(4) -0.0077(3) 0.0127(3) -0.0029(4)
S4 0.0332(5) 0.0419(5) 0.0411(4) 0.0052(3) 0.0140(3) -0.0065(4)
loop_
_atom_type_symbol
_atom_type_description
_atom_type_scat_dispersion_real
_atom_type_scat_dispersion_imag
_atom_type_scat_source
S S 0.1246 0.1234 'International Tables Vol C Tables 4.2.6.8 and 6.1.1.4'
As As 0.0499 2.0058 'International Tables Vol C Tables 4.2.6.8 and 6.1.1.4'
loop_
_geom_angle_atom_site_label_1
_geom_angle_atom_site_label_2
_geom_angle_atom_site_label_3
_geom_angle
S4 As3 S2 94.91(4)
S4 As3 As2 99.43(3)
S2 As3 As2 99.18(3)
S2 As1 S1 94.89(3)
S2 As1 As4 99.14(3)
S1 As1 As4 98.70(3)
S3 As2 S1 94.44(4)
S3 As2 As3 99.19(3)
S1 As2 As3 99.56(3)
S4 As4 S3 94.89(4)
S4 As4 As1 99.81(3)
S3 As4 As1 99.81(3)
As1 S2 As3 101.32(4)
As1 S1 As2 101.31(4)
As4 S3 As2 100.95(4)
As4 S4 As3 100.86(4)
loop_
_geom_bond_atom_site_label_1
_geom_bond_atom_site_label_2
_geom_bond_distance
As3 S4 2.2379(10)
As3 S2 2.2461(10)
As3 As2 2.5633(5)
As1 S2 2.2321(9)
As1 S1 2.2405(9)
As1 As4 2.5693(6)
As2 S3 2.2371(9)
As2 S1 2.2433(10)
As4 S4 2.2287(9)
As4 S3 2.2334(10)
