#------------------------------------------------------------------------------
#$Date: 2016-02-16 21:30:59 +0100 (mar 16 de feb de 2016) $
#$Revision: 176467 $
#$URL: svn://www.crystallography.net/cod/cif/4/10/52/4105254.cif $
#------------------------------------------------------------------------------
#
# This file is available in the Crystallography Open Database (COD),
# http://www.crystallography.net/
#
# All data on this site have been placed in the public domain by the
# contributors.
#
data_4105254
loop_
_publ_author_name
'Christian Nilewski'
'Roger W. Geisser'
'Marc-Olivier Ebert'
'Erick M. Carreira'
_publ_contact_author_address
;ETH Zurich
Laboratory of Organic Chemistry
HCI H335
Wolfgang-Pauli-Strasse 10
8093 Zurich
;
_publ_contact_author_email       cnilewski@org.chem.ethz.ch
_publ_contact_author_fax         '+41 44 632 13 28'
_publ_contact_author_name        'Christian Nilewski'
_publ_contact_author_phone       ' +41 44 632 29 43'
_publ_section_title
;
 Conformational and Configurational Analysis in the Study and Synthesis of
 Chlorinated Natural Products
;
_journal_name_full               'Journal of the American Chemical Society'
_journal_page_first              15866
_journal_page_last               15876
_journal_paper_doi               10.1021/ja906461h
_journal_volume                  131
_journal_year                    2009
_chemical_compound_source        'LOC ETH Zurich'
_chemical_formula_moiety         'C6 H11 Cl3 O2 '
_chemical_formula_sum            'C6 H11 Cl3 O2'
_chemical_formula_weight         221.511
_chemical_name_systematic
;
 ?
;
_space_group_IT_number           14
_symmetry_cell_setting           monoclinic
_symmetry_space_group_name_Hall  '-P 2ybc'
_symmetry_space_group_name_H-M   'P 1 21/c 1'
_atom_sites_solution_primary     direct
_atom_sites_solution_secondary   difmap
_audit_creation_method           maXus
_cell_angle_alpha                90.00
_cell_angle_beta                 109.523(2)
_cell_angle_gamma                90.00
_cell_formula_units_Z            4
_cell_length_a                   12.7354(4)
_cell_length_b                   8.1967(3)
_cell_length_c                   10.1268(3)
_cell_measurement_reflns_used    6294
_cell_measurement_temperature    223
_cell_measurement_theta_max      27.485
_cell_measurement_theta_min      2.425
_cell_volume                     996.34(6)
_computing_cell_refinement       'HKL Scalepack (Otwinowski & Minor 1997)'
_computing_data_collection       KappaCCD
_computing_data_reduction
'Denzo and Scalepak (Otwinowski & Minor, 1997)'
_computing_structure_refinement  'SHELXL-97 (Sheldrick, 1997)'
_computing_structure_solution
'SIR97(Altomare et al., J. Appl. Cryst.,1999)'
_diffrn_measured_fraction_theta_full 0.989
_diffrn_measured_fraction_theta_max 0.989
_diffrn_measurement_device       KappaCCD
_diffrn_measurement_method       CCD
_diffrn_orient_matrix_type       X=UH
_diffrn_orient_matrix_UB_11      -0.07346
_diffrn_orient_matrix_UB_12      0.07382
_diffrn_orient_matrix_UB_13      0.01149
_diffrn_orient_matrix_UB_21      0.00129
_diffrn_orient_matrix_UB_22      0.02002
_diffrn_orient_matrix_UB_23      -0.12034
_diffrn_orient_matrix_UB_31      -0.07550
_diffrn_orient_matrix_UB_32      -0.03460
_diffrn_orient_matrix_UB_33      -0.00657
_diffrn_radiation_source         'fine-focus sealed tube'
_diffrn_radiation_type           ' MoK\a'
_diffrn_radiation_wavelength_id  all
_diffrn_reflns_av_R_equivalents  0.026
_diffrn_reflns_limit_h_max       16
_diffrn_reflns_limit_h_min       -16
_diffrn_reflns_limit_k_max       10
_diffrn_reflns_limit_k_min       -8
_diffrn_reflns_limit_l_max       13
_diffrn_reflns_limit_l_min       -13
_diffrn_reflns_number            3751
_diffrn_reflns_theta_full        27.47
_diffrn_reflns_theta_max         27.47
_diffrn_reflns_theta_min         4.17
_exptl_absorpt_coefficient_mu    0.873
_exptl_absorpt_correction_type   none
_exptl_crystal_colour            Colourless
_exptl_crystal_density_diffrn    1.477
_exptl_crystal_description       Cube
_exptl_crystal_F_000             456.0
_exptl_crystal_size_max          .4
_exptl_crystal_size_mid          .36
_exptl_crystal_size_min          .24
_refine_diff_density_max         0.680
_refine_diff_density_min         -0.440
_refine_diff_density_rms         0.053
_refine_ls_extinction_method     none
_refine_ls_goodness_of_fit_ref   1.253
_refine_ls_hydrogen_treatment    mixed
_refine_ls_matrix_type           full
_refine_ls_number_parameters     108
_refine_ls_number_reflns         2259
_refine_ls_number_restraints     2
_refine_ls_restrained_S_all      1.254
_refine_ls_R_factor_all          0.0436
_refine_ls_R_factor_gt           0.0396
_refine_ls_shift/su_max          0.018
_refine_ls_shift/su_mean         0.001
_refine_ls_structure_factor_coef Fsqd
_refine_ls_weighting_details
'calc w=1/[σ²(Fo²)+ (0.1000P)²+0.0000P] where P=(Fo²+2Fc²)/3'
_refine_ls_weighting_scheme      calc
_refine_ls_wR_factor_gt          0.1466
_refine_ls_wR_factor_ref         0.1527
_reflns_number_gt                2055
_reflns_number_total             2259
_reflns_threshold_expression     >2sigma(I)
_cod_data_source_file            ja906461h_si_010.cif
_cod_data_source_block           global
_cod_original_sg_symbol_H-M      'P 21/c '
_cod_original_formula_sum        'C6 H11 Cl3 O2 '
_cod_database_code               4105254
loop_
_symmetry_equiv_pos_as_xyz
+X,+Y,+Z
-X,-Y,-Z
'-X,+Y+ 1/2,-Z+ 1/2'
'+X,-Y+ 1/2,+Z+ 1/2'
loop_
_atom_site_label
_atom_site_type_symbol
_atom_site_fract_x
_atom_site_fract_y
_atom_site_fract_z
_atom_site_U_iso_or_equiv
_atom_site_adp_type
_atom_site_occupancy
_atom_site_symmetry_multiplicity
_atom_site_calc_flag
_atom_site_refinement_flags
Cl9 Cl 0.24558(5) 0.60855(7) 0.13641(6) 0.0538(2) Uani 1 1 d .
Cl10 Cl 0.19775(4) 0.21744(5) 0.29527(5) 0.0419(2) Uani 1 1 d .
Cl11 Cl 0.44670(6) 0.17064(9) 0.53531(7) 0.0655(3) Uani 1 1 d .
O7 O 0.03368(14) 0.8099(2) 0.1043(2) 0.0621(6) Uani 1 1 d D
O8 O 0.14174(10) 0.51219(15) 0.46024(13) 0.0324(3) Uani 1 1 d D
C1 C 0.1009(2) 0.7585(3) 0.2400(3) 0.0490(5) Uani 1 1 d .
C2 C 0.15251(15) 0.5932(2) 0.2365(2) 0.0343(4) Uani 1 1 d .
C3 C 0.21672(13) 0.53289(19) 0.38468(17) 0.0278(4) Uani 1 1 d .
C4 C 0.28600(14) 0.3793(2) 0.39142(17) 0.0294(4) Uani 1 1 d .
C5 C 0.34626(17) 0.3232(3) 0.54077(19) 0.0391(4) Uani 1 1 d .
C6 C 0.4067(2) 0.4576(3) 0.6391(2) 0.0515(5) Uani 1 1 d .
H7 H 0.080(2) 0.846(4) 0.064(3) 0.075(10) Uiso 1 1 d D
H8 H 0.0925(18) 0.436(3) 0.432(3) 0.049(7) Uiso 1 1 d D
H1A H 0.1584 0.8379 0.2784 0.059 Uiso 1 1 d R
H1B H 0.0543 0.7521 0.2973 0.059 Uiso 1 1 d R
H2 H 0.0945 0.5163 0.1926 0.041 Uiso 1 1 d R
H3 H 0.2696 0.6169 0.4279 0.033 Uiso 1 1 d R
H4 H 0.3413 0.4037 0.3491 0.035 Uiso 1 1 d R
H5 H 0.2928 0.2754 0.5773 0.047 Uiso 1 1 d R
H6A H 0.3542 0.5397 0.6433 0.062 Uiso 1 1 d R
H6B H 0.4426 0.4137 0.7311 0.062 Uiso 1 1 d R
H6C H 0.4616 0.5052 0.6050 0.062 Uiso 1 1 d R
loop_
_atom_site_aniso_label
_atom_site_aniso_U_11
_atom_site_aniso_U_22
_atom_site_aniso_U_33
_atom_site_aniso_U_23
_atom_site_aniso_U_13
_atom_site_aniso_U_12
Cl9 0.0605(4) 0.0584(4) 0.0554(4) 0.0268(2) 0.0367(3) 0.0232(2)
Cl10 0.0516(3) 0.0299(3) 0.0484(3) -0.00862(17) 0.0221(2) -0.00228(18)
Cl11 0.0732(5) 0.0652(4) 0.0584(4) 0.0199(3) 0.0225(3) 0.0411(3)
O7 0.0453(9) 0.0716(11) 0.0803(13) 0.0477(10) 0.0356(9) 0.0270(8)
O8 0.0330(7) 0.0307(6) 0.0394(7) -0.0051(5) 0.0198(5) -0.0041(5)
C1 0.0485(12) 0.0397(10) 0.0657(14) 0.0202(10) 0.0282(10) 0.0185(9)
C2 0.0298(8) 0.0339(9) 0.0417(9) 0.0088(7) 0.0152(7) 0.0030(7)
C3 0.0283(8) 0.0236(7) 0.0343(8) 0.0002(6) 0.0141(6) -0.0009(6)
C4 0.0321(8) 0.0266(7) 0.0320(8) 0.0018(6) 0.0142(7) 0.0032(6)
C5 0.0439(10) 0.0420(10) 0.0340(9) 0.0096(8) 0.0165(8) 0.0108(8)
C6 0.0472(11) 0.0656(14) 0.0382(10) -0.0009(10) 0.0095(8) 0.0029(10)
loop_
_atom_type_symbol
_atom_type_description
_atom_type_scat_dispersion_real
_atom_type_scat_dispersion_imag
_atom_type_scat_source
C C 0.0033 0.0016 'International Tables Vol C Tables 4.2.6.8 and 6.1.1.4'
H H 0.0000 0.0000 'International Tables Vol C Tables 4.2.6.8 and 6.1.1.4'
Cl Cl 0.1484 0.1585 'International Tables Vol C Tables 4.2.6.8 and 6.1.1.4'
O O 0.0106 0.0060 'International Tables Vol C Tables 4.2.6.8 and 6.1.1.4'
loop_
_diffrn_radiation_wavelength
0.71073
loop_
_geom_angle_atom_site_label_1
_geom_angle_atom_site_label_2
_geom_angle_atom_site_label_3
_geom_angle
O7 C1 C2 111.7(2)
C1 C2 C3 111.14(17)
C1 C2 Cl9 108.85(13)
C3 C2 Cl9 109.71(12)
O8 C3 C4 111.12(13)
O8 C3 C2 109.37(13)
C4 C3 C2 114.95(14)
C5 C4 C3 112.71(14)
C5 C4 Cl10 109.37(12)
C3 C4 Cl10 109.68(12)
C6 C5 C4 114.30(17)
C6 C5 Cl11 108.38(15)
C4 C5 Cl11 107.85(13)
C1 O7 H7 106(2)
C3 O8 H8 117.2(18)
O7 C1 H1A 108.8
C2 C1 H1A 109.8
O7 C1 H1B 107.8
C2 C1 H1B 109.1
H1A C1 H1B 109.5
C1 C2 H2 109.1
C3 C2 H2 108.5
Cl9 C2 H2 109.5
O8 C3 H3 109.6
C4 C3 H3 105.3
C2 C3 H3 106.2
C5 C4 H4 107.8
C3 C4 H4 107.9
Cl10 C4 H4 109.3
C6 C5 H5 108.3
C4 C5 H5 108.6
Cl11 C5 H5 109.3
C5 C6 H6A 109.3
C5 C6 H6B 109.8
H6A C6 H6B 109.5
C5 C6 H6C 109.3
H6A C6 H6C 109.5
H6B C6 H6C 109.5
loop_
_geom_bond_atom_site_label_1
_geom_bond_atom_site_label_2
_geom_bond_distance
Cl9 C2 1.8031(19)
Cl10 C4 1.7998(18)
Cl11 C5 1.803(2)
O7 C1 1.419(3)
O8 C3 1.4194(18)
C1 C2 1.511(3)
C2 C3 1.531(2)
C3 C4 1.526(2)
C4 C5 1.521(2)
C5 C6 1.512(3)
O7 H7 0.882(18)
O8 H8 0.860(17)
C1 H1A 0.9600
C1 H1B 0.9600
C2 H2 0.9599
C3 H3 0.9601
C4 H4 0.9600
C5 H5 0.9599
C6 H6A 0.9601
C6 H6B 0.9599
C6 H6C 0.9601
loop_
_geom_torsion_atom_site_label_1
_geom_torsion_atom_site_label_2
_geom_torsion_atom_site_label_3
_geom_torsion_atom_site_label_4
_geom_torsion
O7 C1 C2 C3 -175.21(16)
O7 C1 C2 Cl9 63.8(2)
C1 C2 C3 O8 62.88(19)
Cl9 C2 C3 O8 -176.68(11)
C1 C2 C3 C4 -171.33(15)
Cl9 C2 C3 C4 -50.89(17)
O8 C3 C4 C5 -54.09(18)
C2 C3 C4 C5 -178.97(15)
O8 C3 C4 Cl10 68.02(15)
C2 C3 C4 Cl10 -56.86(16)
C3 C4 C5 C6 -47.2(2)
Cl10 C4 C5 C6 -169.49(14)
C3 C4 C5 Cl11 -167.79(13)
Cl10 C4 C5 Cl11 69.93(14)
