#------------------------------------------------------------------------------
#$Date: 2016-02-14 05:40:26 +0100 (dom 14 de feb de 2016) $
#$Revision: 176432 $
#$URL: svn://www.crystallography.net/cod/cif/4/12/19/4121946.cif $
#------------------------------------------------------------------------------
#
# This file is available in the Crystallography Open Database (COD),
# http://www.crystallography.net/
#
# All data on this site have been placed in the public domain by the
# contributors.
#
data_4121946
loop_
_publ_author_name
'Graham, Alexander J.'
'Banu, Ana-Maria'
'Düren, Tina'
'Greenaway, Alex'
'McKellar, Scott C.'
'Mowat, John P. S.'
'Ward, Kenneth'
'Wright, Paul A.'
'Moggach, Stephen A.'
_publ_section_title
;
 Stabilization of Scandium Terephthalate MOFs against Reversible
 Amorphization and Structural Phase Transition by Guest Uptake at Extreme
 Pressure.
;
_journal_issue                   24
_journal_name_full               'Journal of the American Chemical Society'
_journal_page_first              8606
_journal_page_last               8613
_journal_paper_doi               10.1021/ja411934f
_journal_volume                  136
_journal_year                    2014
_chemical_formula_moiety         'Sc2(BDC)3. 4.875MeOH'
_chemical_formula_sum            'C28.875 H31.5 O16.875 Sc2'
_chemical_formula_weight         738.46
_space_group_IT_number           70
_symmetry_cell_setting           orthorhombic
_symmetry_space_group_name_Hall  '-F 2uv 2vw'
_symmetry_space_group_name_H-M   'F d d d :2'
_atom_sites_solution_hydrogens   difmap
_atom_sites_solution_primary     other
_audit_creation_date             13-04-23
_audit_creation_method           CRYSTALS_ver_14.40
_cell_angle_alpha                90
_cell_angle_beta                 90
_cell_angle_gamma                90
_cell_formula_units_Z            8
_cell_length_a                   8.7682(14)
_cell_length_b                   20.4694(19)
_cell_length_c                   33.851(5)
_cell_measurement_reflns_used    1023
_cell_measurement_temperature    293
_cell_measurement_theta_max      19
_cell_measurement_theta_min      4
_cell_volume                     6075.6(14)
_computing_cell_refinement       'USER DEFINED CELL REFINEMENT'
_computing_data_collection       'USER DEFINED DATA COLLECTION'
_computing_data_reduction        'Apex2 (Bruker AXS, 2006)'
_computing_molecular_graphics    'CAMERON (Watkin et al., 1996)'
_computing_publication_material  'CRYSTALS (Betteridge et al., 2003)'
_computing_structure_refinement  'CRYSTALS (Betteridge et al., 2003)'
_computing_structure_solution    'USER DEFINED STRUCTURE SOLUTION'
_diffrn_ambient_temperature      293
_diffrn_measured_fraction_theta_full 0.795
_diffrn_measured_fraction_theta_max 0.748
_diffrn_measurement_device       Serial
_diffrn_measurement_device_type  Unknown
_diffrn_measurement_method       ω/2θ
_diffrn_radiation_monochromator  graphite
_diffrn_radiation_type           'Mo K\a'
_diffrn_radiation_wavelength     0.71073
_diffrn_reflns_av_R_equivalents  0.136
_diffrn_reflns_limit_h_max       7
_diffrn_reflns_limit_h_min       -7
_diffrn_reflns_limit_k_max       20
_diffrn_reflns_limit_k_min       -20
_diffrn_reflns_limit_l_max       30
_diffrn_reflns_limit_l_min       -31
_diffrn_reflns_number            5420
_diffrn_reflns_theta_full        15.869
_diffrn_reflns_theta_max         21.159
_diffrn_reflns_theta_min         2.598
_diffrn_standards_number         0
_exptl_absorpt_coefficient_mu    0.53
_exptl_absorpt_correction_T_max  0.95
_exptl_absorpt_correction_T_min  0.81
_exptl_absorpt_correction_type   multi-scan
_exptl_absorpt_process_details   'SADABS (Siemens, 1996)'
_exptl_crystal_colour            colourless
_exptl_crystal_density_diffrn    1.615
_exptl_crystal_density_method    'not measured'
_exptl_crystal_description       block
_exptl_crystal_F_000             3054
_exptl_crystal_size_max          0.200
_exptl_crystal_size_mid          0.200
_exptl_crystal_size_min          0.100
_refine_diff_density_max         1.32
_refine_diff_density_min         -0.76
_refine_ls_extinction_method     None
_refine_ls_goodness_of_fit_ref   1.1704
_refine_ls_hydrogen_treatment    constr
_refine_ls_matrix_type           full
_refine_ls_number_parameters     102
_refine_ls_number_reflns         608
_refine_ls_number_restraints     117
_refine_ls_R_factor_all          0.1459
_refine_ls_R_factor_gt           0.0988
_refine_ls_shift/su_max          0.0006523
_refine_ls_shift/su_mean         0.0000234
_refine_ls_structure_factor_coef Fsqd
_refine_ls_weighting_details
;
 Method= Modified Sheldrick 
 w=1/[σ²(F²) + ( 0.16P)² +*****P] 
 ,where P=(max(Fo²,0) + 2Fc²)/3 
;
_refine_ls_weighting_scheme      calc
_refine_ls_wR_factor_all         0.3014
_refine_ls_wR_factor_gt          0.2518
_refine_ls_wR_factor_ref         0.3014
_reflns_limit_h_max              7
_reflns_limit_h_min              0
_reflns_limit_k_max              20
_reflns_limit_k_min              0
_reflns_limit_l_max              31
_reflns_limit_l_min              0
_reflns_number_gt                372
_reflns_number_total             626
_reflns_threshold_expression     I>2.0σ(I)
_oxford_diffrn_Wilson_B_factor   0.00
_oxford_diffrn_Wilson_scale      0.00
_oxford_refine_ls_r_factor_ref   0.1459
_oxford_refine_ls_scale          0.014198(5)
_oxford_reflns_number_all        608
_oxford_reflns_threshold_expression_ref I>-10.0\s(I)
_oxford_structure_analysis_title 'SCBDC06 in Fddd'
_cod_data_source_file            scbdc06.cif
_cod_data_source_block           scbdc06
_cod_depositor_comments
;
The following automatic conversions were performed:

'_atom_sites_solution_primary' value 'Other' changed to 'other'
according to
/usr/data/users/saulius/crontab/automatic-downloads/rss-feeds/ACS/lib/dictionaries/cif_core.dic
dictionary named 'cif_core.dic' version 2.4.2 from 2011-04-26.

Automatic conversion script
Id: cif_fix_values 2281 2013-09-26 08:29:07Z andrius 

 Adding full bibliography for 4121943--4121962.cif.
;
_cod_original_cell_volume        6075.5(14)
_cod_original_sg_symbol_Hall     '-F 2uv 2vw '
_cod_original_sg_symbol_H-M      'F d d d '
_cod_original_formula_sum        'Sc2 C28.875 O16.875 H31.5'
_cod_database_code               4121946
#BEGIN Tags that were not found in dictionaries:
_iucr_refine_instruction_details_constraints
;
BLOCK SCALE X'S 
CONT SC(1, U'S) UNTIL C(7) 
CONT C(40, U[ISO]) UNTIL C(50) 
RIDE C   (   3,X'S) H   (  31,X'S) 
RIDE C   (   4,X'S) H   (  41,X'S) 
RIDE C   (   7,X'S) H   (  71,X'S) 
END                                                                             
;
_iucr_refine_instruction_details_restraints
;
DIST   1.255,.01= O(1) TO C(1) 
DIST   1.247,.01= C(1) TO O(2) 
DIST   1.496,.01= C(1) TO C(2) 
DIST   1.369,.01= C(2) TO C(3) 
DIST   1.377,.01= C(2) TO C(4,-1,2,0,0,1) 
DIST   1.384,.01= C(3) TO C(4) 
DIST   1.251,.01= O(3) TO C(5) 
DIST   1.492,.01= C(5) TO C(6) 
DIST   1.372,.01= C(6) TO C(7) 
DIST   1.372,.01= C(6) TO C(7,-3,1,0,0,1) 
DIST   1.384,.01= C(7) TO C(7,-2,1,0,1,1) 
ANGL 124,1= O(2) TO C(1) TO O(1) 
ANGL 118,1= C(2) TO C(1) TO O(1) 
ANGL 118,1= C(2) TO C(1) TO O(2) 
ANGL 121,1= C(3) TO C(2) TO C(1) 
ANGL 120,1= C(4,-1,2,0,0,1) TO C(2) TO C(1) 
ANGL 119,1= C(4,-1,2,0,0,1) TO C(2) TO C(3) 
ANGL 120,1= C(4) TO C(3) TO C(2) 
ANGL 120,1= C(3) TO C(4) TO C(2,-1,2,0,0,1) 
ANGL 124,1= O(3,-3,1,0,0,1) TO C(5) TO O(3) 
ANGL 118,1= C(6) TO C(5) TO O(3) 
ANGL 118,1= C(6) TO C(5) TO O(3,-3,1,0,0,1) 
ANGL 120,1= C(7) TO C(6) TO C(5) 
ANGL 120,1= C(7,-3,1,0,0,1) TO C(6) TO C(5) 
ANGL 119,1= C(7,-3,1,0,0,1) TO C(6) TO C(7) 
ANGL 120,1= C(7,-2,1,0,1,1) TO C(7) TO C(6) 
DIST 1.43, 0.01 = O(5) TO C(50) 
DIST 1.43, 0.01 = O(4) TO C(40) 
REM   DELU   START (DO NOT REMOVE THIS LINE) 
VIBR .0, 0.00200 = O(1) TO C(1) 
VIBR .0, 0.00200 = C(1) TO O(2) 
VIBR .0, 0.00200 = C(1) TO C(2) 
VIBR .0, 0.00500 = O(2) TO O(1) 
VIBR .0, 0.00500 = C(2) TO O(1) 
VIBR .0, 0.00500 = C(2) TO O(2) 
VIBR .0, 0.00200 = C(2) TO C(4,-1,2,0,0,1) 
VIBR .0, 0.00200 = C(2) TO C(3) 
VIBR .0, 0.00500 = C(4,-1,2,0,0,1) TO C(1) 
VIBR .0, 0.00500 = C(3) TO C(1) 
VIBR .0, 0.00500 = C(3) TO C(4,-1,2,0,0,1) 
VIBR .0, 0.00200 = C(3) TO C(4) 
VIBR .0, 0.00500 = C(4) TO C(2) 
VIBR .0, 0.00500 = C(2,-1,2,0,0,1) TO C(3) 
VIBR .0, 0.00200 = O(3) TO C(5) 
VIBR .0, 0.00200 = C(5) TO C(6) 
VIBR .0, 0.00500 = O(3,-3,1,0,0,1) TO O(3) 
VIBR .0, 0.00500 = C(6) TO O(3) 
VIBR .0, 0.00500 = C(6) TO O(3,-3,1,0,0,1) 
VIBR .0, 0.00200 = C(6) TO C(7,-3,1,0,0,1) 
VIBR .0, 0.00200 = C(6) TO C(7) 
VIBR .0, 0.00500 = C(7,-3,1,0,0,1) TO C(5) 
VIBR .0, 0.00500 = C(7) TO C(5) 
VIBR .0, 0.00500 = C(7) TO C(7,-3,1,0,0,1) 
VIBR .0, 0.00200 = C(7) TO C(7,-2,1,0,1,1) 
VIBR .0, 0.00500 = C(6) TO C(7,-2,1,0,1,1) 
VIBR .0, 0.00200 = C(40) TO O(4,4,2,1,-1,-1) 
VIBR .0, 0.00200 = C(40) TO O(4) 
VIBR .0, 0.00500 = O(4) TO O(4,4,2,1,-1,-1) 
VIBR .0, 0.00200 = O(5) TO C(50) 
REM   DELU   END (DO NOT REMOVE THIS LINE) 
REM   THERMSIM   START (DO NOT REMOVE THIS LINE) 
U(IJ) .0, 0.08000 = O(1) TO C(1) 
U(IJ) .0, 0.08000 = C(1) TO O(2) 
U(IJ) .0, 0.04000 = C(1) TO C(2) 
U(IJ) .0, 0.04000 = C(2) TO C(4,-1,2,0,0,1) 
U(IJ) .0, 0.04000 = C(2) TO C(3) 
U(IJ) .0, 0.04000 = C(3) TO C(4) 
U(IJ) .0, 0.04000 = O(3) TO C(5) 
U(IJ) .0, 0.04000 = C(5) TO C(6) 
U(IJ) .0, 0.04000 = C(6) TO C(7,-3,1,0,0,1) 
U(IJ) .0, 0.04000 = C(6) TO C(7) 
U(IJ) .0, 0.04000 = C(7) TO C(7,-2,1,0,1,1) 
U(IJ) .0, 0.04000 = C(40) TO O(4,4,2,1,-1,-1) 
U(IJ) .0, 0.04000 = C(40) TO O(4) 
U(IJ) .0, 0.08000 = O(5) TO C(50) 
REM   THERMSIM   END (DO NOT REMOVE THIS LINE) 
END                                                                             
;
#END Tags that were not found in dictionaries
loop_
_symmetry_equiv_pos_as_xyz
x,y,z
-x,-y,-z
x,y+1/2,z+1/2
-x,-y+1/2,-z+1/2
x+1/2,y,z+1/2
-x+1/2,-y,-z+1/2
x+1/2,y+1/2,z
-x+1/2,-y+1/2,-z
-x,y+1/4,z+1/4
x,-y+1/4,-z+1/4
-x,y+3/4,z+3/4
x,-y+3/4,-z+3/4
-x+1/2,y+1/4,z+3/4
x+1/2,-y+1/4,-z+3/4
-x+1/2,y+3/4,z+1/4
x+1/2,-y+3/4,-z+1/4
x+1/4,-y,z+1/4
-x+1/4,y,-z+1/4
x+1/4,-y+1/2,z+3/4
-x+1/4,y+1/2,-z+3/4
x+3/4,-y,z+3/4
-x+3/4,y,-z+3/4
x+3/4,-y+1/2,z+1/4
-x+3/4,y+1/2,-z+1/4
-x+1/4,-y+3/4,z+1/2
x+1/4,y+3/4,-z+1/2
-x+1/4,-y+5/4,z+1
x+1/4,y+5/4,-z+1
-x+3/4,-y+3/4,z+1
x+3/4,y+3/4,-z+1
-x+3/4,-y+5/4,z+1/2
x+3/4,y+5/4,-z+1/2
loop_
_atom_site_label
_atom_site_type_symbol
_atom_site_fract_x
_atom_site_fract_y
_atom_site_fract_z
_atom_site_U_iso_or_equiv
_atom_site_occupancy
_atom_site_adp_type
_atom_site_refinement_flags_posn
_atom_site_refinement_flags_adp
Sc1 Sc 0.3750 0.3750 0.63495(9) 0.0273 1.0000 Uani S T
O1 O 0.2456(11) 0.3317(5) 0.6790(3) 0.0691 1.0000 Uani D U
C1 C 0.1063(10) 0.3197(8) 0.6817(3) 0.0601 1.0000 Uani D U
O2 O 0.0094(12) 0.3369(6) 0.6570(3) 0.0845 1.0000 Uani D U
C2 C 0.0514(10) 0.2846(8) 0.7176(3) 0.0676 1.0000 Uani D U
C3 C 0.1520(10) 0.2649(7) 0.7462(3) 0.0689 1.0000 Uani D U
C4 C 0.1014(11) 0.2288(7) 0.7781(3) 0.0711 1.0000 Uani D U
O3 O 0.2473(9) 0.4569(4) 0.6334(3) 0.0809 1.0000 Uani D U
C5 C 0.1250 0.4855(4) 0.6250 0.0733 1.0000 Uani DS TU
C6 C 0.1250 0.5582(3) 0.6250 0.0641 1.0000 Uani DS TU
C7 C 0.2597(7) 0.5915(2) 0.6247(4) 0.0636 1.0000 Uani D U
C40 C 0.6250 0.1250 0.0654(12) 0.163(11) 1.0000 Uiso DS U
O4 O 0.662(4) 0.0697(15) 0.0894(9) 0.163(11) 0.5000 Uiso D U
O5 O 0.284(3) 0.1745(10) -0.0009(6) 0.132(7) 0.7100 Uiso D U
C50 C 0.284(4) 0.1935(16) 0.0396(7) 0.130(7) 0.7100 Uiso D U
H31 H 0.2557 0.2757 0.7436 0.0654 1.0000 Uiso R .
H41 H 0.1725 0.2144 0.7970 0.0711 1.0000 Uiso R .
H71 H 0.3526 0.5687 0.6260 0.0639 1.0000 Uiso R .
loop_
_atom_site_aniso_label
_atom_site_aniso_U_11
_atom_site_aniso_U_22
_atom_site_aniso_U_33
_atom_site_aniso_U_23
_atom_site_aniso_U_13
_atom_site_aniso_U_12
Sc1 0.040(4) 0.019(2) 0.023(2) 0.0000 0.0000 0.006(2)
O1 0.043(7) 0.099(8) 0.065(7) 0.052(6) 0.003(5) -0.002(8)
C1 0.041(8) 0.094(11) 0.045(9) 0.041(7) 0.004(6) 0.004(10)
O2 0.054(9) 0.135(10) 0.064(8) 0.068(7) -0.011(5) -0.010(9)
C2 0.052(9) 0.086(10) 0.064(9) 0.055(7) -0.002(6) -0.009(10)
C3 0.051(9) 0.101(12) 0.055(10) 0.050(8) -0.003(6) -0.016(10)
C4 0.051(9) 0.093(11) 0.070(10) 0.063(8) -0.006(7) -0.007(11)
O3 0.057(12) 0.018(6) 0.169(11) 0.014(6) -0.006(8) 0.003(5)
C5 0.051(14) 0.016(6) 0.152(18) 0.0000 -0.006(14) 0.0000
C6 0.043(14) 0.016(6) 0.133(17) 0.0000 -0.016(12) 0.0000
C7 0.041(15) 0.018(6) 0.132(15) 0.013(8) -0.002(9) 0.002(3)
loop_
_atom_type_symbol
_atom_type_scat_dispersion_real
_atom_type_scat_dispersion_imag
_atom_type_scat_Cromer_Mann_a1
_atom_type_scat_Cromer_Mann_b1
_atom_type_scat_Cromer_Mann_a2
_atom_type_scat_Cromer_Mann_b2
_atom_type_scat_Cromer_Mann_a3
_atom_type_scat_Cromer_Mann_b3
_atom_type_scat_Cromer_Mann_a4
_atom_type_scat_Cromer_Mann_b4
_atom_type_scat_Cromer_Mann_c
_atom_type_scat_source
C 0.0033 0.0016 2.3100 20.8439 1.0200 10.2075 1.5886 0.5687 0.8650 51.6512
0.2156 'International Tables Vol C 4.2.6.8 and 6.1.1.4'
H 0.0000 0.0000 0.4930 10.5109 0.3229 26.1257 0.1402 3.1424 0.0408 57.7998
0.0030 'International Tables Vol C 4.2.6.8 and 6.1.1.4'
O 0.0106 0.0060 3.0485 13.2771 2.2868 5.7011 1.5463 0.3239 0.8670 32.9089
0.2508 'International Tables Vol C 4.2.6.8 and 6.1.1.4'
Sc 0.2519 0.3716 9.1890 9.0213 7.3679 0.5729 1.6409 136.1080 1.4680 51.3531
1.3329 'International Tables Vol C 4.2.6.8 and 6.1.1.4'
loop_
_geom_angle_atom_site_label_1
_geom_angle_site_symmetry_1
_geom_angle_atom_site_label_2
_geom_angle_atom_site_label_3
_geom_angle_site_symmetry_3
_geom_angle
_geom_angle_publ_flag
O1 29_554 Sc1 O3 29_554 94.0(4) yes
O1 29_554 Sc1 O2 16_556 91.3(4) yes
O3 29_554 Sc1 O2 16_556 88.8(4) yes
O1 29_554 Sc1 O2 18_556 176.8(4) yes
O3 29_554 Sc1 O2 18_556 89.1(5) yes
O2 16_556 Sc1 O2 18_556 89.7(7) yes
O1 29_554 Sc1 O1 . 88.0(6) yes
O3 29_554 Sc1 O1 . 88.1(4) yes
O2 16_556 Sc1 O1 . 176.8(4) yes
O2 18_556 Sc1 O1 . 91.3(4) yes
O1 29_554 Sc1 O3 . 88.1(4) yes
O3 29_554 Sc1 O3 . 177.0(7) yes
O2 16_556 Sc1 O3 . 89.1(5) yes
O2 18_556 Sc1 O3 . 88.8(4) yes
O1 . Sc1 O3 . 94.0(4) yes
Sc1 . O1 C1 . 132.2(6) yes
O1 . C1 O2 . 124.4(6) yes
O1 . C1 C2 . 118.0(5) yes
O2 . C1 C2 . 117.6(6) yes
Sc1 16_456 O2 C1 . 171.5(8) yes
C1 . C2 C4 4_556 119.8(5) yes
C1 . C2 C3 . 120.7(6) yes
C4 4_556 C2 C3 . 119.6(5) yes
C2 . C3 C4 . 120.2(6) yes
C2 . C3 H31 . 119.2 no
C4 . C3 H31 . 120.6 no
C3 . C4 C2 4_556 120.1(6) yes
C3 . C4 H41 . 119.1 no
C2 4_556 C4 H41 . 120.8 no
Sc1 . O3 C5 . 150.3(5) yes
O3 . C5 O3 18_556 124.2(6) yes
O3 . C5 C6 . 117.9(3) yes
O3 18_556 C5 C6 . 117.9(3) yes
C5 . C6 C7 18_556 120.0(3) yes
C5 . C6 C7 . 120.0(3) yes
C7 18_556 C6 C7 . 120.0(6) yes
C7 10_566 C7 C6 . 120.0(3) yes
C7 10_566 C7 H71 . 119.7 no
C6 . C7 H71 . 120.1 no
O4 27_644 C40 O4 . 111(4) yes
loop_
_geom_bond_atom_site_label_1
_geom_bond_atom_site_label_2
_geom_bond_site_symmetry_2
_geom_bond_distance
_geom_bond_publ_flag
Sc1 O1 29_554 2.073(9) yes
Sc1 O3 29_554 2.016(8) yes
Sc1 O2 16_556 2.004(8) yes
Sc1 O2 18_556 2.004(8) yes
Sc1 O1 . 2.073(9) yes
Sc1 O3 . 2.016(8) yes
O1 C1 . 1.250(8) yes
C1 O2 . 1.242(8) yes
C1 C2 . 1.491(7) yes
C2 C4 4_556 1.375(8) yes
C2 C3 . 1.371(8) yes
C3 C4 . 1.382(8) yes
C3 H31 . 0.940 no
C4 H41 . 0.940 no
O3 C5 . 1.255(7) yes
C5 C6 . 1.486(8) yes
C6 C7 18_556 1.364(6) yes
C6 C7 . 1.364(6) yes
C7 C7 10_566 1.372(8) yes
C7 H71 . 0.940 no
C40 O4 27_644 1.430(9) yes
C40 O4 . 1.430(9) yes
O5 C50 . 1.425(9) yes
#BEGIN Loops that were not found in dictionaries:
loop_
_oxford_refln_omitted_index_h
_oxford_refln_omitted_index_k
_oxford_refln_omitted_index_l
_oxford_refln_omitted_flag
2 6 28 x
6 12 6 x
1 1 3 x
2 4 30 x
0 14 14 x
1 3 23 x
7 5 13 x
7 11 7 x
7 9 9 x
5 13 15 x
6 8 8 x
6 12 4 x
6 14 10 x
0 4 12 x
7 7 17 x
1 9 29 x
7 5 15 x
6 10 14 x
5 13 7 x
#END Loops that were not found in dictionaries
