#------------------------------------------------------------------------------
#$Date: 2019-11-03 16:56:45 +0100 (dom 03 de nov de 2019) $
#$Revision: 222005 $
#$URL: svn://www.crystallography.net/cod/cif/4/12/89/4128975.cif $
#------------------------------------------------------------------------------
#
# This file is available in the Crystallography Open Database (COD),
# http://www.crystallography.net/
#
# All data on this site have been placed in the public domain by the
# contributors.
#
data_4128975
loop_
_publ_author_name
'Cai, Weizhao'
'Lin, Wenwen'
'Li, Long-Hua'
'Malliakas, Christos D.'
'Zhang, Rong'
'Groesbeck, Matthew'
'Bao, Jin-Ke'
'Zhang, Dongzhou'
'Sterer, Eran'
'Kanatzidis, Mercouri G.'
'Deemyad, Shanti'
_publ_section_title
;
 Pressure-Induced Superconductivity and Flattened Se₆ Rings in
 the Wide Band Gap Semiconductor
 Cu₂I₂Se₆.
;
_journal_issue                   38
_journal_name_full               'Journal of the American Chemical Society'
_journal_page_first              15174
_journal_page_last               15182
_journal_paper_doi               10.1021/jacs.9b06794
_journal_volume                  141
_journal_year                    2019
_chemical_formula_moiety         'Cu2 I2 Se6'
_chemical_formula_sum            'Cu2 I2 Se6'
_chemical_formula_weight         854.7
_chemical_name_common            'copper iodide triselenide'
_space_group_IT_number           166
_space_group_name_Hall           '-R 3 2"'
_space_group_name_H-M_alt        'R -3 m :H'
_symmetry_cell_setting           trigonal
_symmetry_Int_Tables_number      166
_symmetry_space_group_name_Hall  '-R 3 2"'
_symmetry_space_group_name_H-M   'R -3 m :H'
_atom_sites_solution_primary     direct
_atom_sites_solution_secondary   difmap
_audit_creation_method           SHELXL-97
_cell_angle_alpha                90.00
_cell_angle_beta                 90.00
_cell_angle_gamma                120.00
_cell_formula_units_Z            9
_cell_length_a                   13.7660(3)
_cell_length_b                   13.7660(3)
_cell_length_c                   13.2315(9)
_cell_measurement_pressure       3600000
_cell_measurement_reflns_used    1700
_cell_measurement_temperature    296(2)
_cell_measurement_theta_max      21.05
_cell_measurement_theta_min      1.80
_cell_volume                     2171.48(16)
_computing_molecular_graphics    'Mercury (Macrae et al., 2008)'
_computing_publication_material  'SHELXL-97 (Sheldrick, 2008)'
_computing_structure_refinement  'SHELXL-97 (Sheldrick, 1997)'
_computing_structure_solution    'SHELXS-97 (Sheldrick, 1990)'
_diffrn_ambient_temperature      296(2)
_diffrn_measured_fraction_theta_full 0.363
_diffrn_measured_fraction_theta_max 0.363
_diffrn_measurement_device_type  'MAR165 CCD'
_diffrn_radiation_monochromator  silicon(311)
_diffrn_radiation_type           synchrotron
_diffrn_radiation_wavelength     0.43250
_diffrn_reflns_av_R_equivalents  0.0847
_diffrn_reflns_av_sigmaI/netI    0.0470
_diffrn_reflns_limit_h_max       11
_diffrn_reflns_limit_h_min       -15
_diffrn_reflns_limit_k_max       22
_diffrn_reflns_limit_k_min       -13
_diffrn_reflns_limit_l_max       15
_diffrn_reflns_limit_l_min       -13
_diffrn_reflns_number            1700
_diffrn_reflns_theta_full        21.05
_diffrn_reflns_theta_max         21.05
_diffrn_reflns_theta_min         1.80
_diffrn_source                   'Advanced Photon Source 13-BM-C'
_exptl_absorpt_coefficient_mu    17.623
_exptl_absorpt_correction_T_max  0.7780
_exptl_absorpt_correction_T_min  0.5775
_exptl_absorpt_correction_type   empirical
_exptl_absorpt_process_details
;
Dera, P. et al. High pressure single-crystal micro X-ray diffraction analysis with GSE_ADA/RSV software. High Pressure Research 33, 466-484 (2013).
;
_exptl_crystal_colour            'dark red'
_exptl_crystal_density_diffrn    5.882
_exptl_crystal_density_method    'not measured'
_exptl_crystal_description       plate-shaped
_exptl_crystal_F_000             3312
_exptl_crystal_size_max          0.035
_exptl_crystal_size_mid          0.024
_exptl_crystal_size_min          0.015
_refine_diff_density_max         1.744
_refine_diff_density_min         -1.988
_refine_diff_density_rms         0.447
_refine_ls_extinction_method     none
_refine_ls_goodness_of_fit_ref   1.083
_refine_ls_matrix_type           full
_refine_ls_number_parameters     30
_refine_ls_number_reflns         463
_refine_ls_number_restraints     0
_refine_ls_restrained_S_all      1.083
_refine_ls_R_factor_all          0.0416
_refine_ls_R_factor_gt           0.0416
_refine_ls_shift/su_max          0.000
_refine_ls_shift/su_mean         0.000
_refine_ls_structure_factor_coef Fsqd
_refine_ls_weighting_details
'calc w=1/[σ²(Fo²)+(0.0741P)²+158.3060P] where P=(Fo²+2Fc²)/3'
_refine_ls_weighting_scheme      calc
_refine_ls_wR_factor_gt          0.1192
_refine_ls_wR_factor_ref         0.1192
_reflns_number_gt                462
_reflns_number_total             463
_reflns_threshold_expression     >2sigma(I)
_cod_data_source_file            ja9b06794_si_002.cif
_cod_data_source_block           at3.6GPa
_cod_depositor_comments
;
The following automatic conversions were performed:

data name '_atom_site_symetry_multiplicity' was replaced with
'_atom_site_symmetry_multiplicity' as specified in the replacement
file
'/home/data/users/saulius/crontab/automatic-downloads/current/ACS/lib/lists/replacement-tags.lst'.

Automatic conversion script
Id: cif_correct_tags 6909 2019-04-08 15:41:33Z antanas 
;
_cod_original_sg_symbol_H-M      'R -3 m'
_cod_database_code               4128975
loop_
_symmetry_equiv_pos_as_xyz
'x, y, z'
'-y, x-y, z'
'-x+y, -x, z'
'y, x, -z'
'x-y, -y, -z'
'-x, -x+y, -z'
'x+2/3, y+1/3, z+1/3'
'-y+2/3, x-y+1/3, z+1/3'
'-x+y+2/3, -x+1/3, z+1/3'
'y+2/3, x+1/3, -z+1/3'
'x-y+2/3, -y+1/3, -z+1/3'
'-x+2/3, -x+y+1/3, -z+1/3'
'x+1/3, y+2/3, z+2/3'
'-y+1/3, x-y+2/3, z+2/3'
'-x+y+1/3, -x+2/3, z+2/3'
'y+1/3, x+2/3, -z+2/3'
'x-y+1/3, -y+2/3, -z+2/3'
'-x+1/3, -x+y+2/3, -z+2/3'
'-x, -y, -z'
'y, -x+y, -z'
'x-y, x, -z'
'-y, -x, z'
'-x+y, y, z'
'x, x-y, z'
'-x+2/3, -y+1/3, -z+1/3'
'y+2/3, -x+y+1/3, -z+1/3'
'x-y+2/3, x+1/3, -z+1/3'
'-y+2/3, -x+1/3, z+1/3'
'-x+y+2/3, y+1/3, z+1/3'
'x+2/3, x-y+1/3, z+1/3'
'-x+1/3, -y+2/3, -z+2/3'
'y+1/3, -x+y+2/3, -z+2/3'
'x-y+1/3, x+2/3, -z+2/3'
'-y+1/3, -x+2/3, z+2/3'
'-x+y+1/3, y+2/3, z+2/3'
'x+1/3, x-y+2/3, z+2/3'
loop_
_atom_site_label
_atom_site_type_symbol
_atom_site_fract_x
_atom_site_fract_y
_atom_site_fract_z
_atom_site_U_iso_or_equiv
_atom_site_adp_type
_atom_site_occupancy
_atom_site_symmetry_multiplicity
_atom_site_calc_flag
_atom_site_refinement_flags
Se1 Se 0.24737(6) 0.75263(6) 0.12182(13) 0.0127(4) Uani 1 2 d S
Se2 Se 0.08661(6) 0.91339(6) 0.11114(15) 0.0134(4) Uani 1 2 d S
Se3 Se -0.08903(6) 0.82195(13) 0.19213(14) 0.0162(4) Uani 1 2 d S
I1 I 0.32559(7) 0.99226(7) 0.3333 0.0166(3) Uani 1 2 d S
Cu1 Cu 0.16432(8) 0.83568(8) 0.22781(19) 0.0201(5) Uani 1 2 d S
loop_
_atom_site_aniso_label
_atom_site_aniso_U_11
_atom_site_aniso_U_22
_atom_site_aniso_U_33
_atom_site_aniso_U_23
_atom_site_aniso_U_13
_atom_site_aniso_U_12
Se1 0.0099(4) 0.0099(4) 0.0181(9) 0.0006(3) -0.0006(3) 0.0048(5)
Se2 0.0109(5) 0.0109(5) 0.0184(8) 0.0002(3) -0.0002(3) 0.0054(5)
Se3 0.0123(5) 0.0154(7) 0.0219(9) 0.0042(6) 0.0021(3) 0.0077(3)
I1 0.0120(3) 0.0120(3) 0.0242(7) -0.00137(19) 0.00137(19) 0.0047(3)
Cu1 0.0173(7) 0.0173(7) 0.0263(13) 0.0013(4) -0.0013(4) 0.0092(7)
loop_
_atom_type_symbol
_atom_type_description
_atom_type_scat_dispersion_real
_atom_type_scat_dispersion_imag
_atom_type_scat_source
Cu Cu 0.3240 0.8257 'International Tables Vol C Tables 4.2.6.8 and 6.1.1.4'
Se Se 0.2367 1.4831 'International Tables Vol C Tables 4.2.6.8 and 6.1.1.4'
I I -0.8919 1.1868 'International Tables Vol C Tables 4.2.6.8 and 6.1.1.4'
loop_
_geom_angle_atom_site_label_1
_geom_angle_atom_site_label_2
_geom_angle_atom_site_label_3
_geom_angle
_geom_angle_site_symmetry_1
_geom_angle_site_symmetry_3
Se1 Se1 Se1 97.09(10) 26_455 27
Se1 Se1 Cu1 93.64(8) 26_455 .
Se1 Se1 Cu1 93.64(8) 27 .
Se3 Se2 Se3 102.77(10) 2_675 .
Se3 Se2 Cu1 92.08(7) 2_675 .
Se3 Se2 Cu1 92.08(7) . .
Se2 Se3 Se2 98.96(9) . 3_465
Cu1 I1 Cu1 65.14(10) 31_565 .
Se2 Cu1 Se1 104.90(11) . .
Se2 Cu1 I1 111.15(5) . 31_565
Se1 Cu1 I1 107.05(5) . 31_565
Se2 Cu1 I1 111.15(5) . .
Se1 Cu1 I1 107.06(5) . .
I1 Cu1 I1 114.86(10) 31_565 .
Se2 Cu1 Cu1 132.09(13) . 31_565
Se1 Cu1 Cu1 123.02(12) . 31_565
I1 Cu1 Cu1 57.43(5) 31_565 31_565
I1 Cu1 Cu1 57.43(5) . 31_565
loop_
_geom_bond_atom_site_label_1
_geom_bond_atom_site_label_2
_geom_bond_distance
_geom_bond_site_symmetry_2
Se1 Se1 2.369(2) 26_455
Se1 Se1 2.369(2) 27
Se1 Cu1 2.426(3) .
Se2 Se3 2.3526(15) 2_675
Se2 Se3 2.3526(15) .
Se2 Cu1 2.412(3) .
Se3 Se2 2.3526(15) 3_465
I1 Cu1 2.5959(15) 31_565
I1 Cu1 2.5959(15) .
Cu1 I1 2.5959(15) 31_565
Cu1 Cu1 2.795(5) 31_565
