#------------------------------------------------------------------------------
#$Date: 2019-11-03 16:56:45 +0100 (dom 03 de nov de 2019) $
#$Revision: 222005 $
#$URL: svn://www.crystallography.net/cod/cif/4/12/89/4128981.cif $
#------------------------------------------------------------------------------
#
# This file is available in the Crystallography Open Database (COD),
# http://www.crystallography.net/
#
# All data on this site have been placed in the public domain by the
# contributors.
#
data_4128981
loop_
_publ_author_name
'Cai, Weizhao'
'Lin, Wenwen'
'Li, Long-Hua'
'Malliakas, Christos D.'
'Zhang, Rong'
'Groesbeck, Matthew'
'Bao, Jin-Ke'
'Zhang, Dongzhou'
'Sterer, Eran'
'Kanatzidis, Mercouri G.'
'Deemyad, Shanti'
_publ_section_title
;
 Pressure-Induced Superconductivity and Flattened Se₆ Rings in
 the Wide Band Gap Semiconductor
 Cu₂I₂Se₆.
;
_journal_issue                   38
_journal_name_full               'Journal of the American Chemical Society'
_journal_page_first              15174
_journal_page_last               15182
_journal_paper_doi               10.1021/jacs.9b06794
_journal_volume                  141
_journal_year                    2019
_chemical_formula_moiety         'Cu2 I2 Se6'
_chemical_formula_sum            'Cu2 I2 Se6'
_chemical_formula_weight         854.7
_chemical_name_common            'copper iodide triselenide'
_space_group_IT_number           166
_space_group_name_Hall           '-R 3 2"'
_space_group_name_H-M_alt        'R -3 m :H'
_symmetry_cell_setting           trigonal
_symmetry_Int_Tables_number      166
_symmetry_space_group_name_Hall  '-R 3 2"'
_symmetry_space_group_name_H-M   'R -3 m :H'
_atom_sites_solution_primary     direct
_atom_sites_solution_secondary   difmap
_audit_creation_method           SHELXL-97
_cell_angle_alpha                90.00
_cell_angle_beta                 90.00
_cell_angle_gamma                120.00
_cell_formula_units_Z            9
_cell_length_a                   12.8125(4)
_cell_length_b                   12.8125(4)
_cell_length_c                   12.2065(10)
_cell_measurement_pressure       19200000
_cell_measurement_reflns_used    1217
_cell_measurement_temperature    296(2)
_cell_measurement_theta_max      20.32
_cell_measurement_theta_min      1.93
_cell_volume                     1735.36(16)
_computing_molecular_graphics    'Mercury (Macrae et al., 2008)'
_computing_publication_material  'SHELXL-97 (Sheldrick, 2008)'
_computing_structure_refinement  'SHELXL-97 (Sheldrick, 1997)'
_computing_structure_solution    'SHELXS-97 (Sheldrick, 1990)'
_diffrn_ambient_temperature      296(2)
_diffrn_measured_fraction_theta_full 0.307
_diffrn_measured_fraction_theta_max 0.307
_diffrn_measurement_device_type  'MAR165 CCD'
_diffrn_radiation_monochromator  silicon(311)
_diffrn_radiation_type           synchrotron
_diffrn_radiation_wavelength     0.43250
_diffrn_reflns_av_R_equivalents  0.0809
_diffrn_reflns_av_sigmaI/netI    0.0379
_diffrn_reflns_limit_h_max       20
_diffrn_reflns_limit_h_min       -12
_diffrn_reflns_limit_k_max       11
_diffrn_reflns_limit_k_min       -15
_diffrn_reflns_limit_l_max       13
_diffrn_reflns_limit_l_min       -12
_diffrn_reflns_number            1217
_diffrn_reflns_theta_full        20.32
_diffrn_reflns_theta_max         20.32
_diffrn_reflns_theta_min         1.93
_diffrn_source                   'Advanced Photon Source 13-BM-C'
_exptl_absorpt_coefficient_mu    22.052
_exptl_absorpt_correction_T_max  0.7333
_exptl_absorpt_correction_T_min  0.5124
_exptl_absorpt_correction_type   empirical
_exptl_absorpt_process_details
;
Dera, P. et al. High pressure single-crystal micro X-ray diffraction analysis with GSE_ADA/RSV software. High Pressure Research 33, 466-484 (2013).
;
_exptl_crystal_colour            'dark red'
_exptl_crystal_density_diffrn    7.360
_exptl_crystal_density_method    'not measured'
_exptl_crystal_description       plate-shaped
_exptl_crystal_F_000             3312
_exptl_crystal_size_max          0.035
_exptl_crystal_size_mid          0.024
_exptl_crystal_size_min          0.015
_refine_diff_density_max         3.742
_refine_diff_density_min         -2.645
_refine_diff_density_rms         0.501
_refine_ls_extinction_method     none
_refine_ls_goodness_of_fit_ref   1.119
_refine_ls_matrix_type           full
_refine_ls_number_parameters     35
_refine_ls_number_reflns         289
_refine_ls_number_restraints     13
_refine_ls_restrained_S_all      1.093
_refine_ls_R_factor_all          0.0464
_refine_ls_R_factor_gt           0.0464
_refine_ls_shift/su_max          0.000
_refine_ls_shift/su_mean         0.000
_refine_ls_structure_factor_coef Fsqd
_refine_ls_weighting_details
'calc w=1/[σ²(Fo²)+(0.0520P)²+360.1884P] where P=(Fo²+2Fc²)/3'
_refine_ls_weighting_scheme      calc
_refine_ls_wR_factor_gt          0.1134
_refine_ls_wR_factor_ref         0.1134
_reflns_number_gt                288
_reflns_number_total             289
_reflns_threshold_expression     >2sigma(I)
_cod_data_source_file            ja9b06794_si_002.cif
_cod_data_source_block           at19.2GPa
_cod_depositor_comments
;
The following automatic conversions were performed:

data name '_atom_site_symetry_multiplicity' was replaced with
'_atom_site_symmetry_multiplicity' as specified in the replacement
file
'/home/data/users/saulius/crontab/automatic-downloads/current/ACS/lib/lists/replacement-tags.lst'.

Automatic conversion script
Id: cif_correct_tags 6909 2019-04-08 15:41:33Z antanas 
;
_cod_original_sg_symbol_H-M      'R -3 m'
_cod_database_code               4128981
loop_
_symmetry_equiv_pos_as_xyz
'x, y, z'
'-y, x-y, z'
'-x+y, -x, z'
'y, x, -z'
'x-y, -y, -z'
'-x, -x+y, -z'
'x+2/3, y+1/3, z+1/3'
'-y+2/3, x-y+1/3, z+1/3'
'-x+y+2/3, -x+1/3, z+1/3'
'y+2/3, x+1/3, -z+1/3'
'x-y+2/3, -y+1/3, -z+1/3'
'-x+2/3, -x+y+1/3, -z+1/3'
'x+1/3, y+2/3, z+2/3'
'-y+1/3, x-y+2/3, z+2/3'
'-x+y+1/3, -x+2/3, z+2/3'
'y+1/3, x+2/3, -z+2/3'
'x-y+1/3, -y+2/3, -z+2/3'
'-x+1/3, -x+y+2/3, -z+2/3'
'-x, -y, -z'
'y, -x+y, -z'
'x-y, x, -z'
'-y, -x, z'
'-x+y, y, z'
'x, x-y, z'
'-x+2/3, -y+1/3, -z+1/3'
'y+2/3, -x+y+1/3, -z+1/3'
'x-y+2/3, x+1/3, -z+1/3'
'-y+2/3, -x+1/3, z+1/3'
'-x+y+2/3, y+1/3, z+1/3'
'x+2/3, x-y+1/3, z+1/3'
'-x+1/3, -y+2/3, -z+2/3'
'y+1/3, -x+y+2/3, -z+2/3'
'x-y+1/3, x+2/3, -z+2/3'
'-y+1/3, -x+2/3, z+2/3'
'-x+y+1/3, y+2/3, z+2/3'
'x+1/3, x-y+2/3, z+2/3'
loop_
_atom_site_label
_atom_site_type_symbol
_atom_site_fract_x
_atom_site_fract_y
_atom_site_fract_z
_atom_site_U_iso_or_equiv
_atom_site_adp_type
_atom_site_occupancy
_atom_site_symmetry_multiplicity
_atom_site_calc_flag
_atom_site_refinement_flags
_atom_site_disorder_group
Se1 Se 0.24415(10) 0.75585(10) 0.1159(2) 0.0155(5) Uani 1 2 d S .
Se2 Se 0.09178(11) 0.90822(11) 0.0978(2) 0.0171(5) Uani 1 2 d S .
Se3 Se -0.09261(10) 0.8148(2) 0.1885(2) 0.0147(5) Uani 1 2 d S .
I1 I 0.32558(12) 0.99225(12) 0.3333 0.0214(4) Uani 1 2 d S .
Cu1 Cu 0.1603(2) 0.8397(2) 0.2315(4) 0.0174(9) Uani 0.663(3) 2 d SPU 1
Cu2 Cu 0.0000 1.0000 0.3120(5) 0.0292(10) Uani 1.010(10) 6 d SPU 2
loop_
_atom_site_aniso_label
_atom_site_aniso_U_11
_atom_site_aniso_U_22
_atom_site_aniso_U_33
_atom_site_aniso_U_23
_atom_site_aniso_U_13
_atom_site_aniso_U_12
Se1 0.0106(7) 0.0106(7) 0.0244(13) 0.0020(5) -0.0020(5) 0.0045(9)
Se2 0.0101(7) 0.0101(7) 0.0275(14) -0.0028(5) 0.0028(5) 0.0025(8)
Se3 0.0104(7) 0.0135(11) 0.0211(13) 0.0038(9) 0.0019(4) 0.0068(5)
I1 0.0127(6) 0.0127(6) 0.0407(10) -0.0042(3) 0.0042(3) 0.0077(6)
Cu1 0.0170(10) 0.0170(10) 0.0178(13) 0.0000(6) 0.0000(6) 0.0084(9)
Cu2 0.0293(10) 0.0293(10) 0.0290(15) 0.000 0.000 0.0146(5)
loop_
_atom_type_symbol
_atom_type_description
_atom_type_scat_dispersion_real
_atom_type_scat_dispersion_imag
_atom_type_scat_source
Cu Cu 0.3240 0.8257 'International Tables Vol C Tables 4.2.6.8 and 6.1.1.4'
Se Se 0.2367 1.4831 'International Tables Vol C Tables 4.2.6.8 and 6.1.1.4'
I I -0.8919 1.1868 'International Tables Vol C Tables 4.2.6.8 and 6.1.1.4'
loop_
_geom_angle_atom_site_label_1
_geom_angle_atom_site_label_2
_geom_angle_atom_site_label_3
_geom_angle
_geom_angle_site_symmetry_1
_geom_angle_site_symmetry_3
Se1 Se1 Se1 94.44(15) 26_455 27
Se1 Se1 Cu1 90.95(13) 26_455 .
Se1 Se1 Cu1 90.95(13) 27 .
Se1 Se1 Cu2 91.12(10) 26_455 13_544
Se1 Se1 Cu2 91.12(10) 27 13_544
Cu1 Se1 Cu2 177.0(2) . 13_544
Cu1 Se2 Se3 87.00(13) . 2_675
Cu1 Se2 Se3 87.00(13) . .
Se3 Se2 Se3 99.83(16) 2_675 .
Se2 Se3 Se2 98.62(16) . 3_465
Se2 Se3 Cu2 85.53(11) . .
Se2 Se3 Cu2 85.53(11) 3_465 .
Cu1 I1 Cu1 63.1(2) 31_565 .
Se2 Cu1 Se1 95.8(2) . .
Se2 Cu1 I1 114.86(12) . 31_565
Se1 Cu1 I1 105.52(13) . 31_565
Se2 Cu1 I1 114.86(12) . .
Se1 Cu1 I1 105.53(13) . .
I1 Cu1 I1 116.9(2) 31_565 .
Se2 Cu1 Cu1 143.5(3) . 31_565
Se1 Cu1 Cu1 120.8(3) . 31_565
I1 Cu1 Cu1 58.44(10) 31_565 31_565
I1 Cu1 Cu1 58.44(10) . 31_565
Se3 Cu2 Se3 88.58(18) . 2_675
Se3 Cu2 Se3 88.58(18) . 3_465
Se3 Cu2 Se3 88.58(18) 2_675 3_465
Se3 Cu2 Se1 133.62(3) . 9_465
Se3 Cu2 Se1 76.51(8) 2_675 9_465
Se3 Cu2 Se1 133.62(3) 3_465 9_465
Se3 Cu2 Se1 76.51(8) . 8_565
Se3 Cu2 Se1 133.62(3) 2_675 8_565
Se3 Cu2 Se1 133.62(3) 3_465 8_565
Se1 Cu2 Se1 82.76(18) 9_465 8_565
Se3 Cu2 Se1 133.62(3) . 7_455
Se3 Cu2 Se1 133.62(3) 2_675 7_455
Se3 Cu2 Se1 76.51(8) 3_465 7_455
Se1 Cu2 Se1 82.76(18) 9_465 7_455
Se1 Cu2 Se1 82.76(18) 8_565 7_455
loop_
_geom_bond_atom_site_label_1
_geom_bond_atom_site_label_2
_geom_bond_distance
_geom_bond_site_symmetry_2
Se1 Se1 2.335(3) 26_455
Se1 Se1 2.335(3) 27
Se1 Cu1 2.335(5) .
Se1 Cu2 2.593(5) 13_544
Se2 Cu1 2.232(6) .
Se2 Se3 2.326(2) 2_675
Se2 Se3 2.326(2) .
Se3 Se2 2.326(2) 3_465
Se3 Cu2 2.549(4) .
I1 Cu1 2.389(3) 31_565
I1 Cu1 2.389(3) .
Cu1 I1 2.389(3) 31_565
Cu1 Cu1 2.501(10) 31_565
Cu2 Se3 2.549(4) 2_675
Cu2 Se3 2.549(4) 3_465
Cu2 Se1 2.593(5) 9_465
Cu2 Se1 2.593(5) 8_565
Cu2 Se1 2.593(5) 7_455
