#------------------------------------------------------------------------------
#$Date: 2019-11-25 10:15:33 +0100 (lun 25 de nov de 2019) $
#$Revision: 240735 $
#$URL: svn://www.crystallography.net/cod/cif/4/13/02/4130219.cif $
#------------------------------------------------------------------------------
#
# This file is available in the Crystallography Open Database (COD),
# http://www.crystallography.net/
#
# All data on this site have been placed in the public domain by the
# contributors.
#
data_4130219
loop_
_publ_author_name
'Savage, Mathew'
'da Silva, Ivan'
'Johnson, Mark'
'Carter, Joseph H.'
'Newby, Ruth'
'Suyetin, Mikhail'
'Besley, Elena'
'Manuel, Pascal'
'Rudić, Svemir'
'Fitch, Andrew N.'
'Murray, Claire'
'David, William I. F.'
'Yang, Sihai'
'Schröder, Martin'
_publ_section_title
;
 Observation of Binding and Rotation of Methane and Hydrogen within a
 Functional Metal-Organic Framework.
;
_journal_issue                   29
_journal_name_full               'Journal of the American Chemical Society'
_journal_page_first              9119
_journal_page_last               9127
_journal_paper_doi               10.1021/jacs.6b01323
_journal_volume                  138
_journal_year                    2016
_chemical_formula_moiety         '0.5(C16 H8 In2 O10), 2.99(D2)'
_chemical_formula_structural     '0.5[In2(O H)2(C16 H6 O8)] 2.99(D2)'
_chemical_formula_sum            'C8 H4 D5.98 In O5'
_chemical_formula_weight         306.95
_chemical_name_common            'MFM-300 (In) 2.99 D2'
_space_group_IT_number           98
_space_group_name_Hall           'I 4bw 2bw'
_space_group_name_H-M_alt        'I 41 2 2'
_symmetry_cell_setting           tetragonal
_symmetry_Int_Tables_number      98
_symmetry_space_group_name_Hall  'I 4bw 2bw'
_symmetry_space_group_name_H-M   'I 41 2 2'
_cell_angle_alpha                90
_cell_angle_beta                 90
_cell_angle_gamma                90
_cell_formula_units_Z            8
_cell_length_a                   15.48888(13)
_cell_length_b                   15.48888(13)
_cell_length_c                   12.30827(19)
_cell_measurement_temperature    7
_cell_volume                     2952.82(6)
_computing_cell_refinement       'Bruker Topas 4.2'
_computing_data_reduction        'Bruker Topas 4.2'
_computing_molecular_graphics    'CrystalImpact Diamond 3.2'
_computing_structure_refinement  'Bruker Topas 4.2'
_computing_structure_solution    'Bruker Topas 4.2'
_diffrn_ambient_temperature      7
_diffrn_detector                 '1520 pixellated 3He tubes'
_diffrn_measurement_device_type  'ISIS WISH diffractometer'
_diffrn_radiation_probe          neutron
_diffrn_radiation_type           neutron
_diffrn_source                   'ISIS TS2'
_diffrn_source_type              'ISIS WISH diffractometer'
_pd_char_colour                  'white powder'
_pd_instr_dist_spec/detc         2200
_pd_instr_dist_src/spec          40000
_pd_instr_location
; 
WISH is situated on E8 of the second target station of the ISIS neutron source,
located at the Rutherford Appleton Laboratory, Didcot, UK.
;
_pd_meas_2theta_fixed            10-70
_pd_meas_scan_method             tof
_pd_proc_ls_prof_R_factor        1.46727657
_pd_proc_ls_prof_wR_expected     0.365973349
_pd_proc_ls_prof_wR_factor       1.52988261
_pd_spec_mounting
;                                       
ISIS vanadium sample can equipped with gas handling equipment 
and cartridge heaters, sealed with compressed indium wire.
;
_pd_spec_mount_mode              transmission
_pd_spec_shape                   cylinder
_pd_spec_size_axial              '65 mm'
_pd_spec_size_thick              '8 mm'
_refine_ls_goodness_of_fit_all   4.18031152
_cod_data_source_file            ja6b01323_si_003.cif
_cod_data_source_block           MFM_300_In_2.99_D2
_cod_original_cell_volume        2952.82(7)
_cod_database_code               4130219
loop_
_symmetry_equiv_pos_site_id
_symmetry_equiv_pos_as_xyz
1 x,y,z
2 -y,1/2+x,1/4+z
3 1/2-x,1/2-y,1/2+z
4 1/2+y,-x,3/4+z
5 x,1/2-y,1/4-z
6 1/2+y,1/2+x,1/2-z
7 1/2-x,y,3/4-z
8 -y,-x,-z
9 1/2+x,1/2+y,1/2+z
10 1/2-y,x,3/4+z
11 -x,-y,z
12 y,1/2-x,1/4+z
13 1/2+x,-y,3/4-z
14 y,x,-z
15 -x,1/2+y,1/4-z
16 1/2-y,1/2-x,1/2-z
loop_
_atom_site_label
_atom_site_type_symbol
_atom_site_thermal_displace_type
_atom_site_fract_x
_atom_site_fract_y
_atom_site_fract_z
_atom_site_occupancy
_atom_site_U_iso_or_equiv
In In Uiso 0.6842(3) 0.3158(3) 0.50000 1.000 0.036(3)
O1 O Uiso 0.7608(3) 0.25000 0.62500 1.000 0.0514(11)
O2 O Uiso 0.6118(5) 0.3797(5) 0.6166(4) 1.000 0.0514(11)
O3 O Uiso 0.5924(5) 0.2934(3) 0.7531(5) 1.000 0.0514(11)
C1 C Uiso 0.5846(4) 0.3642(3) 0.7087(3) 1.000 0.0376(8)
C2 C Uiso 0.54133(14) 0.43280(12) 0.7676(3) 1.000 0.0376(8)
C3 C Uiso 0.50000 0.50000 0.7103(3) 1.000 0.0376(8)
C4 C Uiso 0.54133(14) 0.43280(12) 0.8823(2) 1.000 0.0376(8)
C5 C Uiso 0.50000 0.50000 0.93958(19) 1.000 0.0376(8)
H1 H Uiso 0.8189(7) 0.25000 0.62500 1.000 0.0514(11)
H3 H Uiso 0.50000 0.50000 0.6250(6) 1.000 0.0376(8)
H4 H Uiso 0.5721(3) 0.3828(3) 0.9249(3) 1.000 0.0376(8)
D2_1 D Uiso 0.4704(4) 0.7560(6) 0.1852(6) 0.920(10) 0.176(5)
D2_2 D Uiso 0.6186(5) 0.6186(5) 0.50000 1.44(2) 0.380(11)
D2_3 D Uiso 0.75000 0.9057(9) 0.87500 1.09(3) 0.367(15)
D2_4 D Uiso 0.7350(7) 0.5640(6) 0.7024(10) 0.804(17) 0.277(10)
loop_
_geom_angle_atom_site_label_1
_geom_angle_atom_site_label_2
_geom_angle_atom_site_label_3
_geom_angle
_geom_angle_site_symmetry_1
_geom_angle_site_symmetry_3
_geom_angle_publ_flag
O1 In O2 91.65(19) . . yes
O1 In O1 89.39(19) . 4_564 yes
O1 In O3 82.7(2) . 4_564 yes
O1 In O3 90.3(2) . 5_556 yes
O1 In O2 174.3(3) . 8_666 yes
O1 In O2 174.3(3) 4_564 . yes
O2 In O3 95.4(3) . 4_564 yes
O2 In O3 91.7(3) . 5_556 yes
O2 In O2 87.9(3) . 8_666 yes
O1 In O3 90.3(2) 4_564 4_564 yes
O1 In O3 82.7(2) 4_564 5_556 yes
O1 In O2 91.65(19) 4_564 8_666 yes
O3 In O3 170.1(3) 4_564 5_556 yes
O2 In O3 91.7(3) 8_666 4_564 yes
O2 In O3 95.4(3) 8_666 5_556 yes
In O1 In 114.5(3) . 2_645 yes
In O2 C1 136.8(6) . . yes
In O3 C1 137.5(6) 2_645 . yes
In O1 H1 122.74(15) . . no
In O1 H1 122.74(15) 2_645 . no
O2 C1 O3 123.2(6) . . yes
O2 C1 C2 118.4(5) . . yes
O3 C1 C2 118.4(4) . . yes
C1 C2 C3 120.0(3) . . no
C3 C2 C4 120.0(2) . . no
C1 C2 C4 120.0(2) . . no
C2 C3 C2 120.0(3) . 11_665 no
C2 C4 C5 119.98(19) . . no
C4 C5 C5 119.98(13) 11_665 8_667 no
C4 C5 C5 119.98(13) . 8_667 no
C4 C5 C4 120.0(2) . 11_665 no
C2 C3 H3 119.99(19) . . no
C2 C3 H3 119.99(19) 11_665 . no
C2 C4 H4 120.0(3) . . no
C5 C4 H4 120.1(3) . . no
loop_
_geom_bond_atom_site_label_1
_geom_bond_atom_site_label_2
_geom_bond_distance
_geom_bond_site_symmetry_2
_geom_bond_publ_flag
In O1 2.194(4) . yes
In O2 2.073(7) . yes
In O1 2.194(4) 4_564 yes
In O3 2.210(8) 4_564 yes
In O3 2.210(8) 5_556 yes
In O2 2.073(7) 8_666 yes
O2 C1 1.233(7) . yes
O3 C1 1.231(7) . yes
O1 H1 0.900(12) . no
C1 C2 1.450(5) . no
C2 C3 1.411(3) . no
C2 C4 1.412(4) . no
C4 C5 1.411(2) . no
C5 C5 1.487(3) 8_667 no
C3 H3 1.050(8) . no
C4 H4 1.050(5) . no
loop_
_geom_torsion_atom_site_label_1
_geom_torsion_atom_site_label_2
_geom_torsion_atom_site_label_3
_geom_torsion_atom_site_label_4
_geom_torsion
_geom_torsion_site_symmetry_1
_geom_torsion_site_symmetry_4
_geom_torsion_publ_flag
O1 In O2 C1 -33.5(9) . . no
O3 In O2 C1 -116.3(8) 4_564 . no
O3 In O2 C1 56.9(9) 5_556 . no
O2 In O2 C1 152.3(8) 8_666 . no
In O2 C1 O3 -5.7(13) . . no
In O2 C1 C2 174.3(5) . . no
In O3 C1 O2 29.8(11) 2_645 . no
In O3 C1 C2 -150.2(5) 2_645 . no
O2 C1 C2 C3 25.9(7) . . no
O2 C1 C2 C4 -153.5(5) . . no
O3 C1 C2 C3 -154.2(5) . . no
O3 C1 C2 C4 26.5(7) . . no
C1 C2 C3 C2 -179.4(3) . 11_665 no
C4 C2 C3 C2 0.0(2) . 11_665 no
C1 C2 C4 C5 179.4(3) . . no
C3 C2 C4 C5 0.0(3) . . no
C2 C4 C5 C5 -180.00(14) . 8_667 no
C2 C4 C5 C4 0.0(3) . 11_665 no
