#------------------------------------------------------------------------------
#$Date: 2016-03-22 23:16:49 +0100 (mar 22 de mar de 2016) $
#$Revision: 179102 $
#$URL: svn://www.crystallography.net/cod/cif/4/30/64/4306443.cif $
#------------------------------------------------------------------------------
#
# This file is available in the Crystallography Open Database (COD),
# http://www.crystallography.net/
#
# All data on this site have been placed in the public domain by the
# contributors.
#
data_4306443
loop_
_publ_author_name
'Carsten Knapp'
'Paul G. Watson'
'Enno Lork'
'Daniel H. Friese'
'Rüdiger Mews'
'Andreas Decken'
_publ_contact_author_address
;
Institut für Anorganische und Analytische Chemie
Albert-Ludwigs Universität Freiburg
Albertstr. 21
79104 Freiburg i. Br.
Germany
;
_publ_contact_author_email       carsten.knapp@ac.uni-freiburg.de
_publ_contact_author_fax         +49-761-203-6150
_publ_contact_author_name        'Carsten Knapp'
_publ_contact_author_phone       +49-761-203-6001
_publ_section_title
;
Trithiatetrazocine Cations, [RCN4S3]+; Planar Sulfur-Nitrogen 10π
Aromatics
;
_journal_name_full               'Inorganic Chemistry'
_journal_page_first              10618
_journal_page_last               10625
_journal_paper_doi               10.1021/ic801253f
_journal_volume                  47
_journal_year                    2008
_chemical_formula_moiety         'C14 H8 F2 N3 S, As F6'
_chemical_formula_sum            'C14 H8 As F8 N3 S'
_chemical_formula_weight         477.21
_chemical_name_systematic
;
 ?
;
_space_group_IT_number           15
_symmetry_cell_setting           monoclinic
_symmetry_space_group_name_Hall  '-C 2yc'
_symmetry_space_group_name_H-M   'C 1 2/c 1'
_atom_sites_solution_hydrogens   geom
_atom_sites_solution_primary     direct
_atom_sites_solution_secondary   difmap
_audit_creation_method           SHELXL-97
_cell_angle_alpha                90.00
_cell_angle_beta                 114.69(4)
_cell_angle_gamma                90.00
_cell_formula_units_Z            4
_cell_length_a                   18.123(5)
_cell_length_b                   12.755(5)
_cell_length_c                   7.894(4)
_cell_measurement_reflns_used    29
_cell_measurement_temperature    173(2)
_cell_measurement_theta_max      12.52
_cell_measurement_theta_min      4.02
_cell_volume                     1657.9(13)
_computing_cell_refinement       'Bruker XSCANS'
_computing_data_collection       'Bruker XSCANS'
_computing_data_reduction        'Bruker SHELXTL'
_computing_molecular_graphics    'DIAMOND, Crystal Impact'
_computing_publication_material  'Bruker SHELXTL'
_computing_structure_refinement  'SHELXL-97 (Sheldrick, 1997)'
_computing_structure_solution    'SHELXS-97 (Sheldrick, 1990)'
_diffrn_ambient_temperature      173(2)
_diffrn_measured_fraction_theta_full 0.990
_diffrn_measured_fraction_theta_max 0.990
_diffrn_measurement_device_type  'Siemens P4'
_diffrn_measurement_method       '2θ/ω scans'
_diffrn_radiation_monochromator  graphite
_diffrn_radiation_source         'normal-focus sealed tube'
_diffrn_radiation_type           MoK\a
_diffrn_radiation_wavelength     0.71073
_diffrn_reflns_av_R_equivalents  0.0317
_diffrn_reflns_av_sigmaI/netI    0.0496
_diffrn_reflns_limit_h_max       23
_diffrn_reflns_limit_h_min       -22
_diffrn_reflns_limit_k_max       16
_diffrn_reflns_limit_k_min       -16
_diffrn_reflns_limit_l_max       1
_diffrn_reflns_limit_l_min       -9
_diffrn_reflns_number            4486
_diffrn_reflns_theta_full        27.51
_diffrn_reflns_theta_max         27.51
_diffrn_reflns_theta_min         3.04
_diffrn_standards_decay_%        'random variation +/-2.0'
_diffrn_standards_interval_count 197
_diffrn_standards_number         3
_exptl_absorpt_coefficient_mu    2.265
_exptl_absorpt_correction_T_max  0.8006
_exptl_absorpt_correction_T_min  0.1698
_exptl_absorpt_correction_type   refdelf
_exptl_absorpt_process_details   'Stuart & Walker, Acta Cryst A, 1983'
_exptl_crystal_colour            orange
_exptl_crystal_density_diffrn    1.912
_exptl_crystal_density_method    'not measured'
_exptl_crystal_description       'bladed habit'
_exptl_crystal_F_000             936
_exptl_crystal_size_max          0.9
_exptl_crystal_size_mid          0.4
_exptl_crystal_size_min          0.1
_refine_diff_density_max         0.874
_refine_diff_density_min         -0.597
_refine_diff_density_rms         0.094
_refine_ls_extinction_method     none
_refine_ls_goodness_of_fit_ref   1.010
_refine_ls_hydrogen_treatment    refU
_refine_ls_matrix_type           full
_refine_ls_number_parameters     125
_refine_ls_number_reflns         1902
_refine_ls_number_restraints     0
_refine_ls_restrained_S_all      1.010
_refine_ls_R_factor_all          0.0596
_refine_ls_R_factor_gt           0.0441
_refine_ls_shift/su_max          0.000
_refine_ls_shift/su_mean         0.000
_refine_ls_structure_factor_coef Fsqd
_refine_ls_weighting_details
'calc w=1/[σ²(Fo²)+(0.0704P)²+0.3084P] where P=(Fo²+2Fc²)/3'
_refine_ls_weighting_scheme      calc
_refine_ls_wR_factor_gt          0.1080
_refine_ls_wR_factor_ref         0.1158
_reflns_number_gt                1540
_reflns_number_total             1902
_reflns_threshold_expression     >2σ(I)
_cod_data_source_file            ic801253f_si_002_6.cif
_cod_data_source_block           3e
_cod_depositor_comments
;
The following automatic conversions were performed:
'_symmetry_cell_setting' value 'Monoclinic' changed to 'monoclinic'
according to '/home/saulius/struct/CIF-dictionaries/cif_core.dic'
dictionary named 'cif_core.dic' version 2.4.1 from
2010-06-29.

'_exptl_absorpt_correction_type' value 'refdelF' changed to
'refdelf' according to
'/home/saulius/struct/CIF-dictionaries/cif_core.dic' dictionary named
'cif_core.dic' version 2.4.1 from 2010-06-29.

Automatic conversion script
Id: cif_fix_enum 1527 2010-12-29 10:47:43Z saulius 
;
_cod_original_cell_volume        1658.0(13)
_cod_original_sg_symbol_H-M      'C 2/c'
_cod_database_code               4306443
loop_
_symmetry_equiv_pos_as_xyz
'x, y, z'
'-x, y, -z+1/2'
'x+1/2, y+1/2, z'
'-x+1/2, y+1/2, -z+1/2'
'-x, -y, -z'
'x, -y, z-1/2'
'-x+1/2, -y+1/2, -z'
'x+1/2, -y+1/2, z-1/2'
loop_
_atom_site_label
_atom_site_type_symbol
_atom_site_fract_x
_atom_site_fract_y
_atom_site_fract_z
_atom_site_U_iso_or_equiv
_atom_site_adp_type
_atom_site_occupancy
_atom_site_symmetry_multiplicity
_atom_site_calc_flag
_atom_site_refinement_flags
_atom_site_disorder_assembly
_atom_site_disorder_group
S1 S 0.5000 0.83685(9) 0.7500 0.0339(3) Uani 1 2 d S . .
N1 N 0.42133(19) 0.7695(2) 0.6903(4) 0.0360(7) Uani 1 1 d . . .
C1 C 0.4305(2) 0.6631(2) 0.7144(5) 0.0299(7) Uani 1 1 d . . .
N2 N 0.5000 0.6127(3) 0.7500 0.0298(8) Uani 1 2 d S . .
C2 C 0.36059(19) 0.5998(3) 0.6944(4) 0.0292(7) Uani 1 1 d . . .
C3 C 0.2881(2) 0.6413(3) 0.6896(5) 0.0356(8) Uani 1 1 d . . .
F1 F 0.28013(14) 0.74458(16) 0.7035(4) 0.0525(6) Uani 1 1 d . . .
C4 C 0.2243(2) 0.5792(3) 0.6764(5) 0.0419(8) Uani 1 1 d . . .
H4 H 0.1764 0.6099 0.6760 0.044(5) Uiso 1 1 calc R . .
C5 C 0.2299(2) 0.4717(3) 0.6638(6) 0.0447(9) Uani 1 1 d . . .
H5 H 0.1854 0.4283 0.6518 0.044(5) Uiso 1 1 calc R . .
C6 C 0.3007(2) 0.4270(3) 0.6687(6) 0.0434(9) Uani 1 1 d . . .
H6 H 0.3049 0.3530 0.6620 0.044(5) Uiso 1 1 calc R . .
C7 C 0.3650(2) 0.4900(3) 0.6833(6) 0.0384(8) Uani 1 1 d . . .
H7 H 0.4131 0.4588 0.6858 0.044(5) Uiso 1 1 calc R . .
As1 As 0.5000 0.19550(4) 0.7500 0.03058(18) Uani 1 2 d S . .
F2 F 0.50937(19) 0.29100(17) 0.6074(3) 0.0608(7) Uani 1 1 d . . .
F3 F 0.5099(2) 0.10097(19) 0.6077(4) 0.0776(9) Uani 1 1 d . . .
F4 F 0.60127(17) 0.1978(3) 0.8814(5) 0.0885(11) Uani 1 1 d . . .
loop_
_atom_site_aniso_label
_atom_site_aniso_U_11
_atom_site_aniso_U_22
_atom_site_aniso_U_33
_atom_site_aniso_U_23
_atom_site_aniso_U_13
_atom_site_aniso_U_12
S1 0.0436(7) 0.0240(5) 0.0367(6) 0.000 0.0193(6) 0.000
N1 0.0406(17) 0.0282(14) 0.0403(17) 0.0031(12) 0.0181(15) 0.0015(12)
C1 0.0333(17) 0.0270(15) 0.0294(16) 0.0020(12) 0.0131(14) 0.0031(12)
N2 0.033(2) 0.0255(18) 0.031(2) 0.000 0.0136(18) 0.000
C2 0.0279(16) 0.0297(16) 0.0271(16) 0.0007(13) 0.0087(14) 0.0006(13)
C3 0.0342(19) 0.0343(17) 0.037(2) 0.0021(15) 0.0138(17) 0.0075(14)
F1 0.0470(14) 0.0366(12) 0.0786(18) -0.0061(12) 0.0311(13) 0.0067(10)
C4 0.0279(17) 0.049(2) 0.047(2) 0.0058(17) 0.0144(16) 0.0078(15)
C5 0.0317(19) 0.049(2) 0.048(2) 0.0049(18) 0.0120(18) -0.0080(16)
C6 0.041(2) 0.0324(18) 0.056(2) 0.0015(17) 0.0193(19) -0.0039(15)
C7 0.0345(19) 0.0319(17) 0.047(2) 0.0041(15) 0.0157(17) 0.0040(14)
As1 0.0334(3) 0.0295(3) 0.0297(3) 0.000 0.0140(2) 0.000
F2 0.102(2) 0.0426(13) 0.0418(14) 0.0001(10) 0.0342(15) -0.0164(13)
F3 0.152(3) 0.0392(13) 0.0642(17) -0.0023(12) 0.068(2) 0.0118(16)
F4 0.0411(15) 0.117(3) 0.086(2) 0.0097(18) 0.0057(16) 0.0141(16)
loop_
_atom_type_symbol
_atom_type_description
_atom_type_scat_dispersion_real
_atom_type_scat_dispersion_imag
_atom_type_scat_source
C C 0.0033 0.0016 'International Tables Vol C Tables 4.2.6.8 and 6.1.1.4'
H H 0.0000 0.0000 'International Tables Vol C Tables 4.2.6.8 and 6.1.1.4'
N N 0.0061 0.0033 'International Tables Vol C Tables 4.2.6.8 and 6.1.1.4'
F F 0.0171 0.0103 'International Tables Vol C Tables 4.2.6.8 and 6.1.1.4'
S S 0.1246 0.1234 'International Tables Vol C Tables 4.2.6.8 and 6.1.1.4'
As As 0.0499 2.0058 'International Tables Vol C Tables 4.2.6.8 and 6.1.1.4'
loop_
_geom_angle_atom_site_label_1
_geom_angle_atom_site_label_2
_geom_angle_atom_site_label_3
_geom_angle
_geom_angle_site_symmetry_1
_geom_angle_site_symmetry_3
_geom_angle_publ_flag
N1 S1 N1 113.2(2) . 2_656 ?
C1 N1 S1 117.4(3) . . ?
N2 C1 N1 123.7(3) . . ?
N2 C1 C2 117.3(3) . . ?
N1 C1 C2 119.0(3) . . ?
C1 N2 C1 122.4(4) 2_656 . ?
C3 C2 C7 116.8(3) . . ?
C3 C2 C1 123.9(3) . . ?
C7 C2 C1 119.3(3) . . ?
F1 C3 C4 117.4(3) . . ?
F1 C3 C2 120.1(3) . . ?
C4 C3 C2 122.4(3) . . ?
C3 C4 C5 119.6(3) . . ?
C4 C5 C6 120.0(3) . . ?
C7 C6 C5 120.1(3) . . ?
C6 C7 C2 121.1(3) . . ?
F4 As1 F4 178.0(2) . 2_656 ?
F4 As1 F3 91.73(17) . . ?
F4 As1 F3 89.69(17) 2_656 . ?
F4 As1 F3 89.69(17) . 2_656 ?
F4 As1 F3 91.73(18) 2_656 2_656 ?
F3 As1 F3 90.18(17) . 2_656 ?
F4 As1 F2 87.96(17) . 2_656 ?
F4 As1 F2 90.60(16) 2_656 2_656 ?
F3 As1 F2 179.53(14) . 2_656 ?
F3 As1 F2 90.18(12) 2_656 2_656 ?
F4 As1 F2 90.60(16) . . ?
F4 As1 F2 87.96(17) 2_656 . ?
F3 As1 F2 90.18(12) . . ?
F3 As1 F2 179.53(14) 2_656 . ?
F2 As1 F2 89.47(16) 2_656 . ?
loop_
_geom_bond_atom_site_label_1
_geom_bond_atom_site_label_2
_geom_bond_distance
_geom_bond_site_symmetry_2
_geom_bond_publ_flag
S1 N1 1.559(3) . ?
S1 N1 1.559(3) 2_656 ?
N1 C1 1.372(4) . ?
C1 N2 1.335(4) . ?
C1 C2 1.454(4) . ?
N2 C1 1.335(4) 2_656 ?
C2 C3 1.403(4) . ?
C2 C7 1.407(4) . ?
C3 F1 1.335(4) . ?
C3 C4 1.369(5) . ?
C4 C5 1.382(5) . ?
C5 C6 1.390(5) . ?
C6 C7 1.381(5) . ?
As1 F4 1.690(3) . ?
As1 F4 1.690(3) 2_656 ?
As1 F3 1.708(2) . ?
As1 F3 1.708(2) 2_656 ?
As1 F2 1.715(2) 2_656 ?
As1 F2 1.715(2) . ?
loop_
_geom_torsion_atom_site_label_1
_geom_torsion_atom_site_label_2
_geom_torsion_atom_site_label_3
_geom_torsion_atom_site_label_4
_geom_torsion
_geom_torsion_site_symmetry_1
_geom_torsion_site_symmetry_2
_geom_torsion_site_symmetry_3
_geom_torsion_site_symmetry_4
_geom_torsion_publ_flag
N1 S1 N1 C1 6.3(2) 2_656 . . . ?
S1 N1 C1 N2 -13.7(4) . . . . ?
S1 N1 C1 C2 168.4(2) . . . . ?
N1 C1 N2 C1 7.5(2) . . . 2_656 ?
C2 C1 N2 C1 -174.5(3) . . . 2_656 ?
N2 C1 C2 C3 168.4(3) . . . . ?
N1 C1 C2 C3 -13.6(5) . . . . ?
N2 C1 C2 C7 -10.1(5) . . . . ?
N1 C1 C2 C7 167.9(3) . . . . ?
C7 C2 C3 F1 178.6(3) . . . . ?
C1 C2 C3 F1 0.1(5) . . . . ?
C7 C2 C3 C4 0.6(5) . . . . ?
C1 C2 C3 C4 -177.9(3) . . . . ?
F1 C3 C4 C5 -179.3(3) . . . . ?
C2 C3 C4 C5 -1.2(6) . . . . ?
C3 C4 C5 C6 1.4(6) . . . . ?
C4 C5 C6 C7 -1.0(6) . . . . ?
C5 C6 C7 C2 0.4(6) . . . . ?
C3 C2 C7 C6 -0.1(6) . . . . ?
C1 C2 C7 C6 178.4(3) . . . . ?
