#------------------------------------------------------------------------------
#$Date: 2016-03-23 02:32:24 +0100 (Wed 23 de Mar de 2016) $
#$Revision: 179250 $
#$URL: svn://www.crystallography.net/cod/cif/4/31/70/4317045.cif $
#------------------------------------------------------------------------------
#
# This file is available in the Crystallography Open Database (COD),
# http://www.crystallography.net/
#
# All data on this site have been placed in the public domain by the
# contributors.
#
data_4317045
loop_
_publ_author_name
'Lyudmyla I. Ardanova'
'Evgeni I. Get'man'
'Stanislav N. Loboda'
'Vadim V. Prisedsky'
'Tatiana V. Tkachenko'
'Valeriy I. Marchenko'
'Valeriy P. Antonovich'
'Nataliya A. Chivireva'
'Konstantin A. Chebishev'
'Alexandra S. Lyashenko'
_publ_contact_author_address
; Department of Chemistry and Geology, 
  Minnesota State University, Mankato, 
  241 Ford Hall, Mankato 56001, USA
;
_publ_contact_author_email       lyudmyla.ardanova@mnsu.edu
_publ_contact_author_fax         507-389-5625
_publ_contact_author_name        'Ardanova Lyudmyla'
_publ_contact_author_phone       507-389-1999
_publ_section_title
;
 Isomorphous Substitutions of Rare Earth Elements for Calcium in Synthetic
 Hydroxyapatites
;
_journal_name_full               'Inorganic Chemistry'
_journal_page_first              10687
_journal_page_last               10693
_journal_paper_doi               10.1021/ic1015127
_journal_volume                  49
_journal_year                    2010
_chemical_formula_sum            'Ca9.8 H1.8 O26 P6 Tm0.2'
_chemical_formula_weight         1030.24
_space_group_IT_number           176
_symmetry_cell_setting           hexagonal
_symmetry_space_group_name_Hall  '-P 6c'
_symmetry_space_group_name_H-M   'P 63/m'
_cell_angle_alpha                90.00000
_cell_angle_beta                 90.00000
_cell_angle_gamma                120.00000
_cell_formula_units_Z            1
_cell_length_a                   9.40876(18)
_cell_length_b                   9.40876(18)
_cell_length_c                   6.87124(15)
_cell_measurement_temperature    296
_cell_volume                     526.782(18)
_computing_structure_refinement  FULLPROF
_diffrn_ambient_temperature      296
_diffrn_detector                 'scintillation type'
_diffrn_measurement_device_type  'Powder diffractometer DRON-2'
_diffrn_measurement_method       'profile data from θ/2θ scans'
_diffrn_radiation_monochromator  No
_diffrn_radiation_type           'Cu K\a'
_diffrn_radiation_wavelength     1.54180
_diffrn_source                   'X-ray tube'
_diffrn_source_target            Cu
_exptl_crystal_density_diffrn    3.25
_pd_char_colour                  white
_pd_meas_2theta_range_inc        0.050000
_pd_meas_2theta_range_max        140.00000
_pd_meas_2theta_range_min        15.00000
_pd_meas_number_of_points        2501
_pd_meas_scan_method             step
_pd_prep_temperature             1373
_pd_proc_2theta_range_inc        0.050000
_pd_proc_2theta_range_max        140.0000
_pd_proc_2theta_range_min        15.0000
_pd_proc_ls_background_function  '5th order polynomial function'
_pd_proc_ls_profile_function     'pseudo-Voigt function'
_pd_proc_ls_prof_R_factor        6.7683
_pd_proc_ls_prof_wR_expected     6.1220
_pd_proc_ls_prof_wR_factor       8.6711
_pd_proc_wavelength              1.54180
_refine_ls_goodness_of_fit_all   1.4164
_refine_ls_hydrogen_treatment    noref
_refine_ls_number_parameters     36
_refine_ls_number_reflns         772
_refine_ls_number_restraints     0
_refine_ls_R_I_factor            8.4059
_cod_data_source_file            ic1015127_si_001_3.cif
_cod_data_source_block           2#Ca9.8Tm0.2(PO4)6(OH)1.8O0.2
_cod_depositor_comments
;
The following automatic conversions were performed:

'_symmetry_cell_setting' value 'Hexagonal' changed to 'hexagonal'
according to the built-in table from CIF Core dictionary named
'cif_core.dic' version 2.4.1 from 2010-06-29.

Automatic conversion script
Id: cif_fix_values 1646 2011-03-28 12:23:43Z adriana 
;
_cod_database_code               4317045
loop_
_symmetry_equiv_pos_as_xyz
x,y,z
x-y,x,z+1/2
-y,x-y,z
-x,-y,z+1/2
-x+y,-x,z
y,-x+y,z+1/2
-x,-y,-z
-x+y,-x,-z+1/2
y,-x+y,-z
x,y,-z+1/2
x-y,x,-z
-y,x-y,-z+1/2
loop_
_atom_site_label
_atom_site_fract_x
_atom_site_fract_y
_atom_site_fract_z
_atom_site_U_iso_or_equiv
_atom_site_occupancy
_atom_site_adp_type
_atom_site_type_symbol
Ca1 0.66670 0.33330 -0.0032(6) 0.739(69) 0.9933(15) Uiso Ca
Tm1 0.66670 0.33330 -0.0032(6) 0.739(69) 0.0067(15) Uiso Tm
Ca2 0.2428(3) 0.9919(4) 0.25000 0.452(50) 0.971(1) Uiso Ca
Tm2 0.2428(3) 0.9919(4) 0.25000 0.452(50) 0.029(1) Uiso Tm
P 0.3996(4) 0.3695(4) 0.25000 0.545(76) 1.000 Uiso P
O1 0.3280(9) 0.4885(9) 0.25000 1.519(219) 1.000 Uiso O
O2 0.5871(9) 0.4672(9) 0.25000 1.246(211) 1.000 Uiso O
O3 0.3435(7) 0.2583(7) 0.0626(7) 2.227(164) 1.000 Uiso O
O4 0.00000 0.00000 0.182(2) 2.437(467) 0.050 Uiso O
OH 0.00000 0.00000 0.182(2) 2.437(467) 0.450 Uiso O
loop_
_atom_type_symbol
_atom_type_scat_Cromer_Mann_a1
_atom_type_scat_Cromer_Mann_b1
_atom_type_scat_Cromer_Mann_a2
_atom_type_scat_Cromer_Mann_b2
_atom_type_scat_Cromer_Mann_a3
_atom_type_scat_Cromer_Mann_b3
_atom_type_scat_Cromer_Mann_a4
_atom_type_scat_Cromer_Mann_b4
_atom_type_scat_Cromer_Mann_c
_atom_type_scat_dispersion_real
_atom_type_scat_dispersion_imag
_atom_type_scat_source
Ca+2 15.63480 -0.00740 7.95180 0.60890 8.43720 10.31160 0.85370 25.99050
-14.87500 0.34100 1.28600
International_Tables_Vol.C(1991)_Tables_6.1.1.4_and_6.1.1.5
P 6.43450 1.90670 4.17910 27.15700 1.78000 0.52600 1.49080 68.16450 1.11490
0.28300 0.43400 International_Tables_Vol.C(1991)_Tables_6.1.1.4_and_6.1.1.5
O-2 4.75800 7.83100 3.63700 30.05000 0.00000 0.00000 0.00000 0.00000 1.59400
0.04700 0.03200 International_Tables_Vol.C(1991)_Tables_6.1.1.4_and_6.1.1.5
O-1 4.19160 12.85730 1.63970 4.17240 1.52670 47.01790 -20.30700 -0.01400
21.94120 0.04700 0.03200
International_Tables_Vol.C(1991)_Tables_6.1.1.4_and_6.1.1.5
loop_
_geom_bond_atom_site_label_1
_geom_bond_atom_site_label_2
_geom_bond_distance
_geom_bond_site_symmetry_2
_geom_bond_publ_flag
Ca1 O1 2.367(7) 2_654 ?
Ca1 O1 2.368(7) 4_664 ?
Ca1 O1 2.367(5) 6_554 ?
Ca1 O2 2.474(8) . ?
Ca1 O2 2.473(6) 3_655 ?
Ca1 O2 2.473(6) 5_665 ?
Ca1 O3 2.794(7) . ?
Ca1 O3 2.793(8) 3_655 ?
Ca1 O3 2.793(5) 5_665 ?
Ca2 O1 2.708(8) 5_565 ?
Ca2 O2 2.369(10) 3_665 ?
Ca2 O3 2.542(6) 1_565 ?
Ca2 O3 2.295(5) 6_565 ?
Ca2 O3 2.295(5) 9_565 ?
Ca2 O3 2.542(6) 10_565 ?
Ca2 O4 2.371(4) 1_565 ?
Ca2 O4 2.371(4) 8_565 ?
P O1 1.569(10) . ?
P O2 1.528(10) . ?
P O3 1.575(6) . ?
P O3 1.575(6) 10_555 ?
O4 O3 3.027(7) . ?
O4 O3 3.027(8) 3_555 ?
O4 O3 3.027(8) 5_555 ?
