#------------------------------------------------------------------------------
#$Date: 2018-10-05 14:19:55 +0200 (vie 05 de oct de 2018) $
#$Revision: 211332 $
#$URL: svn://www.crystallography.net/cod/cif/4/32/32/4323295.cif $
#------------------------------------------------------------------------------
#
# This file is available in the Crystallography Open Database (COD),
# http://www.crystallography.net/
#
# All data on this site have been placed in the public domain by the
# contributors.
#
data_4323295
loop_
_publ_author_name
'Wolfgang A. Herrmann'
'William A. Wojtczak'
'Georg R. J. Artus'
'Fritz E. Kühn'
'Mike R. Mattner'
_publ_contact_author
;                                                                               
       Georg Artus                                                     
       Anorganisch-chemisches Institut der                                      
       Technischen Universität München                                      
       Lichtenbergstrasse 4                                                     
       D-85747 Garching                                                         
;
_publ_contact_author_email       'artus@zaphod.anorg.chemie.tu-muenchen.de '
_publ_contact_author_fax         ' 089 3209 3473 '
_publ_contact_author_phone       ' 089 3209 3143 '
_publ_section_title
;
 Multiple Bonds Between Main Group Elements and Transition Metals. 151.1
 Trioxorhenium(VII) Alkoxide Complexes
;
_journal_name_full               'Inorganic Chemistry'
_journal_page_first              465
_journal_page_last               471
_journal_paper_doi               10.1021/ic951508j
_journal_volume                  36
_journal_year                    1997
_chemical_formula_sum            'C6 H13 O5 Re'
_chemical_formula_weight         351.37
_space_group_IT_number           15
_symmetry_cell_setting           monoclinic
_symmetry_space_group_name_Hall  '-C 2yc'
_symmetry_space_group_name_H-M   'C 1 2/c 1'
_atom_sites_solution_hydrogens   geom
_atom_sites_solution_primary     heavy
_audit_creation_date             96-06-05
_audit_creation_method           CRYSTALS
_cell_angle_alpha                90.000
_cell_angle_beta                 90.220
_cell_angle_gamma                90.000
_cell_formula_units_Z            8.00
_cell_length_a                   12.327
_cell_length_b                   10.973
_cell_length_c                   14.491
_cell_measurement_reflns_used    25
_cell_measurement_temperature    295(3)
_cell_measurement_theta_max      19.6
_cell_measurement_theta_min      15.1
_cell_volume                     1960.099
_computing_cell_refinement       'CAD-4 software (Enraf-Nonius, 1989)'
_computing_data_collection       'CAD-4 software (Enraf-Nonius, 1989)'
_computing_data_reduction
'CRYSTALS (Watkin, Carruthers & Betteridge, 1985) ; SDP (Enraf-Nonius, 1988) '
_computing_molecular_graphics    'PLATON (Spek, 1995) '
_computing_publication_material  'CRYSTALS '
_computing_structure_refinement  'CRYSTALS '
_computing_structure_solution    'SHELXS86 (Sheldrick, 1986)'
_diffrn_ambient_temperature      295(3)
_diffrn_measurement_device       '  Enraf-nonius CAD4 '
_diffrn_measurement_method       'omega scan'
_diffrn_radiation_monochromator  graphite
_diffrn_radiation_source         'fine-focus sealed tube'
_diffrn_radiation_type           'Mo K\a'
_diffrn_radiation_wavelength     0.71073
_diffrn_reflns_av_R_equivalents  0.06
_diffrn_reflns_number            3073
_diffrn_reflns_theta_max         25.00
_diffrn_reflns_theta_min         1.00
_diffrn_standards_decay_%        66.4
_diffrn_standards_interval_time  60
_diffrn_standards_number         3
_exptl_absorpt_coefficient_mu    12.38
_exptl_absorpt_correction_T_max  1.0
_exptl_absorpt_correction_T_min  0.67
_exptl_absorpt_correction_type   empirical
_exptl_crystal_colour            ' none '
_exptl_crystal_density_diffrn    2.38
_exptl_crystal_description       ' fragment '
_exptl_crystal_F_000             1312
_refine_diff_density_max         1.9
_refine_diff_density_min         -1.3
_refine_ls_extinction_method     None
_refine_ls_goodness_of_fit_obs   1.1109
_refine_ls_hydrogen_treatment
;
 H atoms placed geometrically after each cycle
;
_refine_ls_matrix_type           full
_refine_ls_number_parameters     109
_refine_ls_number_reflns         1611
_refine_ls_R_factor_obs          0.0474
_refine_ls_shift/esd_max         0.000099
_refine_ls_structure_factor_coef F
_refine_ls_weighting_scheme
;
 Chebychev polynomial (Carruthers & Watkin, 1979)
;
_refine_ls_wR_factor_obs         0.0300
_reflns_limit_h_max              14
_reflns_limit_h_min              0
_reflns_limit_k_max              12
_reflns_limit_k_min              0
_reflns_limit_l_max              17
_reflns_limit_l_min              -16
_reflns_number_observed          1611
_reflns_number_total             1611
_reflns_observed_criterion       >0.00s(I)
_cod_data_source_file            ic951508j_3.cif
_cod_data_source_block           global
_cod_depositor_comments
;
The following automatic conversions were performed:

'_atom_sites_solution_hydrogens' value 'Geometric' was changed to
'geom'.

Automatic conversion script
Id: cif_fix_values 6452 2018-10-05 10:23:21Z andrius 
;
_cod_original_cell_volume        1960.10
_cod_original_sg_symbol_H-M      'C 1 2/c 1 '
_cod_original_formula_sum        ' C6 H13 Re1 O5 '
_cod_database_code               4323295
loop_
_symmetry_equiv_pos_as_xyz
x,y,z
-x,-y,-z
x+1/2,y+1/2,z
-x+1/2,-y+1/2,-z
-x,y,-z+1/2
x,-y,z+1/2
-x+1/2,y+1/2,-z+1/2
x+1/2,-y+1/2,z+1/2
loop_
_atom_site_aniso_label
_atom_site_aniso_U_11
_atom_site_aniso_U_22
_atom_site_aniso_U_33
_atom_site_aniso_U_23
_atom_site_aniso_U_13
_atom_site_aniso_U_12
RE1 0.0288(2) 0.0352(2) 0.0426(2) -0.0056(2) -0.0025(1) -0.0018(2)
O1 0.034(4) 0.040(4) 0.050(4) -0.012(3) -0.004(3) 0.003(3)
O2 0.026(3) 0.030(3) 0.049(4) -0.005(3) 0.001(3) -0.001(3)
O3 0.023(3) 0.078(5) 0.068(5) -0.015(5) 0.003(3) -0.000(4)
O4 0.038(4) 0.060(5) 0.066(5) -0.026(4) -0.008(3) -0.000(3)
O5 0.056(5) 0.053(5) 0.089(6) 0.027(4) -0.005(4) -0.023(4)
C1 0.038(5) 0.030(5) 0.042(5) -0.008(4) 0.000(4) -0.003(4)
C2 0.046(6) 0.028(5) 0.042(5) 0.004(4) -0.010(4) -0.011(4)
C3 0.056(7) 0.062(7) 0.037(5) -0.007(5) 0.008(5) -0.004(6)
C4 0.082(8) 0.034(6) 0.074(8) -0.005(6) -0.011(6) 0.001(6)
C5 0.064(7) 0.046(6) 0.055(7) 0.006(5) 0.015(5) 0.002(6)
C6 0.052(7) 0.068(8) 0.068(7) -0.006(6) -0.010(6) -0.012(6)
loop_
_atom_site_label
_atom_site_fract_x
_atom_site_fract_y
_atom_site_fract_z
_atom_site_U_iso_or_equiv
_atom_site_occupancy
_atom_site_thermal_displace_type
RE1 0.06941(3) 0.32732(4) 0.08943(3) 0.0347 1.0000 Uani
O1 0.0898(5) 0.4880(6) 0.1253(4) 0.0396 1.0000 Uani
O2 0.2518(4) 0.3570(5) 0.1155(4) 0.0337 1.0000 Uani
O3 -0.0688(5) 0.3328(8) 0.0808(5) 0.0491 1.0000 Uani
O4 0.1115(5) 0.2851(7) -0.0182(5) 0.0497 1.0000 Uani
O5 0.0915(6) 0.2131(7) 0.1657(6) 0.0569 1.0000 Uani
C1 0.1869(7) 0.5445(8) 0.1652(6) 0.0357 1.0000 Uani
C2 0.2835(8) 0.4836(8) 0.1148(6) 0.0360 1.0000 Uani
C3 0.1847(8) 0.514(1) 0.2674(7) 0.0497 1.0000 Uani
C4 0.175(1) 0.681(1) 0.1486(8) 0.0584 1.0000 Uani
C5 0.2943(9) 0.525(1) 0.0149(7) 0.0529 1.0000 Uani
C6 0.3904(9) 0.497(1) 0.1652(8) 0.0600 1.0000 Uani
H1 0.3042 0.3110 0.0868 0.0441 1.0000 Uiso
H2 0.1237 0.5539 0.2956 0.0657 1.0000 Uiso
H3 0.2505 0.5423 0.2960 0.0657 1.0000 Uiso
H4 0.1784 0.4277 0.2753 0.0657 1.0000 Uiso
H5 0.1140 0.7112 0.1821 0.0768 1.0000 Uiso
H6 0.2398 0.7218 0.1693 0.0768 1.0000 Uiso
H7 0.1650 0.6957 0.0839 0.0768 1.0000 Uiso
H8 0.3550 0.4852 -0.0131 0.0707 1.0000 Uiso
H9 0.3054 0.6120 0.0133 0.0707 1.0000 Uiso
H10 0.2293 0.5054 -0.0184 0.0707 1.0000 Uiso
H11 0.4467 0.4580 0.1307 0.0803 1.0000 Uiso
H12 0.4072 0.5824 0.1718 0.0803 1.0000 Uiso
H13 0.3851 0.4607 0.2251 0.0803 1.0000 Uiso
loop_
_atom_type_symbol
_atom_type_scat_dispersion_real
_atom_type_scat_dispersion_imag
_atom_type_scat_Cromer_Mann_a1
_atom_type_scat_Cromer_Mann_b1
_atom_type_scat_Cromer_Mann_a2
_atom_type_scat_Cromer_Mann_b2
_atom_type_scat_Cromer_Mann_a3
_atom_type_scat_Cromer_Mann_b3
_atom_type_scat_Cromer_Mann_a4
_atom_type_scat_Cromer_Mann_b4
_atom_type_scat_Cromer_Mann_c
_atom_type_scat_source
'C   ' 0.0020 0.0020 2.3100 20.8439 1.0200 10.2075 1.5886 0.5687 0.8650 51.6512
0.2156 International_Tables_Vol_IV_Table_2.2B
'H   ' 0.0000 0.0000 0.4930 10.5109 0.3229 26.1257 0.1402 3.1424 0.0408 57.7997
0.0030 International_Tables_Vol_IV_Table_2.2B
'O   ' 0.0080 0.0060 3.0485 13.2771 2.2868 5.7011 1.5463 0.3239 0.8670 32.9089
0.2508 International_Tables_Vol_IV_Table_2.2B
'Re  ' -1.5980 7.2320 28.7621 1.6719 15.7189 9.0923 14.5564 0.3505 5.4417
52.0861 10.4720 International_Tables_Vol_IV_Table_2.2B
loop_
_geom_angle_atom_site_label_1
_geom_angle_site_symmetry_1
_geom_angle_atom_site_label_2
_geom_angle_site_symmetry_2
_geom_angle_atom_site_label_3
_geom_angle_site_symmetry_3
_geom_angle
_geom_angle_publ_flag
O1 . RE1 . O2 . 71.9(2) no
O1 . RE1 . O3 . 96.9(3) no
O2 . RE1 . O3 . 168.5(3) no
O1 . RE1 . O4 . 118.2(3) no
O2 . RE1 . O4 . 83.6(3) no
O3 . RE1 . O4 . 104.4(3) no
O1 . RE1 . O5 . 120.0(3) no
O2 . RE1 . O5 . 81.0(3) no
O3 . RE1 . O5 . 103.4(4) no
O4 . RE1 . O5 . 110.3(4) no
RE1 . O1 . C1 . 128.5(5) no
RE1 . O2 . C2 . 113.5(5) no
RE1 . O2 . H1 . 122.4(4) no
C2 . O2 . H1 . 109.5(6) no
O1 . C1 . C2 . 105.0(7) no
O1 . C1 . C3 . 106.0(8) no
C2 . C1 . C3 . 112.5(8) no
O1 . C1 . C4 . 106.2(7) no
C2 . C1 . C4 . 114.9(8) no
C3 . C1 . C4 . 111.5(8) no
O2 . C2 . C1 . 101.7(7) no
O2 . C2 . C5 . 108.7(8) no
C1 . C2 . C5 . 112.8(8) no
O2 . C2 . C6 . 109.2(8) no
C1 . C2 . C6 . 113.5(8) no
C5 . C2 . C6 . 110.5(9) no
C1 . C3 . H2 . 109.5(9) no
C1 . C3 . H3 . 109.5(9) no
H2 . C3 . H3 . 109.5(10) no
C1 . C3 . H4 . 109.5(9) no
H2 . C3 . H4 . 109.5(10) no
H3 . C3 . H4 . 109.5(11) no
C1 . C4 . H5 . 109.5(11) no
C1 . C4 . H6 . 109.5(10) no
H5 . C4 . H6 . 109.5(11) no
C1 . C4 . H7 . 109.5(10) no
H5 . C4 . H7 . 109.5(11) no
H6 . C4 . H7 . 109.5(12) no
C2 . C5 . H8 . 109.5(10) no
C2 . C5 . H9 . 109.5(9) no
H8 . C5 . H9 . 109.5(11) no
C2 . C5 . H10 . 109.5(9) no
H8 . C5 . H10 . 109.5(11) no
H9 . C5 . H10 . 109.5(11) no
C2 . C6 . H11 . 109.5(10) no
C2 . C6 . H12 . 109.5(10) no
H11 . C6 . H12 . 109.5(11) no
C2 . C6 . H13 . 109.5(10) no
H11 . C6 . H13 . 109.5(12) no
H12 . C6 . H13 . 109.5(11) no
loop_
_geom_bond_atom_site_label_1
_geom_bond_site_symmetry_1
_geom_bond_atom_site_label_2
_geom_bond_site_symmetry_2
_geom_bond_distance
_geom_bond_publ_flag
RE1 . O1 . 1.854(6) yes
RE1 . O2 . 2.302(5) yes
RE1 . O3 . 1.709(6) yes
RE1 . O4 . 1.709(7) yes
RE1 . O5 . 1.693(7) yes
O1 . C1 . 1.47(1) yes
O2 . C2 . 1.44(1) yes
O2 . H1 . 0.920(6) no
C1 . C2 . 1.55(1) yes
C1 . C3 . 1.52(1) yes
C1 . C4 . 1.52(1) yes
C2 . C5 . 1.52(1) yes
C2 . C6 . 1.51(1) yes
C3 . H2 . 0.96(1) no
C3 . H3 . 0.96(1) no
C3 . H4 . 0.96(1) no
C4 . H5 . 0.96(1) no
C4 . H6 . 0.96(1) no
C4 . H7 . 0.96(1) no
C5 . H8 . 0.96(1) no
C5 . H9 . 0.96(1) no
C5 . H10 . 0.96(1) no
C6 . H11 . 0.96(1) no
C6 . H12 . 0.96(1) no
C6 . H13 . 0.96(1) no
