#------------------------------------------------------------------------------
#$Date: 2016-02-16 21:30:59 +0100 (mar 16 de feb de 2016) $
#$Revision: 176467 $
#$URL: svn://www.crystallography.net/cod/cif/4/32/53/4325323.cif $
#------------------------------------------------------------------------------
#
# This file is available in the Crystallography Open Database (COD),
# http://www.crystallography.net/
#
# All data on this site have been placed in the public domain by the
# contributors.
#
data_4325323
loop_
_publ_author_name
'Charles J. Simmons'
'Horst Stratemeier'
'Michael A. Hitchman'
'Dirk Reinen'
'Vanessa M. Masters'
'Mark J. Riley'
_publ_contact_author_address
;Dr. Charles J. Simmons
Chemistry Department
University of Hawaii at Hilo
200 W. Kawili Street
Hilo, Hawaii 96720
;
_publ_contact_author_email       ' simmonsc@hawaii.edu'
_publ_contact_author_fax         808-974-7693
_publ_contact_author_name        'Dr. Charles J. Simmons'
_publ_contact_author_phone       '808-974-7317 '
_publ_section_title
;
 Temperature Dependence of the Crystal Structure and g-Values of
 trans-Diaquabis(methoxyacetato)Copper(II): Evidence for a Thermal
 Equilibrium Between Complexes with tetragonally Elongated and Compressed
 Geometries
;
_journal_name_full               'Inorganic Chemistry'
_journal_page_first              4900
_journal_page_last               4916
_journal_paper_doi               10.1021/ic200554f
_journal_volume                  50
_journal_year                    2011
_chemical_formula_moiety         'C6 H14 Cu O8 '
_chemical_formula_sum            'C6 H14 Cu O8'
_chemical_formula_weight         277.72
_space_group_IT_number           14
_symmetry_cell_setting           monoclinic
_symmetry_Int_Tables_number      14
_symmetry_space_group_name_Hall  '-P 2yn'
_symmetry_space_group_name_H-M   'P 1 21/n 1'
_cell_angle_alpha                90
_cell_angle_beta                 96.3380(12)
_cell_angle_gamma                90
_cell_formula_units_Z            2
_cell_length_a                   6.9422(2)
_cell_length_b                   10.0719(2)
_cell_length_c                   7.22060(10)
_cell_measurement_reflns_used    4589
_cell_measurement_temperature    260
_cell_measurement_theta_max      40.24
_cell_measurement_theta_min      2.02
_cell_volume                     501.787(19)
_computing_cell_refinement       'HKL Scalepack'
_computing_data_collection       'KappaCCD Server Software'
_computing_data_reduction        'HKL Denzo and Scalepack'
_computing_publication_material  'teXsan for Windows v. 1.06 MSC'
_computing_structure_refinement  'teXsan for Windows v. 1.06 MSC'
_computing_structure_solution
;
SIR92 (Altomare, et. al. 1994)
;
_diffrn_ambient_temperature      260
_diffrn_measured_fraction_theta_full 0.730
_diffrn_measured_fraction_theta_max 0.730
_diffrn_measurement_device       'Nonius CCD camera'
_diffrn_measurement_method       'φ scans ω scans withκ offsets'
_diffrn_radiation_detector       'Nonius Kappa CCD'
_diffrn_radiation_monochromator  graphite
_diffrn_radiation_source         'fine-focus sealed X-ray tube'
_diffrn_radiation_type           'Mo K\a'
_diffrn_radiation_wavelength     0.7107
_diffrn_reflns_av_R_equivalents  0.01291
_diffrn_reflns_av_sigmaI/netI    0.041
_diffrn_reflns_limit_h_max       11
_diffrn_reflns_limit_h_min       -11
_diffrn_reflns_limit_k_max       16
_diffrn_reflns_limit_k_min       -16
_diffrn_reflns_limit_l_max       11
_diffrn_reflns_limit_l_min       -11
_diffrn_reflns_number            4589
_diffrn_reflns_theta_full        40.24
_diffrn_reflns_theta_max         40.24
_diffrn_reflns_theta_min         2.02
_diffrn_standards_decay_%        0.00
_diffrn_standards_interval_count 0
_diffrn_standards_number         0
_exptl_absorpt_coefficient_mu    2.199
_exptl_absorpt_correction_T_max  0.883
_exptl_absorpt_correction_T_min  0.729
_exptl_absorpt_correction_type   multi-scan
_exptl_absorpt_process_details   '(DENZO-SMN; Otwinowski & Minor, 1997)'
_exptl_crystal_colour            blue
_exptl_crystal_density_diffrn    1.838
_exptl_crystal_description       sphere
_exptl_crystal_F_000             286.00
_exptl_crystal_size_max          0.30
_exptl_crystal_size_mid          0.30
_exptl_crystal_size_min          0.30
_exptl_crystal_size_rad          0.30
_refine_diff_density_max         0.38
_refine_diff_density_min         -0.35
_refine_ls_extinction_coef       0.0000067(2)
_refine_ls_extinction_expression 'equ(3) Acta Cryst.(1968) A24, p213.'
_refine_ls_extinction_method     'Zachariasen (1967)'
_refine_ls_goodness_of_fit_all   1.972
_refine_ls_goodness_of_fit_ref   1.970
_refine_ls_hydrogen_treatment    refall
_refine_ls_matrix_type           full
_refine_ls_number_constraints    0
_refine_ls_number_parameters     99
_refine_ls_number_reflns         1584
_refine_ls_number_restraints     0
_refine_ls_R_factor_all          0.0221
_refine_ls_R_factor_gt           0.0220
_refine_ls_shift/su_max          0.0000
_refine_ls_shift/su_mean         0.0002
_refine_ls_structure_factor_coef F
_refine_ls_weighting_details     'w = 1/[σ²(Fo)]'
_refine_ls_weighting_scheme      sigma
_refine_ls_wR_factor_all         0.0220
_refine_ls_wR_factor_ref         0.0220
_reflns_number_gt                1584
_reflns_number_total             2421
_reflns_threshold_expression     I>4.00σ(I)
_cod_data_source_file            ic200554f_si_002_18.cif
_cod_data_source_block           '_Template_texray.inf9'
_cod_original_cell_volume        501.79(2)
_cod_original_sg_symbol_H-M      'P 21/n '
_cod_original_formula_sum        'C6 H14 Cu O8 '
_cod_database_code               4325323
loop_
_symmetry_equiv_pos_as_xyz
'   +x,   +y,   +z'
1/2-x,1/2+y,1/2-z
'   -x,   -y,   -z'
1/2+x,1/2-y,1/2+z
loop_
_atom_site_label
_atom_site_fract_x
_atom_site_fract_y
_atom_site_fract_z
_atom_site_U_iso_or_equiv
_atom_site_occupancy
_atom_site_refinement_flags
_atom_site_adp_type
_atom_site_calc_flag
Cu(1) 0.0000 0.0000 0.0000 0.02348(4) 1.000 S Uani d
O(1) 0.18764(8) 0.10666(6) -0.11299(7) 0.0301(2) 1.000 . Uani d
O(2) 0.47570(8) 0.20419(6) -0.08390(8) 0.0311(2) 1.000 . Uani d
O(3) 0.21340(9) 0.03415(7) 0.23685(8) 0.0327(2) 1.000 . Uani d
O(4) -0.13907(10) 0.17691(7) 0.06992(9) 0.0379(2) 1.000 . Uani d
C(1) 0.34308(11) 0.14207(8) -0.01832(10) 0.0241(2) 1.000 . Uani d
C(2) 0.37458(12) 0.10720(9) 0.18761(11) 0.0271(2) 1.000 . Uani d
C(3) 0.2408(2) -0.02679(11) 0.41461(13) 0.0369(3) 1.000 . Uani d
H(2B) 0.3905(13) 0.1966(10) 0.2617(12) 0.043(3) 1.000 . Uiso d
H(2A) 0.493(1) 0.0545(10) 0.2082(12) 0.030(2) 1.000 . Uiso d
H(3B) 0.346(2) -0.0886(12) 0.418(1) 0.051(3) 1.000 . Uiso d
H(3C) 0.262(2) 0.0358(12) 0.506(2) 0.049(3) 1.000 . Uiso d
H(3A) 0.1267(13) -0.0683(10) 0.4210(12) 0.033(3) 1.000 . Uiso d
H(4A) -0.117(2) 0.2130(12) 0.172(2) 0.064(4) 1.000 . Uiso d
H(4B) -0.254(2) 0.1870(11) 0.033(1) 0.045(3) 1.000 . Uiso d
loop_
_atom_site_aniso_label
_atom_site_aniso_U_11
_atom_site_aniso_U_22
_atom_site_aniso_U_33
_atom_site_aniso_U_12
_atom_site_aniso_U_13
_atom_site_aniso_U_23
Cu(1) 0.01730(7) 0.03259(9) 0.01999(7) -0.00256(6) -0.00048(4) -0.00087(5)
O(1) 0.0237(3) 0.0421(4) 0.0240(3) -0.0052(3) 0.0007(2) 0.0028(3)
O(2) 0.0268(3) 0.0367(3) 0.0300(3) -0.0072(3) 0.0043(2) 0.0019(3)
O(3) 0.0271(3) 0.0463(4) 0.0240(3) -0.0074(3) 0.0001(2) 0.0064(3)
O(4) 0.0272(3) 0.0494(5) 0.0357(3) 0.0029(3) -0.0032(3) -0.0092(3)
C(1) 0.0236(4) 0.0239(4) 0.0249(3) 0.0021(3) 0.0030(3) -0.0029(3)
C(2) 0.0245(4) 0.0311(5) 0.0254(4) -0.0038(4) 0.0011(3) -0.0002(3)
C(3) 0.0414(6) 0.0421(6) 0.0273(4) -0.0033(5) 0.0038(4) 0.0075(4)
loop_
_atom_type_symbol
_atom_type_oxidation_number
_atom_type_number_in_cell
_atom_type_scat_dispersion_real
_atom_type_scat_dispersion_imag
_atom_type_scat_source
H 0 28 0.000 0.000
;International Tables for Crystallography
(1992, Vol. C, Table 6.1.1.2)
;
C 0 12 0.002 0.002
;International Tables for Crystallography
(1992, Vol. C, Table 6.1.1.2)
;
O 0 16 0.008 0.006
;International Tables for Crystallography
(1992, Vol. C, Table 6.1.1.2)
;
Cu 0 2 0.263 1.266
;International Tables for Crystallography
(1992, Vol. C, Tables 4.2.6.8 and 6.1.1.1)
;
loop_
_diffrn_standard_refln_index_h
_diffrn_standard_refln_index_k
_diffrn_standard_refln_index_l
0 0 0
loop_
_geom_angle_atom_site_label_1
_geom_angle_atom_site_label_2
_geom_angle_atom_site_label_3
_geom_angle
_geom_angle_site_symmetry_3
_geom_angle_publ_flag
? ? ? ? ? ?
O1 Cu1 O1 180.0(0) 3 no
O1 Cu1 O3 79.11(3) . no
O1 Cu1 O4 88.81(3) . no
O3 Cu1 O3 180.0(0) 3 no
O3 Cu1 O4 88.18(4) . no
O4 Cu1 O4 180.0(0) 3 no
Cu1 O1 C1 120.18(7) . no
Cu1 O3 C2 112.03(6) . no
Cu1 O3 C3 131.26(8) . no
C2 O3 C3 114.92(9) . no
Cu1 O4 H4A 122.9(11) . no
Cu1 O4 H4B 118.8(11) . no
H4A O4 H4B 108.2(14) . no
O1 C1 O2 123.9(1) . no
O1 C1 C2 119.1(1) . no
O2 C1 C2 117.02(9) . no
O3 C2 C1 109.46(9) . no
O3 C2 H2A 110.6(8) . no
O3 C2 H2B 111.1(7) . no
C1 C2 H2A 107.7(7) . no
C1 C2 H2B 107.2(7) . no
H2A C2 H2B 110.6(10) . no
O3 C3 H3A 102.5(8) . no
O3 C3 H3B 109.4(9) . no
O3 C3 H3C 110.6(11) . no
H3A C3 H3B 111.6(12) . no
H3A C3 H3C 110.8(14) . no
H3B C3 H3C 111.6(14) . no
loop_
_geom_bond_atom_site_label_1
_geom_bond_atom_site_label_2
_geom_bond_distance
_geom_bond_publ_flag
? ? ? ?
Cu1 O1 1.9368(8) yes
Cu1 O3 2.1629(8) yes
Cu1 O4 2.114(1) yes
O1 C1 1.263(1) no
O2 C1 1.249(1) no
O3 C2 1.417(1) no
O3 C3 1.417(1) no
O4 H4A 0.82(2) no
O4 H4B 0.82(1) no
C1 C2 1.520(1) no
C2 H2A 0.97(1) no
C2 H2B 1.05(1) no
C3 H3A 0.90(1) no
C3 H3B 0.96(1) no
C3 H3C 0.91(1) no
loop_
_geom_contact_atom_site_label_1
_geom_contact_atom_site_label_2
_geom_contact_distance
_geom_contact_site_symmetry_2
_geom_contact_publ_flag
O2 H4B 1.98(2) 1_655 no
O2 H4A 1.99(2) 4_554 no
