#------------------------------------------------------------------------------
#$Date: 2016-03-23 19:51:03 +0100 (Wed 23 de Mar de 2016) $
#$Revision: 179427 $
#$URL: svn://www.crystallography.net/cod/cif/4/33/24/4332495.cif $
#------------------------------------------------------------------------------
#
# This file is available in the Crystallography Open Database (COD),
# http://www.crystallography.net/. The original data for this entry
# were provided the Crystal Eye server at
# http://wwmm.ch.cam.ac.uk/crystaleye/, created by Nick Day at the
# Peter Murray-Rust laboratory.
#
# The file may be used within the scientific community so long as
# proper attribution is given to the journal article from which the
# data were obtained.
#
data_4332495
loop_
_publ_author_name
'Cotton, F. Albert'
'Murillo, Carlos A.'
'Wang, Xiaoping'
'Wilkinson, Chad C.'
_publ_section_title
;
 Homologues of the Easily Ionized Compound Mo2(hpp)4Containing Smaller
 Bicyclic Guanidinates
;
_journal_issue                   14
_journal_name_full               'Inorganic Chemistry'
_journal_page_first              5493
_journal_page_last               5500
_journal_paper_doi               10.1021/ic060449e
_journal_volume                  45
_journal_year                    2006
_chemical_formula_moiety         'C6 H11 N3'
_chemical_formula_sum            'C6 H11 N3'
_chemical_formula_weight         125.18
_chemical_name_systematic
; 
 ? 
;
_space_group_IT_number           15
_symmetry_cell_setting           monoclinic
_symmetry_space_group_name_Hall  '-C 2yc'
_symmetry_space_group_name_H-M   'C 1 2/c 1'
_atom_sites_solution_hydrogens   geom
_atom_sites_solution_primary     direct
_atom_sites_solution_secondary   difmap
_audit_creation_method           SHELXL-97
_cell_angle_alpha                90.00
_cell_angle_beta                 103.192(7)
_cell_angle_gamma                90.00
_cell_formula_units_Z            8
_cell_length_a                   18.670(7)
_cell_length_b                   7.600(3)
_cell_length_c                   10.008(3)
_cell_measurement_reflns_used    1607
_cell_measurement_temperature    193(2)
_cell_measurement_theta_max      22.2325
_cell_measurement_theta_min      2.9045
_cell_volume                     1382.6(9)
_computing_cell_refinement       'Bruker SMART'
_computing_data_collection       'Bruker SMART'
_computing_data_reduction        'Bruker SAINT'
_computing_molecular_graphics    XP
_computing_structure_refinement  'SHELXL-97 (Sheldrick, 1997)'
_computing_structure_solution    'SHELXS-97 (Sheldrick, 1990)'
_diffrn_ambient_temperature      193(2)
_diffrn_measured_fraction_theta_full 1.000
_diffrn_measured_fraction_theta_max 1.000
_diffrn_measurement_device_type  'Bruker SMART'
_diffrn_measurement_method       ω-scans
_diffrn_radiation_monochromator  graphite
_diffrn_radiation_source         'normal-focus sealed tube'
_diffrn_radiation_type           MoK\a
_diffrn_radiation_wavelength     0.71073
_diffrn_reflns_av_R_equivalents  0.0000
_diffrn_reflns_av_sigmaI/netI    0.0329
_diffrn_reflns_limit_h_max       19
_diffrn_reflns_limit_h_min       -20
_diffrn_reflns_limit_k_max       8
_diffrn_reflns_limit_k_min       0
_diffrn_reflns_limit_l_max       10
_diffrn_reflns_limit_l_min       0
_diffrn_reflns_number            1893
_diffrn_reflns_theta_full        22.49
_diffrn_reflns_theta_max         22.49
_diffrn_reflns_theta_min         2.24
_exptl_absorpt_coefficient_mu    0.078
_exptl_absorpt_correction_T_max  0.9958
_exptl_absorpt_correction_T_min  0.9807
_exptl_absorpt_correction_type   multi-scan
_exptl_absorpt_process_details   TWINABS
_exptl_crystal_colour            colorless
_exptl_crystal_density_diffrn    1.203
_exptl_crystal_density_meas      ?
_exptl_crystal_density_method    'not measured'
_exptl_crystal_description       plate
_exptl_crystal_F_000             544
_exptl_crystal_size_max          0.25
_exptl_crystal_size_mid          0.21
_exptl_crystal_size_min          0.05
_refine_diff_density_max         0.464
_refine_diff_density_min         -0.285
_refine_diff_density_rms         0.049
_refine_ls_extinction_coef       0.017(4)
_refine_ls_extinction_expression Fc^*^=kFc[1+0.001xFc²λ³/sin(2θ)]^-1/4^
_refine_ls_extinction_method     SHELXL
_refine_ls_goodness_of_fit_ref   1.047
_refine_ls_hydrogen_treatment    noref
_refine_ls_matrix_type           full
_refine_ls_number_parameters     84
_refine_ls_number_reflns         1895
_refine_ls_number_restraints     0
_refine_ls_restrained_S_all      1.047
_refine_ls_R_factor_all          0.0874
_refine_ls_R_factor_gt           0.0625
_refine_ls_shift/su_max          0.001
_refine_ls_shift/su_mean         0.000
_refine_ls_structure_factor_coef Fsqd
_refine_ls_weighting_details
'calc w=1/[σ²(Fo²)+(0.0959P)²+1.0203P] where P=(Fo²+2Fc²)/3'
_refine_ls_weighting_scheme      calc
_refine_ls_wR_factor_gt          0.1623
_refine_ls_wR_factor_ref         0.1863
_reflns_number_gt                1394
_reflns_number_total             1895
_reflns_threshold_expression     >2sigma(I)
_cod_data_source_file            ic060449esup1.cif
_cod_data_source_block           Htbn
_cod_depositor_comments
;
The following automatic conversions were performed:

'_symmetry_cell_setting' value 'Monoclinic' changed to 'monoclinic'
according to /home/saulius/struct/CIF-dictionaries/cif_core.dic
dictionary named 'cif_core.dic' version 2.4.2 from 2011-04-26.

Automatic conversion script
Id: cif_fix_values 1891 2012-01-12 08:04:46Z andrius 

The following automatic conversions were performed:

'_exptl_crystal_density_meas' value 'not measured' was changed to '?'
- the value is perceived as not measured.

Automatic conversion script
Id: cif_fix_values 3008 2015-01-20 13:52:24Z robertas 
;
_cod_original_cell_volume        1382.6(8)
_cod_original_sg_symbol_H-M      C2/c
_cod_database_code               4332495
loop_
_symmetry_equiv_pos_as_xyz
'x, y, z'
'-x, y, -z+1/2'
'x+1/2, y+1/2, z'
'-x+1/2, y+1/2, -z+1/2'
'-x, -y, -z'
'x, -y, z-1/2'
'-x+1/2, -y+1/2, -z'
'x+1/2, -y+1/2, z-1/2'
loop_
_atom_site_label
_atom_site_type_symbol
_atom_site_fract_x
_atom_site_fract_y
_atom_site_fract_z
_atom_site_U_iso_or_equiv
_atom_site_adp_type
_atom_site_occupancy
_atom_site_symmetry_multiplicity
_atom_site_calc_flag
_atom_site_refinement_flags
N2 N 0.28180(11) 0.0321(3) 0.44194(19) 0.0468(6) Uani 1 1 d .
H6A H 0.2510 0.0517 0.4950 0.056 Uiso 1 1 calc R
N3 N 0.40275(11) 0.0727(3) 0.4133(2) 0.0522(7) Uani 1 1 d .
N1 N 0.34671(10) 0.2948(3) 0.4994(2) 0.0463(6) Uani 1 1 d .
C3 C 0.34067(11) 0.1374(3) 0.4499(2) 0.0391(6) Uani 1 1 d .
C6 C 0.26920(14) -0.1149(4) 0.3450(3) 0.0548(8) Uani 1 1 d .
H7A H 0.2440 -0.0723 0.2528 0.066 Uiso 1 1 calc R
H7B H 0.2374 -0.2039 0.3748 0.066 Uiso 1 1 calc R
C5 C 0.34133(15) -0.1960(4) 0.3391(3) 0.0625(8) Uani 1 1 d .
H8A H 0.3333 -0.2862 0.2658 0.075 Uiso 1 1 calc R
H8B H 0.3623 -0.2555 0.4274 0.075 Uiso 1 1 calc R
C4 C 0.39506(17) -0.0623(4) 0.3117(3) 0.0697(9) Uani 1 1 d .
H9A H 0.4433 -0.1187 0.3154 0.084 Uiso 1 1 calc R
H9B H 0.3772 -0.0111 0.2192 0.084 Uiso 1 1 calc R
C1 C 0.42207(13) 0.3512(4) 0.4998(3) 0.0560(8) Uani 1 1 d .
H3A H 0.4542 0.3409 0.5929 0.067 Uiso 1 1 calc R
H3B H 0.4225 0.4749 0.4690 0.067 Uiso 1 1 calc R
C2 C 0.44760(15) 0.2298(4) 0.4016(3) 0.0637(8) Uani 1 1 d .
H2A H 0.4364 0.2775 0.3071 0.076 Uiso 1 1 calc R
H2B H 0.5009 0.2048 0.4311 0.076 Uiso 1 1 calc R
loop_
_atom_site_aniso_label
_atom_site_aniso_U_11
_atom_site_aniso_U_22
_atom_site_aniso_U_33
_atom_site_aniso_U_23
_atom_site_aniso_U_13
_atom_site_aniso_U_12
N2 0.0450(13) 0.0522(13) 0.0440(12) -0.0130(10) 0.0116(9) 0.0010(10)
N3 0.0501(13) 0.0592(14) 0.0506(13) -0.0009(11) 0.0183(10) 0.0134(11)
N1 0.0379(12) 0.0478(14) 0.0535(13) -0.0008(11) 0.0112(9) 0.0024(9)
C3 0.0352(13) 0.0498(16) 0.0320(13) 0.0064(12) 0.0070(10) 0.0090(12)
C6 0.0597(17) 0.0521(16) 0.0482(16) -0.0119(13) 0.0034(13) 0.0013(13)
C5 0.0704(19) 0.0566(18) 0.0577(17) -0.0215(14) 0.0085(14) 0.0055(15)
C4 0.0712(19) 0.085(2) 0.0525(17) -0.0125(17) 0.0123(15) 0.0177(17)
C1 0.0425(15) 0.0488(16) 0.0793(19) 0.0077(15) 0.0190(13) 0.0009(12)
C2 0.0439(16) 0.077(2) 0.0748(19) 0.0029(17) 0.0232(14) -0.0018(14)
loop_
_atom_type_symbol
_atom_type_description
_atom_type_scat_dispersion_real
_atom_type_scat_dispersion_imag
_atom_type_scat_source
C C 0.0033 0.0016 'International Tables Vol C Tables 4.2.6.8 and 6.1.1.4'
H H 0.0000 0.0000 'International Tables Vol C Tables 4.2.6.8 and 6.1.1.4'
N N 0.0061 0.0033 'International Tables Vol C Tables 4.2.6.8 and 6.1.1.4'
loop_
_geom_angle_atom_site_label_1
_geom_angle_atom_site_label_2
_geom_angle_atom_site_label_3
_geom_angle
C3 N2 C6 119.9(2)
C3 N3 C4 119.3(2)
C3 N3 C2 105.0(2)
C4 N3 C2 119.4(2)
C3 N1 C1 105.74(19)
N1 C3 N2 124.9(2)
N1 C3 N3 115.2(2)
N2 C3 N3 119.7(2)
N2 C6 C5 109.3(2)
C6 C5 C4 112.0(2)
N3 C4 C5 108.7(2)
N1 C1 C2 105.4(2)
N3 C2 C1 100.04(19)
loop_
_geom_bond_atom_site_label_1
_geom_bond_atom_site_label_2
_geom_bond_distance
N2 C3 1.347(3)
N2 C6 1.463(3)
N3 C3 1.383(3)
N3 C4 1.428(3)
N3 C2 1.478(3)
N1 C3 1.290(3)
N1 C1 1.470(3)
C6 C5 1.494(3)
C5 C4 1.496(4)
C1 C2 1.502(4)
