#------------------------------------------------------------------------------
#$Date: 2016-02-16 21:30:59 +0100 (mar 16 de feb de 2016) $
#$Revision: 176467 $
#$URL: svn://www.crystallography.net/cod/cif/4/33/60/4336032.cif $
#------------------------------------------------------------------------------
#
# This file is available in the Crystallography Open Database (COD),
# http://www.crystallography.net/
#
# All data on this site have been placed in the public domain by the
# contributors.
#
data_4336032
loop_
_publ_author_name
'Charles J. Simmons'
'Horst Stratemeier'
'Michael A. Hitchman'
'Mark J. Riley'
_publ_section_title
;
 Influence of Lattice Interactions on the Jahn-Teller Distortion of the
 [Cu(H2O)6]2+ Ion: Dependence of the Crystal Structure of
 K2xRb2-2x[Cu(H2O)6](SeO4)2 upon the K/Rb Ratio
;
_journal_name_full               'Inorganic Chemistry'
_journal_page_first              10481
_journal_page_last               10499
_journal_paper_doi               10.1021/ic401385f
_journal_volume                  52
_journal_year                    2013
_chemical_formula_moiety         'H12 Cu K2 O14 Se2'
_chemical_formula_sum            'Cu H12 K2 O14 Se2'
_chemical_formula_weight         535.76
_space_group_IT_number           14
_symmetry_cell_setting           monoclinic
_symmetry_Int_Tables_number      14
_symmetry_space_group_name_Hall  '-P 2yab'
_symmetry_space_group_name_H-M   'P 1 21/a 1'
_cell_angle_alpha                90
_cell_angle_beta                 103.0477(7)
_cell_angle_gamma                90
_cell_formula_units_Z            2
_cell_length_a                   9.13920(10)
_cell_length_b                   12.2346(2)
_cell_length_c                   6.32110(10)
_cell_measurement_reflns_used    7974
_cell_measurement_temperature    170
_cell_measurement_theta_max      39.4
_cell_measurement_theta_min      1.6
_cell_volume                     688.543(17)
_computing_cell_refinement       'HKL Scalepack'
_computing_data_collection       'Kappa CCD Server Control'
_computing_data_reduction        'HKL Denzo and Scalepack'
_computing_publication_material  'teXsan for Windows v. 1.06 MSC'
_computing_structure_refinement  'teXsan for Windows v. 1.06 MSC'
_computing_structure_solution
;
SIR92 (Altomare, et. al. 1994)
;
_diffrn_ambient_temperature      170
_diffrn_measured_fraction_theta_full 0.997
_diffrn_measured_fraction_theta_max 0.997
_diffrn_measurement_device       'Nonius CCD camera'
_diffrn_measurement_method       'φ scans ω scans κ offsets'
_diffrn_radiation_detector       'Nonius Kappa CCD'
_diffrn_radiation_monochromator  graphite
_diffrn_radiation_source         'fine-focus sealed x-ray tube'
_diffrn_radiation_type           'Mo K\a'
_diffrn_radiation_wavelength     0.7107
_diffrn_reflns_av_R_equivalents  0.01671
_diffrn_reflns_av_sigmaI/netI    0.044
_diffrn_reflns_limit_h_max       16
_diffrn_reflns_limit_h_min       -16
_diffrn_reflns_limit_k_max       21
_diffrn_reflns_limit_k_min       -20
_diffrn_reflns_limit_l_max       11
_diffrn_reflns_limit_l_min       -11
_diffrn_reflns_number            7974
_diffrn_reflns_theta_full        39.37
_diffrn_reflns_theta_max         39.37
_diffrn_reflns_theta_min         1.66
_diffrn_standards_decay_%        0.00
_diffrn_standards_interval_count 0
_diffrn_standards_number         0
_exptl_absorpt_coefficient_mu    7.54
_exptl_absorpt_correction_T_max  0.887
_exptl_absorpt_correction_T_min  0.716
_exptl_absorpt_correction_type   multi-scan
_exptl_absorpt_process_details   '(Denzo-SMN; Otwinowski & Minor, 1997)'
_exptl_crystal_colour            blue
_exptl_crystal_density_diffrn    2.584
_exptl_crystal_description       sphere
_exptl_crystal_F_000             518.0
_exptl_crystal_size_rad          0.30
_refine_diff_density_max         0.47
_refine_diff_density_min         -0.58
_refine_ls_extinction_coef       0.00000258(8)
_refine_ls_extinction_expression 'equ(3) Acta Cryst.(1968) A24, p213.'
_refine_ls_extinction_method     'Zachariasen (1967)'
_refine_ls_goodness_of_fit_all   1.495
_refine_ls_goodness_of_fit_ref   1.500
_refine_ls_hydrogen_treatment    refall
_refine_ls_matrix_type           full
_refine_ls_number_constraints    0
_refine_ls_number_parameters     113
_refine_ls_number_reflns         3306
_refine_ls_number_restraints     0
_refine_ls_R_factor_all          0.0202
_refine_ls_R_factor_gt           0.0200
_refine_ls_shift/su_max          0.0000
_refine_ls_shift/su_mean         0.0002
_refine_ls_structure_factor_coef F
_refine_ls_weighting_details     'w = 1/[σ²(Fo)]'
_refine_ls_weighting_scheme      sigma
_refine_ls_wR_factor_all         0.0240
_refine_ls_wR_factor_ref         0.0240
_reflns_number_gt                3306
_reflns_number_total             4086
_reflns_threshold_expression     I>5.00σ(I)
_cod_data_source_file            ic401385f_si_003_74.cif
_cod_data_source_block           '_Template_texray.inf73'
_cod_original_cell_volume        688.54(2)
_cod_original_sg_symbol_H-M      'P 21/a '
_cod_original_formula_sum        'H12 Cu K2 O14 Se2'
_cod_database_code               4336032
loop_
_symmetry_equiv_pos_as_xyz
'   +x,   +y,   +z'
'1/2-x,1/2+y,   -z'
'   -x,   -y,   -z'
'1/2+x,1/2-y,   +z'
loop_
_atom_site_label
_atom_site_fract_x
_atom_site_fract_y
_atom_site_fract_z
_atom_site_U_iso_or_equiv
_atom_site_occupancy
_atom_site_refinement_flags
_atom_site_adp_type
_atom_site_calc_flag
Se(2) 0.424440(10) 0.136670(7) 0.73507(1) 0.01006(2) 1.000 . Uani d
Cu(1) 0.0000 0.0000 0.0000 0.00959(3) 1.000 S Uani d
K(10) 0.14561(3) 0.33680(2) 0.34495(3) 0.01620(5) 1.000 . Uani d
O(3) 0.41596(9) 0.24278(6) 0.57381(11) 0.0178(2) 1.000 . Uani d
O(4) 0.58257(8) 0.07288(7) 0.74576(13) 0.0222(2) 1.000 . Uani d
O(5) 0.28481(8) 0.05452(6) 0.63060(11) 0.0149(2) 1.000 . Uani d
O(6) 0.41208(8) 0.17815(6) 0.97817(11) 0.0155(2) 1.000 . Uani d
O(7) 0.18008(9) 0.11976(7) 0.18438(13) 0.0156(2) 1.000 . Uani d
O(8) -0.16052(8) 0.11007(6) 0.03213(12) 0.0136(2) 1.000 . Uani d
O(9) -0.01259(9) -0.06108(6) 0.27859(11) 0.0139(2) 1.000 . Uani d
H(15) 0.212(2) 0.095(1) 0.296(3) 0.032(4) 1.000 . Uiso d
H(16) 0.239(2) 0.1288(11) 0.128(3) 0.020(4) 1.000 . Uiso d
H(17) -0.240(2) 0.099(1) -0.044(3) 0.035(4) 1.000 . Uiso d
H(18) -0.138(2) 0.171(1) 0.011(2) 0.022(4) 1.000 . Uiso d
H(19) -0.096(3) -0.063(2) 0.294(5) 0.099(9) 1.000 . Uiso d
H(20) 0.015(2) -0.125(2) 0.311(3) 0.047(5) 1.000 . Uiso d
loop_
_atom_site_aniso_label
_atom_site_aniso_U_11
_atom_site_aniso_U_22
_atom_site_aniso_U_33
_atom_site_aniso_U_12
_atom_site_aniso_U_13
_atom_site_aniso_U_23
Se(2) 0.00914(5) 0.01059(5) 0.01035(5) -0.00062(3) 0.00196(3) -0.00080(3)
Cu(1) 0.00928(7) 0.00996(7) 0.00974(7) 0.00054(5) 0.00256(5) 0.00109(5)
K(10) 0.01789(10) 0.01594(9) 0.01507(9) -0.00049(8) 0.00433(7) -0.00054(7)
O(3) 0.0246(4) 0.0143(3) 0.0136(3) -0.0056(3) 0.0023(3) 0.0029(3)
O(4) 0.0119(3) 0.0290(4) 0.0239(4) 0.0070(3) 0.0002(3) -0.0060(3)
O(5) 0.0127(3) 0.0150(3) 0.0175(3) -0.0053(3) 0.0044(3) -0.0033(2)
O(6) 0.0218(3) 0.0145(3) 0.0108(3) -0.0012(3) 0.0048(3) -0.0020(2)
O(7) 0.0139(3) 0.0184(3) 0.0139(3) -0.0024(3) 0.0022(3) 0.0007(3)
O(8) 0.0121(3) 0.0122(3) 0.0163(3) 0.0004(3) 0.0029(3) 0.0011(3)
O(9) 0.0144(3) 0.0136(3) 0.0146(3) 0.0021(3) 0.0051(2) 0.0029(2)
loop_
_atom_type_symbol
_atom_type_oxidation_number
_atom_type_number_in_cell
_atom_type_scat_dispersion_real
_atom_type_scat_dispersion_imag
_atom_type_scat_source
H 0 24 0.000 0.000
;International Tables for Crystallography
(1992, Vol. C, Table 6.1.1.2)
;
O 0 28 0.008 0.006
;International Tables for Crystallography
(1992, Vol. C, Table 6.1.1.2)
;
K 0 4 0.179 0.250
;International Tables for Crystallography
(1992, Vol. C, Table 6.1.1.2)
;
Cu 0 2 0.263 1.266
;International Tables for Crystallography
(1992, Vol. C, Tables 4.2.6.8 and 6.1.1.1)
;
Se 0 4 -0.178 2.223
;International Tables for Crystallography
(1992, Vol. C, Tables 4.2.6.8 and 6.1.1.1)
;
loop_
_diffrn_standard_refln_index_h
_diffrn_standard_refln_index_k
_diffrn_standard_refln_index_l
0 0 0
loop_
_geom_angle_atom_site_label_1
_geom_angle_atom_site_label_2
_geom_angle_atom_site_label_3
_geom_angle
_geom_angle_publ_flag
O3 SE2 O4 108.75(5) ?
O3 SE2 O5 108.12(4) ?
O3 SE2 O6 109.41(5) ?
O4 SE2 O5 108.96(5) ?
O4 SE2 O6 110.85(5) ?
O5 SE2 O6 110.69(4) ?
O7 CU1 O7 180.00 ?
O7 CU1 O8 88.71(4) ?
O7 CU1 O9 88.16(4) ?
O8 CU1 O8 180.00 ?
O8 CU1 O9 88.42(4) ?
O9 CU1 O9 180.00 ?
CU1 O7 H15 107.2(15) no
CU1 O7 H16 112.0(15) no
H15 O7 H16 110.2(21) no
CU1 O8 H17 114.5(15) no
CU1 O8 H18 112.8(13) no
H17 O8 H18 107.3(19) no
CU1 O9 H19 112.0(26) no
CU1 O9 H20 120.7(16) no
H19 O9 H20 101.2(27) no
loop_
_geom_bond_atom_site_label_1
_geom_bond_atom_site_label_2
_geom_bond_distance
_geom_bond_publ_flag
SE2 O3 1.6416(9) ?
SE2 O4 1.6304(9) ?
SE2 O5 1.6414(8) ?
SE2 O6 1.6462(8) ?
CU1 O7 2.3125(9) ?
CU1 O7 2.3125(9) ?
CU1 O8 2.0350(9) ?
CU1 O8 2.0350(9) ?
CU1 O9 1.9402(8) ?
CU1 O9 1.9402(8) ?
O7 H15 0.76(2) no
O7 H16 0.72(2) no
O8 H17 0.79(2) no
O8 H18 0.80(2) no
O9 H19 0.79(3) no
O9 H20 0.83(2) no
