#------------------------------------------------------------------------------
#$Date: 2016-03-23 23:05:28 +0100 (Wed 23 de Mar de 2016) $
#$Revision: 179523 $
#$URL: svn://www.crystallography.net/cod/cif/4/34/20/4342019.cif $
#------------------------------------------------------------------------------
#
# This file is available in the Crystallography Open Database (COD),
# http://www.crystallography.net/
#
# All data on this site have been placed in the public domain by the
# contributors.
#
data_4342019
loop_
_publ_author_name
'Zhang, Xian-Ming'
'Hou, Juan-Juan'
'Guo, Cai-Hong'
'Li, Chun-Fang'
_publ_section_title
;
 A new class of cuprous bromide cluster-based hybrid materials: direct
 observation of the stepwise replacement of hydrogen bonds by coordination
 bonds.
;
_journal_issue                   2
_journal_name_full               'Inorganic chemistry'
_journal_page_first              554
_journal_page_last               559
_journal_paper_doi               10.1021/ic5024168
_journal_volume                  54
_journal_year                    2015
_chemical_formula_moiety         '2(C12 Br3 Cu3.39 N4)'
_chemical_formula_sum            'C24 Br6 Cu6.78 N8'
_chemical_formula_weight         1310.80
_chemical_name_systematic
;
 ? 
;
_space_group_crystal_system      cubic
_space_group_IT_number           229
_space_group_name_Hall           '-I 4 2 3'
_space_group_name_H-M_alt        'I m -3 m'
_symmetry_space_group_name_Hall  '-I 4 2 3'
_symmetry_space_group_name_H-M   'I m -3 m'
_atom_sites_solution_hydrogens   none
_atom_sites_solution_primary     direct
_atom_sites_solution_secondary   difmap
_audit_creation_date             2013-09-25
_audit_creation_method
;
  Olex2 1.2
  (compiled 2012.05.09 svn.r2324, GUI svn.r4230)
;
_cell_angle_alpha                90.00
_cell_angle_beta                 90.00
_cell_angle_gamma                90.00
_cell_formula_units_Z            2
_cell_length_a                   13.5926(5)
_cell_length_b                   13.5926(5)
_cell_length_c                   13.5926(5)
_cell_measurement_reflns_used    1375
_cell_measurement_temperature    298(2)
_cell_measurement_theta_max      22.926
_cell_measurement_theta_min      2.998
_cell_volume                     2511.35(16)
_computing_molecular_graphics
;
O. V. Dolomanov, L. J. Bourhis, R. J. Gildea, J. A. K. Howard and H. Puschmann,
OLEX2: a complete structure solution, refinement and analysis program.
J. Appl. Cryst. (2009). 42, 339-341.
;
_computing_publication_material
;
O. V. Dolomanov, L. J. Bourhis, R. J. Gildea, J. A. K. Howard and H. Puschmann,
OLEX2: a complete structure solution, refinement and analysis program.
J. Appl. Cryst. (2009). 42, 339-341.
;
_computing_structure_refinement
;
XL, G.M. Sheldrick, Acta Cryst.
(2008). A64, 112-122
;
_computing_structure_solution
;
XS, G.M. Sheldrick, Acta Cryst.
(2008). A64, 112-122
;
_diffrn_ambient_temperature      298.15
_diffrn_measured_fraction_theta_full 0.989
_diffrn_measured_fraction_theta_max 0.989
_diffrn_measurement_device_type  'CCD area detector'
_diffrn_measurement_method       'phi and omega scans'
_diffrn_radiation_monochromator  graphite
_diffrn_radiation_type           MoK\a
_diffrn_radiation_wavelength     0.71073
_diffrn_reflns_av_R_equivalents  0.0638
_diffrn_reflns_av_unetI/netI     0.0400
_diffrn_reflns_limit_h_max       17
_diffrn_reflns_limit_h_min       -17
_diffrn_reflns_limit_k_max       17
_diffrn_reflns_limit_k_min       -17
_diffrn_reflns_limit_l_max       7
_diffrn_reflns_limit_l_min       -18
_diffrn_reflns_number            6400
_diffrn_reflns_theta_full        28.54
_diffrn_reflns_theta_max         28.54
_diffrn_reflns_theta_min         2.12
_diffrn_source                   'fine-focus sealed tube'
_exptl_absorpt_coefficient_mu    7.611
_exptl_absorpt_correction_T_max  1
_exptl_absorpt_correction_T_min  0.540488
_exptl_absorpt_correction_type   multi-scan
_exptl_absorpt_process_details
;
? was used for absorption correction.
R(int) was 0.0841 before and 0.0448 after correction.
The Ratio of minimum to maximum transmission is 0.5405.
The λ/2 correction factor is 0.0015.
;
_exptl_crystal_colour            brown
_exptl_crystal_density_diffrn    1.733
_exptl_crystal_density_method    'not measured'
_exptl_crystal_description       block
_exptl_crystal_F_000             1213
_exptl_crystal_size_max          0.23
_exptl_crystal_size_mid          0.23
_exptl_crystal_size_min          0.23
_platon_squeeze_details
;
;
_refine_diff_density_max         1.089
_refine_diff_density_min         -0.591
_refine_diff_density_rms         0.184
_refine_ls_extinction_method     none
_refine_ls_goodness_of_fit_ref   1.283
_refine_ls_hydrogen_treatment    none
_refine_ls_matrix_type           full
_refine_ls_number_parameters     20
_refine_ls_number_reflns         350
_refine_ls_number_restraints     1
_refine_ls_restrained_S_all      1.281
_refine_ls_R_factor_all          0.0778
_refine_ls_R_factor_gt           0.0613
_refine_ls_shift/su_max          0.000
_refine_ls_shift/su_mean         0.000
_refine_ls_structure_factor_coef Fsqd
_refine_ls_weighting_details
'calc w=1/[σ²(Fo²)+(0.1247P)²+13.8104P] where P=(Fo²+2Fc²)/3'
_refine_ls_weighting_scheme      calc
_refine_ls_wR_factor_gt          0.2320
_refine_ls_wR_factor_ref         0.2430
_reflns_number_gt                275
_reflns_number_total             350
_reflns_threshold_expression     >2sigma(I)
_cod_data_source_file            ic5024168_si_002.cif
_cod_data_source_block           7
_cod_depositor_comments
'Adding full bibliography for 4342013--4342020.cif.'
_cod_database_code               4342019
loop_
_space_group_symop_id
_space_group_symop_operation_xyz
1 'x, y, z'
2 '-x, -y, z'
3 '-x, y, -z'
4 'x, -y, -z'
5 'z, x, y'
6 'z, -x, -y'
7 '-z, -x, y'
8 '-z, x, -y'
9 'y, z, x'
10 '-y, z, -x'
11 'y, -z, -x'
12 '-y, -z, x'
13 'y, x, -z'
14 '-y, -x, -z'
15 'y, -x, z'
16 '-y, x, z'
17 'x, z, -y'
18 '-x, z, y'
19 '-x, -z, -y'
20 'x, -z, y'
21 'z, y, -x'
22 'z, -y, x'
23 '-z, y, x'
24 '-z, -y, -x'
25 'x+1/2, y+1/2, z+1/2'
26 '-x+1/2, -y+1/2, z+1/2'
27 '-x+1/2, y+1/2, -z+1/2'
28 'x+1/2, -y+1/2, -z+1/2'
29 'z+1/2, x+1/2, y+1/2'
30 'z+1/2, -x+1/2, -y+1/2'
31 '-z+1/2, -x+1/2, y+1/2'
32 '-z+1/2, x+1/2, -y+1/2'
33 'y+1/2, z+1/2, x+1/2'
34 '-y+1/2, z+1/2, -x+1/2'
35 'y+1/2, -z+1/2, -x+1/2'
36 '-y+1/2, -z+1/2, x+1/2'
37 'y+1/2, x+1/2, -z+1/2'
38 '-y+1/2, -x+1/2, -z+1/2'
39 'y+1/2, -x+1/2, z+1/2'
40 '-y+1/2, x+1/2, z+1/2'
41 'x+1/2, z+1/2, -y+1/2'
42 '-x+1/2, z+1/2, y+1/2'
43 '-x+1/2, -z+1/2, -y+1/2'
44 'x+1/2, -z+1/2, y+1/2'
45 'z+1/2, y+1/2, -x+1/2'
46 'z+1/2, -y+1/2, x+1/2'
47 '-z+1/2, y+1/2, x+1/2'
48 '-z+1/2, -y+1/2, -x+1/2'
49 '-x, -y, -z'
50 'x, y, -z'
51 'x, -y, z'
52 '-x, y, z'
53 '-z, -x, -y'
54 '-z, x, y'
55 'z, x, -y'
56 'z, -x, y'
57 '-y, -z, -x'
58 'y, -z, x'
59 '-y, z, x'
60 'y, z, -x'
61 '-y, -x, z'
62 'y, x, z'
63 '-y, x, -z'
64 'y, -x, -z'
65 '-x, -z, y'
66 'x, -z, -y'
67 'x, z, y'
68 '-x, z, -y'
69 '-z, -y, x'
70 '-z, y, -x'
71 'z, -y, -x'
72 'z, y, x'
73 '-x+1/2, -y+1/2, -z+1/2'
74 'x+1/2, y+1/2, -z+1/2'
75 'x+1/2, -y+1/2, z+1/2'
76 '-x+1/2, y+1/2, z+1/2'
77 '-z+1/2, -x+1/2, -y+1/2'
78 '-z+1/2, x+1/2, y+1/2'
79 'z+1/2, x+1/2, -y+1/2'
80 'z+1/2, -x+1/2, y+1/2'
81 '-y+1/2, -z+1/2, -x+1/2'
82 'y+1/2, -z+1/2, x+1/2'
83 '-y+1/2, z+1/2, x+1/2'
84 'y+1/2, z+1/2, -x+1/2'
85 '-y+1/2, -x+1/2, z+1/2'
86 'y+1/2, x+1/2, z+1/2'
87 '-y+1/2, x+1/2, -z+1/2'
88 'y+1/2, -x+1/2, -z+1/2'
89 '-x+1/2, -z+1/2, y+1/2'
90 'x+1/2, -z+1/2, -y+1/2'
91 'x+1/2, z+1/2, y+1/2'
92 '-x+1/2, z+1/2, -y+1/2'
93 '-z+1/2, -y+1/2, x+1/2'
94 '-z+1/2, y+1/2, -x+1/2'
95 'z+1/2, -y+1/2, -x+1/2'
96 'z+1/2, y+1/2, x+1/2'
loop_
_atom_site_label
_atom_site_type_symbol
_atom_site_fract_x
_atom_site_fract_y
_atom_site_fract_z
_atom_site_U_iso_or_equiv
_atom_site_adp_type
_atom_site_occupancy
_atom_site_symmetry_multiplicity
_atom_site_calc_flag
_atom_site_refinement_flags
_atom_site_disorder_assembly
_atom_site_disorder_group
Br1 Br 0.5000 0.5000 0.71369(14) 0.0402(8) Uani 1 8 d S . .
Cu1 Cu 0.39324(10) 0.39324(10) 0.60676(10) 0.0535(12) Uani 0.848(13) 6 d SP . .
N1 N 0.3053(6) 0.3053(6) 0.6947(6) 0.039(3) Uani 1 6 d SD . .
C1 C 0.2521(16) 0.2521(16) 0.638(2) 0.118(12) Uani 0.56(3) 2 d SPD A 1
C2 C 0.324(2) 0.324(2) 0.785(2) 0.118(12) Uani 0.44(3) 2 d SPD A 2
loop_
_atom_site_aniso_label
_atom_site_aniso_U_11
_atom_site_aniso_U_22
_atom_site_aniso_U_33
_atom_site_aniso_U_23
_atom_site_aniso_U_13
_atom_site_aniso_U_12
Br1 0.0389(9) 0.0389(9) 0.0430(12) 0.000 0.000 0.000
Cu1 0.0535(12) 0.0535(12) 0.0535(12) 0.0099(6) 0.0099(6) -0.0099(6)
N1 0.039(3) 0.039(3) 0.039(3) 0.003(3) 0.003(3) -0.003(3)
C1 0.151(19) 0.151(19) 0.051(11) -0.016(7) -0.016(7) -0.06(2)
C2 0.151(19) 0.151(19) 0.051(11) -0.016(7) -0.016(7) -0.06(2)
loop_
_atom_type_symbol
_atom_type_description
_atom_type_scat_dispersion_real
_atom_type_scat_dispersion_imag
_atom_type_scat_source
C C 0.0033 0.0016 'International Tables Vol C Tables 4.2.6.8 and 6.1.1.4'
Br Br -0.2901 2.4595 'International Tables Vol C Tables 4.2.6.8 and 6.1.1.4'
Cu Cu 0.3201 1.2651 'International Tables Vol C Tables 4.2.6.8 and 6.1.1.4'
N N 0.0061 0.0033 'International Tables Vol C Tables 4.2.6.8 and 6.1.1.4'
loop_
_geom_angle_atom_site_label_1
_geom_angle_atom_site_label_2
_geom_angle_atom_site_label_3
_geom_angle
_geom_angle_site_symmetry_1
_geom_angle_site_symmetry_3
Cu1 Br1 Cu1 70.49(6) . 51_565
Cu1 Br1 Cu1 109.38(12) 52_655 51_565
Cu1 Br1 Cu1 70.49(6) 2_665 51_565
Cu1 Br1 Cu1 70.49(6) . 52_655
Cu1 Br1 Cu1 109.38(12) . 2_665
Cu1 Br1 Cu1 70.49(6) 52_655 2_665
Br1 Cu1 Br1 109.51(6) . 53_666
Br1 Cu1 Br1 109.51(6) . 57_666
Br1 Cu1 Br1 109.51(6) 53_666 57_666
Br1 Cu1 Cu1 54.76(3) 53_666 51_565
Br1 Cu1 Cu1 125.31(6) 57_666 51_565
Br1 Cu1 Cu1 54.76(3) 57_666 50_556
Br1 Cu1 Cu1 54.76(3) . 51_565
Br1 Cu1 Cu1 54.76(3) 53_666 50_556
Br1 Cu1 Cu1 54.76(3) 57_666 52_655
Br1 Cu1 Cu1 125.31(6) . 50_556
Br1 Cu1 Cu1 125.31(6) 53_666 52_655
Br1 Cu1 Cu1 54.76(3) . 52_655
Cu1 Cu1 Cu1 90.0 51_565 50_556
Cu1 Cu1 Cu1 90.0 52_655 50_556
Cu1 Cu1 Cu1 90.0 52_655 51_565
N1 Cu1 Br1 109.43(6) . .
N1 Cu1 Br1 109.43(6) . 53_666
N1 Cu1 Br1 109.43(6) . 57_666
N1 Cu1 Cu1 125.3 . 51_565
N1 Cu1 Cu1 125.3 . 52_655
N1 Cu1 Cu1 125.264(1) . 50_556
C1 N1 Cu1 107.8(17) 11_566 .
C1 N1 Cu1 107.8(17) 8_656 .
C1 N1 Cu1 107.8(17) . .
C1 N1 C1 111.0(16) . 8_656
C1 N1 C1 111.0(16) . 11_566
C1 N1 C1 111.0(16) 8_656 11_566
C1 N1 C2 143(3) 8_656 8_656
C1 N1 C2 56.7(5) . 8_656
C1 N1 C2 56.7(5) . 11_566
C1 N1 C2 56.7(5) 11_566 8_656
C1 N1 C2 56.7(5) 8_656 .
C1 N1 C2 143(3) . .
C1 N1 C2 56.7(5) 11_566 .
C1 N1 C2 56.7(5) 8_656 11_566
C1 N1 C2 143(3) 11_566 11_566
C2 N1 Cu1 109(2) 8_656 .
C2 N1 Cu1 109(2) 11_566 .
C2 N1 Cu1 109(2) . .
C2 N1 C2 110(2) . 11_566
C2 N1 C2 110(2) . 8_656
C2 N1 C2 110(2) 11_566 8_656
loop_
_geom_bond_atom_site_label_1
_geom_bond_atom_site_label_2
_geom_bond_distance
_geom_bond_site_symmetry_2
Br1 Cu1 2.5148(15) 2_665
Br1 Cu1 2.5148(15) 51_565
Br1 Cu1 2.5148(15) 52_655
Br1 Cu1 2.5148(15) .
Cu1 Br1 2.5148(15) 53_666
Cu1 Br1 2.5148(15) 57_666
Cu1 Cu1 2.902(3) 51_565
Cu1 Cu1 2.902(3) 50_556
Cu1 Cu1 2.902(3) 52_655
Cu1 N1 2.070(13) .
N1 C1 1.28(2) 11_566
N1 C1 1.28(2) 8_656
N1 C1 1.28(2) .
N1 C2 1.28(3) 8_656
N1 C2 1.28(3) 11_566
N1 C2 1.28(3) .
loop_
_platon_squeeze_void_nr
_platon_squeeze_void_average_x
_platon_squeeze_void_average_y
_platon_squeeze_void_average_z
_platon_squeeze_void_volume
_platon_squeeze_void_count_electrons
_platon_squeeze_void_content
1 -0.028 -0.011 0.454 1609 886 ' '
