#------------------------------------------------------------------------------
#$Date: 2016-03-23 23:09:19 +0100 (Wed 23 de Mar de 2016) $
#$Revision: 179525 $
#$URL: svn://www.crystallography.net/cod/cif/4/34/22/4342211.cif $
#------------------------------------------------------------------------------
#
# This file is available in the Crystallography Open Database (COD),
# http://www.crystallography.net/
#
# All data on this site have been placed in the public domain by the
# contributors.
#
data_4342211
loop_
_publ_author_name
'Klaus, Danielle R.'
'Keene, Matthew'
'Silchenko, Svitlana'
'Berezin, Mikhail'
'Gerasimchuk, Nikolay'
_publ_section_title
;
 1D Polymeric Platinum Cyanoximate: A Strategy toward Luminescence in the
 Near-Infrared Region beyond 1000 nm.
;
_journal_issue                   4
_journal_name_full               'Inorganic chemistry'
_journal_page_first              1890
_journal_page_last               1900
_journal_paper_doi               10.1021/ic502805h
_journal_volume                  54
_journal_year                    2015
_chemical_formula_moiety         'C7 H11 N3 O2'
_chemical_formula_sum            'C7 H11 N3 O2'
_chemical_formula_weight         169.19
_chemical_name_common            'H(DECO), diethylamide-cyanoxime'
_chemical_name_systematic
; 
 N,N'-diethylamono-2-oximino-cyanacetamide 
;
_space_group_IT_number           14
_symmetry_cell_setting           monoclinic
_symmetry_space_group_name_Hall  '-P 2ybc'
_symmetry_space_group_name_H-M   'P 1 21/c 1'
_atom_sites_solution_hydrogens   geom
_atom_sites_solution_primary     direct
_atom_sites_solution_secondary   difmap
_audit_creation_method           SHELXL-97
_cell_angle_alpha                90.00
_cell_angle_beta                 98.548(2)
_cell_angle_gamma                90.00
_cell_formula_units_Z            4
_cell_length_a                   8.6971(17)
_cell_length_b                   8.1819(16)
_cell_length_c                   13.203(3)
_cell_measurement_reflns_used    249
_cell_measurement_temperature    292(2)
_cell_measurement_theta_max      54.17
_cell_measurement_theta_min      2.54
_cell_volume                     929.1(3)
_computing_cell_refinement       'Bruker SAINT'
_computing_data_collection       'Bruker APEX2'
_computing_data_reduction        'Bruker SAINT'
_computing_molecular_graphics    'Bruker SHELXTL'
_computing_publication_material  'Bruker SHELXTL'
_computing_structure_refinement  'SHELXL-97 (Sheldrick, 2008)'
_computing_structure_solution    'SHELXS-97 (Sheldrick, 2008)'
_diffrn_ambient_temperature      292(2)
_diffrn_measured_fraction_theta_full 0.999
_diffrn_measured_fraction_theta_max 0.999
_diffrn_measurement_device_type  'Bruker APEX2 CCD area detector'
_diffrn_measurement_method       '4 omega full-sphere scans'
_diffrn_radiation_monochromator  graphite
_diffrn_radiation_source         'fine-focus sealed tube'
_diffrn_radiation_type           MoK\a
_diffrn_radiation_wavelength     0.71073
_diffrn_reflns_av_R_equivalents  0.0302
_diffrn_reflns_av_sigmaI/netI    0.0232
_diffrn_reflns_limit_h_max       11
_diffrn_reflns_limit_h_min       -11
_diffrn_reflns_limit_k_max       10
_diffrn_reflns_limit_k_min       -10
_diffrn_reflns_limit_l_max       16
_diffrn_reflns_limit_l_min       -16
_diffrn_reflns_number            10083
_diffrn_reflns_theta_full        27.10
_diffrn_reflns_theta_max         27.10
_diffrn_reflns_theta_min         2.37
_exptl_absorpt_coefficient_mu    0.091
_exptl_absorpt_correction_T_max  1.000
_exptl_absorpt_correction_T_min  0.9285
_exptl_absorpt_correction_type   numerical
_exptl_crystal_colour            colorless
_exptl_crystal_density_diffrn    1.210
_exptl_crystal_density_meas      ?
_exptl_crystal_density_method    'not measured'
_exptl_crystal_description       plate
_exptl_crystal_F_000             360
_exptl_crystal_size_max          0.968
_exptl_crystal_size_mid          0.291
_exptl_crystal_size_min          0.078
_refine_diff_density_max         0.115
_refine_diff_density_min         -0.133
_refine_diff_density_rms         0.028
_refine_ls_extinction_method     none
_refine_ls_goodness_of_fit_ref   1.024
_refine_ls_hydrogen_treatment    noref
_refine_ls_matrix_type           full
_refine_ls_number_parameters     114
_refine_ls_number_reflns         2048
_refine_ls_number_restraints     0
_refine_ls_restrained_S_all      1.024
_refine_ls_R_factor_all          0.0601
_refine_ls_R_factor_gt           0.0391
_refine_ls_shift/su_max          0.000
_refine_ls_shift/su_mean         0.000
_refine_ls_structure_factor_coef Fsqd
_refine_ls_weighting_details
'calc w=1/[σ²(Fo²)+(0.0433P)²+0.1612P] where P=(Fo²+2Fc²)/3'
_refine_ls_weighting_scheme      calc
_refine_ls_wR_factor_gt          0.0934
_refine_ls_wR_factor_ref         0.1070
_reflns_number_gt                1455
_reflns_number_total             2048
_reflns_threshold_expression     >2sigma(I)
_cod_data_source_file            ic502805h_si_003.cif
_cod_data_source_block           o-hdeco-rt
_cod_depositor_comments
;
The following automatic conversions were performed:

'_symmetry_cell_setting' value 'Monoclinic' changed to 'monoclinic'
according to
/usr/data/users/saulius/crontab/automatic-downloads/rss-feeds/ACS/lib/dictionaries/cif_core.dic
dictionary named 'cif_core.dic' version 2.4.2 from 2011-04-26.

'_exptl_crystal_density_meas' value 'not measured' was changed to '?'
- the value is perceived as not measured.

Automatic conversion script
Id: cif_fix_values 3008 2015-01-20 13:52:24Z robertas 

 Adding full bibliography for 4342210--4342214.cif.
;
_cod_original_sg_symbol_H-M      P2(1)/c
_cod_database_code               4342211
loop_
_symmetry_equiv_pos_as_xyz
'x, y, z'
'-x, y+1/2, -z+1/2'
'-x, -y, -z'
'x, -y-1/2, z-1/2'
loop_
_atom_site_label
_atom_site_type_symbol
_atom_site_fract_x
_atom_site_fract_y
_atom_site_fract_z
_atom_site_U_iso_or_equiv
_atom_site_adp_type
_atom_site_occupancy
_atom_site_symmetry_multiplicity
_atom_site_calc_flag
_atom_site_refinement_flags
C1 C 1.02992(15) 0.12683(17) 0.21782(9) 0.0426(3) Uani 1 1 d .
C2 C 0.93497(16) 0.16210(17) 0.30156(9) 0.0446(3) Uani 1 1 d .
C3 C 0.69874(18) 0.1537(2) 0.37494(11) 0.0583(4) Uani 1 1 d .
H3A H 0.5900 0.1632 0.3458 0.070 Uiso 1 1 calc R
H3B H 0.7331 0.2591 0.4033 0.070 Uiso 1 1 calc R
C4 C 0.7154(2) 0.0287(3) 0.45919(13) 0.0833(6) Uani 1 1 d .
H4A H 0.6828 -0.0762 0.4312 0.125 Uiso 1 1 calc R
H4B H 0.6519 0.0594 0.5096 0.125 Uiso 1 1 calc R
H4C H 0.8222 0.0229 0.4905 0.125 Uiso 1 1 calc R
C5 C 1.18365(18) 0.06382(19) 0.24924(10) 0.0488(4) Uani 1 1 d .
C6 C 0.71474(19) 0.0002(2) 0.21308(12) 0.0628(4) Uani 1 1 d .
H6A H 0.6566 -0.0826 0.2440 0.075 Uiso 1 1 calc R
H6B H 0.7942 -0.0549 0.1815 0.075 Uiso 1 1 calc R
C7 C 0.6063(2) 0.0887(3) 0.13147(14) 0.0948(7) Uani 1 1 d .
H7A H 0.5304 0.1480 0.1627 0.142 Uiso 1 1 calc R
H7B H 0.5547 0.0109 0.0836 0.142 Uiso 1 1 calc R
H7C H 0.6648 0.1636 0.0962 0.142 Uiso 1 1 calc R
H1 H 1.045(3) 0.185(3) -0.001(2) 0.142 Uiso 1 1 d .
N1 N 0.98124(14) 0.17181(16) 0.12597(8) 0.0511(3) Uani 1 1 d .
N2 N 0.78992(13) 0.10987(15) 0.29353(8) 0.0473(3) Uani 1 1 d .
N3 N 1.30466(17) 0.0130(2) 0.27471(11) 0.0745(4) Uani 1 1 d .
O1 O 1.09132(12) 0.14874(15) 0.06302(7) 0.0604(3) Uani 1 1 d .
O2 O 1.00187(12) 0.24295(15) 0.37412(7) 0.0626(3) Uani 1 1 d .
loop_
_atom_site_aniso_label
_atom_site_aniso_U_11
_atom_site_aniso_U_22
_atom_site_aniso_U_33
_atom_site_aniso_U_23
_atom_site_aniso_U_13
_atom_site_aniso_U_12
C1 0.0488(8) 0.0494(8) 0.0296(6) -0.0013(5) 0.0057(5) -0.0040(6)
C2 0.0523(8) 0.0536(8) 0.0280(6) 0.0014(6) 0.0061(5) 0.0015(6)
C3 0.0563(9) 0.0751(11) 0.0467(8) -0.0028(7) 0.0185(7) 0.0030(8)
C4 0.1018(15) 0.0986(15) 0.0568(10) 0.0109(10) 0.0359(10) -0.0026(12)
C5 0.0514(9) 0.0620(9) 0.0332(7) 0.0027(6) 0.0074(6) -0.0046(7)
C6 0.0641(10) 0.0744(11) 0.0520(9) -0.0110(8) 0.0158(8) -0.0185(8)
C7 0.0757(12) 0.152(2) 0.0521(10) 0.0009(12) -0.0078(9) -0.0257(13)
N1 0.0566(7) 0.0663(8) 0.0317(5) 0.0019(5) 0.0104(5) 0.0023(6)
N2 0.0489(7) 0.0586(7) 0.0353(6) -0.0020(5) 0.0093(5) -0.0004(5)
N3 0.0570(8) 0.1065(12) 0.0592(8) 0.0102(8) 0.0068(7) 0.0071(8)
O1 0.0648(7) 0.0867(8) 0.0325(5) 0.0070(5) 0.0159(5) 0.0042(6)
O2 0.0644(7) 0.0896(9) 0.0342(5) -0.0158(5) 0.0088(5) -0.0123(6)
loop_
_atom_type_symbol
_atom_type_description
_atom_type_scat_dispersion_real
_atom_type_scat_dispersion_imag
_atom_type_scat_source
C C 0.0033 0.0016 'International Tables Vol C Tables 4.2.6.8 and 6.1.1.4'
H H 0.0000 0.0000 'International Tables Vol C Tables 4.2.6.8 and 6.1.1.4'
N N 0.0061 0.0033 'International Tables Vol C Tables 4.2.6.8 and 6.1.1.4'
O O 0.0106 0.0060 'International Tables Vol C Tables 4.2.6.8 and 6.1.1.4'
loop_
_geom_angle_atom_site_label_1
_geom_angle_atom_site_label_2
_geom_angle_atom_site_label_3
_geom_angle
N1 C1 C5 122.74(12)
N1 C1 C2 120.14(12)
C5 C1 C2 116.50(11)
O2 C2 N2 124.69(12)
O2 C2 C1 115.21(12)
N2 C2 C1 120.09(12)
N2 C3 C4 111.84(14)
N2 C3 H3A 109.2
C4 C3 H3A 109.2
N2 C3 H3B 109.2
C4 C3 H3B 109.2
H3A C3 H3B 107.9
C3 C4 H4A 109.5
C3 C4 H4B 109.5
H4A C4 H4B 109.5
C3 C4 H4C 109.5
H4A C4 H4C 109.5
H4B C4 H4C 109.5
N3 C5 C1 179.36(17)
N2 C6 C7 112.78(15)
N2 C6 H6A 109.0
C7 C6 H6A 109.0
N2 C6 H6B 109.0
C7 C6 H6B 109.0
H6A C6 H6B 107.8
C6 C7 H7A 109.5
C6 C7 H7B 109.5
H7A C7 H7B 109.5
C6 C7 H7C 109.5
H7A C7 H7C 109.5
H7B C7 H7C 109.5
C1 N1 O1 111.90(11)
C2 N2 C6 124.97(12)
C2 N2 C3 118.32(12)
C6 N2 C3 116.55(12)
N1 O1 H1 105.1(16)
loop_
_geom_bond_atom_site_label_1
_geom_bond_atom_site_label_2
_geom_bond_distance
C1 N1 1.2778(16)
C1 C5 1.435(2)
C1 C2 1.5031(18)
C2 O2 1.2362(16)
C2 N2 1.3211(18)
C3 N2 1.4717(17)
C3 C4 1.502(2)
C3 H3A 0.9700
C3 H3B 0.9700
C4 H4A 0.9600
C4 H4B 0.9600
C4 H4C 0.9600
C5 N3 1.1350(19)
C6 N2 1.4680(19)
C6 C7 1.508(3)
C6 H6A 0.9700
C6 H6B 0.9700
C7 H7A 0.9600
C7 H7B 0.9600
C7 H7C 0.9600
N1 O1 1.3710(14)
O1 H1 0.92(3)
loop_
_geom_hbond_atom_site_label_D
_geom_hbond_atom_site_label_H
_geom_hbond_atom_site_label_A
_geom_hbond_distance_DH
_geom_hbond_distance_HA
_geom_hbond_distance_DA
_geom_hbond_angle_DHA
_geom_hbond_site_symmetry_A
O1 H1 O2 0.92(3) 1.74(3) 2.6523(13) 167(2) 4_565
loop_
_geom_torsion_atom_site_label_1
_geom_torsion_atom_site_label_2
_geom_torsion_atom_site_label_3
_geom_torsion_atom_site_label_4
_geom_torsion
N1 C1 C2 O2 -122.37(15)
C5 C1 C2 O2 48.85(18)
N1 C1 C2 N2 56.55(19)
C5 C1 C2 N2 -132.24(14)
C5 C1 N1 O1 1.4(2)
C2 C1 N1 O1 172.04(12)
O2 C2 N2 C6 -173.49(14)
C1 C2 N2 C6 7.7(2)
O2 C2 N2 C3 1.6(2)
C1 C2 N2 C3 -177.17(12)
C7 C6 N2 C2 -102.88(18)
C7 C6 N2 C3 81.93(17)
C4 C3 N2 C2 -89.89(18)
C4 C3 N2 C6 85.64(17)
