#------------------------------------------------------------------------------
#$Date: 2021-05-16 11:36:21 +0200 (dom 16 de may de 2021) $
#$Revision: 265253 $
#$URL: svn://www.crystallography.net/cod/cif/4/34/57/4345775.cif $
#------------------------------------------------------------------------------
#
# This file is available in the Crystallography Open Database (COD),
# http://www.crystallography.net/
#
# All data on this site have been placed in the public domain by the
# contributors.
#
data_4345775
loop_
_publ_author_name
'Bukovsky, Eric V.'
'Peryshkov, Dmitry V.'
'Wu, Hui'
'Zhou, Wei'
'Tang, Wan Si'
'Jones, W. Matthew'
'Stavila, Vitalie'
'Udovic, Terrence J.'
'Strauss, Steven H.'
_publ_section_title
;
 Comparison of the Coordination of B12F12(2-), B12Cl12(2-), and B12H12(2-)
 to Na(+) in the Solid State: Crystal Structures and Thermal Behavior of
 Na2(B12F12), Na2(H2O)4(B12F12), Na2(B12Cl12), and Na2(H2O)6(B12Cl12).
;
_journal_issue                   8
_journal_name_full               'Inorganic chemistry'
_journal_page_first              4369
_journal_page_last               4379
_journal_paper_doi               10.1021/acs.inorgchem.6b02920
_journal_volume                  56
_journal_year                    2017
_chemical_formula_sum            'B12 Cl12 Na2'
_chemical_formula_weight         601.14
_space_group_IT_number           205
_symmetry_cell_setting           cubic
_symmetry_space_group_name_Hall  '-P 2ac 2ab 3'
_symmetry_space_group_name_H-M   'P a -3'
_audit_creation_date             2016-03-28T14:45
_audit_creation_method           'from EXP file using GSAS2CIF'
_cell_angle_alpha                90.0
_cell_angle_beta                 90.0
_cell_angle_gamma                90.0
_cell_formula_units_Z            4
_cell_length_a                   12.4694(4)
_cell_length_b                   12.4694
_cell_length_c                   12.4694
_cell_measurement_temperature    5.0
_cell_volume                     1938.82(6)
_computing_structure_refinement  GSAS
_diffrn_ambient_temperature      5
_diffrn_measurement_device_type  'BT-1 neutron powder diffractometer'
_diffrn_radiation_probe          neutron
_diffrn_radiation_wavelength     1.5397
_exptl_absorpt_correction_T_max  1.00000
_exptl_absorpt_correction_T_min  1.00000
_pd_calc_method                  'Rietveld Refinement'
_pd_meas_2theta_range_inc        0.05
_pd_meas_2theta_range_max        167.75
_pd_meas_2theta_range_min        3.0
_pd_meas_number_of_points        3296
_pd_phase_name                   NA2B12CL12
_pd_proc_2theta_range_inc        0.05
_pd_proc_2theta_range_max        167.7187
_pd_proc_2theta_range_min        2.9687
_pd_proc_info_datetime           2016-03-28T14:45:22
_pd_proc_ls_prof_R_factor        0.0191
_pd_proc_ls_prof_wR_expected     0.0233
_pd_proc_ls_prof_wR_factor       0.0236
_pd_proc_number_of_points        3296
_refine_ls_goodness_of_fit_all   1.04
_refine_ls_matrix_type           full
_refine_ls_number_parameters     25
_refine_ls_number_restraints     7
_refine_ls_R_Fsqd_factor         0.03309
_refine_ls_shift/su_max          0.01
_refine_ls_shift/su_mean         0.02
_reflns_d_resolution_high        0.787
_reflns_d_resolution_low         7.199
_reflns_limit_h_max              16
_reflns_limit_h_min              1
_reflns_limit_k_max              11
_reflns_limit_k_min              0
_reflns_limit_l_max              10
_reflns_limit_l_min              0
_reflns_number_total             712
_cod_data_source_file            ic6b02920_si_003.cif
_cod_data_source_block           Na2B12Cl12_5K_publ
_cod_depositor_comments
;
The following automatic conversions were performed:

'_geom_bond_publ_flag' value 'N' changed to 'n' according to
/home/data/users/saulius/crontab/automatic-downloads/current/ACS/lib/dictionaries/cif_core.dic
dictionary named 'cif_core.dic' version 2.4.2 from 2011-04-26 (18
times).

'_geom_angle_publ_flag' value 'N' changed to 'n' according to
/home/data/users/saulius/crontab/automatic-downloads/current/ACS/lib/dictionaries/cif_core.dic
dictionary named 'cif_core.dic' version 2.4.2 from 2011-04-26 (47
times).

Automatic conversion script
Id: cif_fix_values 4973 2017-02-22 13:04:09Z antanas 

2021-05-16
Z value and formula fixed to values more according to usual
chemical conventions.                 miguel
;
_cod_original_formula_sum            'B6 Cl6 Na'
_cod_original_formula_weight         300.57
_cod_original_formula_units_Z            8
_cod_original_cell_volume        1938.82(17)
_cod_database_code               4345775
_gsas_exptl_extinct_corr_t_min   1.00000
_gsas_exptl_extinct_corr_t_max   1.00000
loop_
_symmetry_equiv_pos_site_id
_symmetry_equiv_pos_as_xyz
1 +x,+y,+z
2 +z,+x,+y
3 +y,+z,+x
4 +x+1/2,+y,-z+1/2
5 -z+1/2,+x+1/2,+y
6 +y,-z+1/2,+x+1/2
7 -z,+x+1/2,-y+1/2
8 -y+1/2,-z,+x+1/2
9 +y+1/2,-z+1/2,-x
10 -x,+y+1/2,-z+1/2
11 -z+1/2,-x,+y+1/2
12 +x+1/2,-y+1/2,-z
-1 -x,-y,-z
-2 -z,-x,-y
-3 -y,-z,-x
-4 -x+1/2,-y,+z+1/2
-5 +z+1/2,-x+1/2,-y
-6 -y,+z+1/2,-x+1/2
-7 +z,-x+1/2,+y+1/2
-8 +y+1/2,+z,-x+1/2
-9 -y+1/2,+z+1/2,+x
-10 +x,-y+1/2,+z+1/2
-11 +z+1/2,+x,-y+1/2
-12 -x+1/2,+y+1/2,+z
loop_
_atom_site_type_symbol
_atom_site_label
_atom_site_fract_x
_atom_site_fract_y
_atom_site_fract_z
_atom_site_occupancy
_atom_site_thermal_displace_type
_atom_site_U_iso_or_equiv
_atom_site_symmetry_multiplicity
B B1 0.06545(12) -0.09334(10) 0.07221(11) 1.0 Uiso 0.00213 24
B B2 0.02702(9) 0.03121(16) 0.13081(12) 1.0 Uiso 0.00213 24
Cl Cl1 0.13123(19) -0.19552(18) 0.14865(21) 1.0 Uiso 0.00787 24
Cl Cl2 0.05222(21) 0.06313(17) 0.26895(13) 1.0 Uiso 0.00787 24
Na Na5 0.1311(6) -0.1311(6) 0.3689(6) 1.0 Uiso 0.02793 8
loop_
_atom_type_symbol
_atom_type_scat_length_neutron
_atom_type_scat_source
B 0.5300 International_Tables_Vol_C
Cl 0.9577 International_Tables_Vol_C
Na 0.3630 International_Tables_Vol_C
V -0.0382 International_Tables_Vol_C
loop_
_geom_angle_atom_site_label_1
_geom_angle_atom_site_label_2
_geom_angle_atom_site_label_3
_geom_angle
_geom_angle_site_symmetry_1
_geom_angle_site_symmetry_3
_geom_angle_publ_flag
B1 B1 B1 107.78(5) -2_555 -3_555 n
B1 B1 B2 60.47(6) -2_555 1_555 n
B1 B1 B2 108.69(6) -2_555 2_555 n
B1 B1 B2 60.09(7) -2_555 -3_555 n
B1 B1 Cl1 120.31(12) -2_555 1_555 n
B1 B1 B2 108.69(7) -3_555 1_555 n
B1 B1 B2 60.46(7) -3_555 2_555 n
B1 B1 B2 60.07(6) -3_555 -3_555 n
B1 B1 Cl1 122.14(13) -3_555 1_555 n
B2 B1 B2 60.45(12) 1_555 2_555 n
B2 B1 B2 109.26(15) 1_555 -3_555 n
B2 B1 Cl1 121.68(14) 1_555 1_555 n
B2 B1 B2 109.24(13) 2_555 -3_555 n
B2 B1 Cl1 122.85(15) 2_555 1_555 n
B2 B1 Cl1 119.41(10) -3_555 1_555 n
B1 B2 B1 106.79(17) 1_555 3_555 n
B1 B2 B1 59.46(9) 1_555 -2_555 n
B1 B2 B2 59.79(5) 1_555 2_555 n
B1 B2 B2 107.43(6) 1_555 3_555 n
B1 B2 Cl2 122.64(14) 1_555 1_555 n
B1 B2 B1 59.45(9) 3_555 -2_555 n
B1 B2 B2 107.41(9) 3_555 2_555 n
B1 B2 B2 59.76(9) 3_555 3_555 n
B1 B2 Cl2 121.49(11) 3_555 1_555 n
B1 B2 B2 107.36(5) -2_555 2_555 n
B1 B2 B2 107.34(7) -2_555 3_555 n
B1 B2 Cl2 121.39(12) -2_555 1_555 n
B2 B2 B2 60.0000(14) 2_555 3_555 n
B2 B2 Cl2 122.96(9) 2_555 1_555 n
B2 B2 Cl2 122.23(11) 3_555 1_555 n
B1 Cl1 Na5 108.13(21) 1_555 1_555 n
B2 Cl2 Na5 106.67(23) 1_555 1_555 n
Cl1 Na5 Cl1 74.34(31) 1_555 11_555 n
Cl1 Na5 Cl1 74.34(31) 1_555 -6_545 n
Cl1 Na5 Cl2 79.8(2) 1_555 1_555 n
Cl1 Na5 Cl2 153.9(4) 1_555 11_555 n
Cl1 Na5 Cl2 101.87(13) 1_555 -6_545 n
Cl1 Na5 Cl1 74.34(31) 11_555 -6_545 n
Cl1 Na5 Cl2 101.87(13) 11_555 1_555 n
Cl1 Na5 Cl2 79.8(2) 11_555 11_555 n
Cl1 Na5 Cl2 153.9(4) 11_555 -6_545 n
Cl1 Na5 Cl2 153.9(4) -6_545 1_555 n
Cl1 Na5 Cl2 101.87(13) -6_545 11_555 n
Cl1 Na5 Cl2 79.8(2) -6_545 -6_545 n
Cl2 Na5 Cl2 102.82(31) 1_555 11_555 n
Cl2 Na5 Cl2 102.82(31) 1_555 -6_545 n
Cl2 Na5 Cl2 102.82(31) 11_555 -6_545 n
loop_
_geom_bond_atom_site_label_1
_geom_bond_atom_site_label_2
_geom_bond_distance
_geom_bond_site_symmetry_2
_geom_bond_publ_flag
B1 B1 1.7711(22) -2_555 n
B1 B1 1.7711(22) -3_555 n
B1 B2 1.7821(9) 1_555 n
B1 B2 1.7827(12) 2_555 n
B1 B2 1.7894(13) -3_555 n
B1 Cl1 1.791(3) 1_555 n
B2 B1 1.7821(9) 1_555 n
B2 B1 1.7827(12) 3_555 n
B2 B1 1.7894(13) -2_555 n
B2 B2 1.7944(33) 2_555 n
B2 B2 1.7944(33) 3_555 n
B2 Cl2 1.7956(9) 1_555 n
Na5 Cl1 2.861(11) 1_555 n
Na5 Cl1 2.861(11) 11_555 n
Na5 Cl1 2.861(11) -6_545 n
Na5 Cl2 2.896(6) 1_555 n
Na5 Cl2 2.896(6) 11_555 n
Na5 Cl2 2.896(6) -6_545 n
