#------------------------------------------------------------------------------
#$Date: 2016-03-24 00:56:44 +0100 (jue 24 de mar de 2016) $
#$Revision: 179547 $
#$URL: svn://www.crystallography.net/cod/cif/4/50/16/4501615.cif $
#------------------------------------------------------------------------------
#
# This file is available in the Crystallography Open Database (COD),
# http://www.crystallography.net/
#
# All data on this site have been placed in the public domain by the
# contributors.
#
data_4501615
loop_
_publ_author_name
'Li, Xinfa'
'Liu, Tianfu'
'Hu, Bing'
'Li, Guoliang'
'Zhang, Hui'
'Cao, Rong'
_publ_section_title
;
 Homochiral Supramolecular Compounds Constructed from Amino Acid
 Derivatives: Syntheses, Structures, Chiroptical, and Photoluminescence
 Properties
;
_journal_issue                   7
_journal_name_full               'Crystal Growth & Design'
_journal_page_first              3051
_journal_paper_doi               10.1021/cg100163g
_journal_volume                  10
_journal_year                    2010
_chemical_absolute_configuration unk
_chemical_formula_sum            'C9 H12 N2 O2'
_chemical_formula_weight         180.21
_chemical_name_systematic
; 
 ? 
;
_space_group_IT_number           19
_symmetry_cell_setting           orthorhombic
_symmetry_space_group_name_Hall  'P 2ac 2ab'
_symmetry_space_group_name_H-M   'P 21 21 21'
_atom_sites_solution_hydrogens   geom
_atom_sites_solution_primary     direct
_atom_sites_solution_secondary   difmap
_audit_creation_method           SHELXL-97
_cell_angle_alpha                90.00
_cell_angle_beta                 90.00
_cell_angle_gamma                90.00
_cell_formula_units_Z            4
_cell_length_a                   5.3333(5)
_cell_length_b                   8.6902(7)
_cell_length_c                   19.9335(17)
_cell_measurement_reflns_used    2464
_cell_measurement_temperature    293(2)
_cell_measurement_theta_max      25.69
_cell_measurement_theta_min      2.12
_cell_volume                     923.87(14)
_computing_cell_refinement       'Siemens SMART'
_computing_data_collection       'Siemens SMART'
_computing_data_reduction        'Siemens SMART'
_computing_molecular_graphics    'Bruker SHELXTL'
_computing_publication_material  'Bruker SHELXTL'
_computing_structure_refinement  'SHELXL-97 (Sheldrick, 1997)'
_computing_structure_solution    'SHELXS-97 (Sheldrick, 1990)'
_diffrn_ambient_temperature      293(2)
_diffrn_measured_fraction_theta_full 0.996
_diffrn_measured_fraction_theta_max 0.996
_diffrn_measurement_device_type  'CCD area detector'
_diffrn_measurement_method       'ω scans'
_diffrn_radiation_monochromator  graphite
_diffrn_radiation_source         'fine-focus sealed tube'
_diffrn_radiation_type           MoK\a
_diffrn_radiation_wavelength     0.71073
_diffrn_reflns_av_R_equivalents  0.0421
_diffrn_reflns_av_sigmaI/netI    0.0463
_diffrn_reflns_limit_h_max       5
_diffrn_reflns_limit_h_min       -6
_diffrn_reflns_limit_k_max       10
_diffrn_reflns_limit_k_min       -10
_diffrn_reflns_limit_l_max       21
_diffrn_reflns_limit_l_min       -24
_diffrn_reflns_number            5175
_diffrn_reflns_theta_full        25.69
_diffrn_reflns_theta_max         25.69
_diffrn_reflns_theta_min         2.04
_diffrn_standards_interval_count none
_diffrn_standards_interval_time  none
_exptl_absorpt_coefficient_mu    0.093
_exptl_absorpt_correction_T_max  0.9902
_exptl_absorpt_correction_T_min  0.9356
_exptl_absorpt_correction_type   empirical
_exptl_absorpt_process_details   'SADABS (Sheldrick, 1996)'
_exptl_crystal_colour            colorless
_exptl_crystal_density_diffrn    1.296
_exptl_crystal_density_method    'not measured'
_exptl_crystal_description       rod-like
_exptl_crystal_F_000             384
_exptl_crystal_size_max          0.40
_exptl_crystal_size_mid          0.18
_exptl_crystal_size_min          0.10
_refine_diff_density_max         0.157
_refine_diff_density_min         -0.194
_refine_diff_density_rms         0.055
_refine_ls_abs_structure_details 'Flack H D (1983), Acta Cryst. A39, 876-881'
_refine_ls_abs_structure_Flack   0(2)
_refine_ls_extinction_coef       0.018(3)
_refine_ls_extinction_expression Fc^*^=kFc[1+0.001xFc²λ³/sin(2θ)]^-1/4^
_refine_ls_extinction_method     SHELXL
_refine_ls_goodness_of_fit_ref   1.017
_refine_ls_hydrogen_treatment    constr
_refine_ls_matrix_type           full
_refine_ls_number_parameters     120
_refine_ls_number_reflns         1768
_refine_ls_number_restraints     0
_refine_ls_restrained_S_all      1.017
_refine_ls_R_factor_all          0.0664
_refine_ls_R_factor_gt           0.0430
_refine_ls_shift/su_max          0.000
_refine_ls_shift/su_mean         0.000
_refine_ls_structure_factor_coef Fsqd
_refine_ls_weighting_details
'calc w=1/[σ²(Fo²)+(0.0400P)²+0.3200P] where P=(Fo²+2Fc²)/3'
_refine_ls_weighting_scheme      calc
_refine_ls_wR_factor_gt          0.0906
_refine_ls_wR_factor_ref         0.1032
_reflns_number_gt                1426
_reflns_number_total             1768
_reflns_threshold_expression     >2sigma(I)
_cod_data_source_file            cg100163g_si_002.cif
_cod_data_source_block           2-D-Hpala
_cod_depositor_comments
;
The following automatic conversions were performed:

'_symmetry_cell_setting' value 'Orthorhombic' changed to
'orthorhombic' according to
/home/saulius/struct/CIF-dictionaries/cif_core.dic dictionary named
'cif_core.dic' version 2.4.2 from 2011-04-26.

Automatic conversion script
Id: cif_fix_values 1715 2011-07-08 13:25:40Z adriana 
;
_cod_original_sg_symbol_H-M      P2(1)2(1)2(1)
_cod_database_code               4501615
loop_
_symmetry_equiv_pos_as_xyz
'x, y, z'
'-x+1/2, -y, z+1/2'
'x+1/2, -y+1/2, -z'
'-x, y+1/2, -z+1/2'
loop_
_atom_site_label
_atom_site_type_symbol
_atom_site_fract_x
_atom_site_fract_y
_atom_site_fract_z
_atom_site_U_iso_or_equiv
_atom_site_adp_type
_atom_site_occupancy
_atom_site_symmetry_multiplicity
_atom_site_calc_flag
_atom_site_refinement_flags
O1 O 0.2813(3) 1.09841(18) 0.75156(9) 0.0462(5) Uani 1 1 d .
O2 O 0.2572(3) 0.86992(18) 0.70338(10) 0.0533(5) Uani 1 1 d .
N1 N 0.7836(3) 1.05497(18) 0.77479(8) 0.0284(4) Uani 1 1 d .
H1A H 0.9487 1.0652 0.7665 0.034 Uiso 1 1 calc R
H1B H 0.7199 1.1496 0.7816 0.034 Uiso 1 1 calc R
N2 N 0.9708(5) 0.8802(2) 0.93285(10) 0.0536(6) Uani 1 1 d .
C1 C 0.3751(4) 0.9826(2) 0.72451(11) 0.0308(5) Uani 1 1 d .
C2 C 0.6591(4) 0.9843(3) 0.71487(11) 0.0315(5) Uani 1 1 d .
H2A H 0.7189 0.8784 0.7095 0.038 Uiso 1 1 calc R
C3 C 0.7277(5) 1.0763(3) 0.65278(11) 0.0485(6) Uani 1 1 d .
H3A H 0.9060 1.0731 0.6463 0.073 Uiso 1 1 calc R
H3B H 0.6750 1.1811 0.6584 0.073 Uiso 1 1 calc R
H3C H 0.6456 1.0328 0.6143 0.073 Uiso 1 1 calc R
C4 C 0.7489(5) 0.9618(2) 0.83623(11) 0.0420(6) Uani 1 1 d .
H4A H 0.7649 0.8539 0.8246 0.050 Uiso 1 1 calc R
H4B H 0.5801 0.9780 0.8529 0.050 Uiso 1 1 calc R
C5 C 0.9319(4) 0.9983(3) 0.89139(11) 0.0370(5) Uani 1 1 d .
C6 C 1.0496(5) 1.1378(3) 0.89907(12) 0.0470(6) Uani 1 1 d .
H6A H 1.0149 1.2188 0.8700 0.056 Uiso 1 1 calc R
C7 C 1.2199(6) 1.1561(3) 0.95045(14) 0.0620(8) Uani 1 1 d .
H7A H 1.3045 1.2487 0.9560 0.074 Uiso 1 1 calc R
C8 C 1.2621(6) 1.0364(4) 0.99283(14) 0.0681(9) Uani 1 1 d .
H8A H 1.3757 1.0459 1.0280 0.082 Uiso 1 1 calc R
C9 C 1.1361(7) 0.9027(4) 0.98305(14) 0.0677(9) Uani 1 1 d .
H9A H 1.1654 0.8219 1.0127 0.081 Uiso 1 1 calc R
loop_
_atom_site_aniso_label
_atom_site_aniso_U_11
_atom_site_aniso_U_22
_atom_site_aniso_U_33
_atom_site_aniso_U_23
_atom_site_aniso_U_13
_atom_site_aniso_U_12
O1 0.0192(8) 0.0477(9) 0.0716(11) -0.0184(9) 0.0040(8) -0.0003(8)
O2 0.0316(9) 0.0326(8) 0.0958(14) -0.0064(8) -0.0194(10) -0.0020(9)
N1 0.0143(8) 0.0308(9) 0.0402(10) 0.0012(8) 0.0005(8) 0.0004(7)
N2 0.0659(16) 0.0514(12) 0.0435(12) 0.0128(10) -0.0005(12) 0.0070(13)
C1 0.0228(10) 0.0291(11) 0.0405(12) 0.0046(10) -0.0038(9) -0.0012(9)
C2 0.0222(11) 0.0321(11) 0.0401(12) -0.0058(10) -0.0020(9) 0.0024(9)
C3 0.0363(14) 0.0688(16) 0.0404(13) 0.0019(11) 0.0039(12) -0.0029(14)
C4 0.0372(13) 0.0442(13) 0.0447(13) 0.0111(11) -0.0003(12) -0.0099(13)
C5 0.0333(13) 0.0421(13) 0.0355(12) 0.0026(11) 0.0034(10) 0.0064(11)
C6 0.0455(15) 0.0510(14) 0.0444(13) 0.0054(12) -0.0108(13) -0.0015(13)
C7 0.060(2) 0.0713(18) 0.0542(16) -0.0020(14) -0.0136(16) -0.0091(17)
C8 0.068(2) 0.089(2) 0.0474(16) -0.0007(16) -0.0220(17) 0.004(2)
C9 0.082(2) 0.076(2) 0.0447(16) 0.0176(15) -0.0119(16) 0.0207(19)
loop_
_atom_type_symbol
_atom_type_description
_atom_type_scat_dispersion_real
_atom_type_scat_dispersion_imag
_atom_type_scat_source
C C 0.0033 0.0016 'International Tables Vol C Tables 4.2.6.8 and 6.1.1.4'
H H 0.0000 0.0000 'International Tables Vol C Tables 4.2.6.8 and 6.1.1.4'
N N 0.0061 0.0033 'International Tables Vol C Tables 4.2.6.8 and 6.1.1.4'
O O 0.0106 0.0060 'International Tables Vol C Tables 4.2.6.8 and 6.1.1.4'
loop_
_geom_angle_atom_site_label_1
_geom_angle_atom_site_label_2
_geom_angle_atom_site_label_3
_geom_angle
C4 N1 C2 112.35(16)
C4 N1 H1A 109.1
C2 N1 H1A 109.1
C4 N1 H1B 109.1
C2 N1 H1B 109.1
H1A N1 H1B 107.9
C5 N2 C9 116.8(2)
O2 C1 O1 125.6(2)
O2 C1 C2 118.0(2)
O1 C1 C2 116.4(2)
N1 C2 C3 109.09(18)
N1 C2 C1 110.08(18)
C3 C2 C1 110.3(2)
N1 C2 H2A 109.1
C3 C2 H2A 109.1
C1 C2 H2A 109.1
C2 C3 H3A 109.5
C2 C3 H3B 109.5
H3A C3 H3B 109.5
C2 C3 H3C 109.5
H3A C3 H3C 109.5
H3B C3 H3C 109.5
N1 C4 C5 114.15(18)
N1 C4 H4A 108.7
C5 C4 H4A 108.7
N1 C4 H4B 108.7
C5 C4 H4B 108.7
H4A C4 H4B 107.6
N2 C5 C6 122.6(2)
N2 C5 C4 113.1(2)
C6 C5 C4 124.3(2)
C5 C6 C7 119.0(2)
C5 C6 H6A 120.5
C7 C6 H6A 120.5
C8 C7 C6 118.9(3)
C8 C7 H7A 120.5
C6 C7 H7A 120.5
C9 C8 C7 119.0(3)
C9 C8 H8A 120.5
C7 C8 H8A 120.5
N2 C9 C8 123.7(3)
N2 C9 H9A 118.1
C8 C9 H9A 118.1
loop_
_geom_bond_atom_site_label_1
_geom_bond_atom_site_label_2
_geom_bond_distance
O1 C1 1.247(3)
O2 C1 1.237(3)
N1 C4 1.480(3)
N1 C2 1.498(3)
N1 H1A 0.9000
N1 H1B 0.9000
N2 C5 1.334(3)
N2 C9 1.348(4)
C1 C2 1.527(3)
C2 C3 1.518(3)
C2 H2A 0.9800
C3 H3A 0.9600
C3 H3B 0.9600
C3 H3C 0.9600
C4 C5 1.504(3)
C4 H4A 0.9700
C4 H4B 0.9700
C5 C6 1.374(4)
C6 C7 1.378(4)
C6 H6A 0.9300
C7 C8 1.359(4)
C7 H7A 0.9300
C8 C9 1.356(4)
C8 H8A 0.9300
C9 H9A 0.9300
loop_
_geom_hbond_atom_site_label_D
_geom_hbond_atom_site_label_H
_geom_hbond_atom_site_label_A
_geom_hbond_distance_DH
_geom_hbond_distance_HA
_geom_hbond_distance_DA
_geom_hbond_angle_DHA
_geom_hbond_site_symmetry_A
N1 H1A O1 0.90 1.82 2.721(2) 176.4 1_655
N1 H1B O2 0.90 1.94 2.780(2) 154.2 4_656
loop_
_geom_torsion_atom_site_label_1
_geom_torsion_atom_site_label_2
_geom_torsion_atom_site_label_3
_geom_torsion_atom_site_label_4
_geom_torsion
C4 N1 C2 C3 -173.62(19)
C4 N1 C2 C1 65.2(3)
O2 C1 C2 N1 -142.7(2)
O1 C1 C2 N1 39.3(3)
O2 C1 C2 C3 96.9(3)
O1 C1 C2 C3 -81.1(3)
C2 N1 C4 C5 161.69(19)
C9 N2 C5 C6 -0.9(4)
C9 N2 C5 C4 178.8(2)
N1 C4 C5 N2 -153.9(2)
N1 C4 C5 C6 25.9(3)
N2 C5 C6 C7 1.8(4)
C4 C5 C6 C7 -178.0(3)
C5 C6 C7 C8 -1.4(5)
C6 C7 C8 C9 0.2(5)
C5 N2 C9 C8 -0.3(5)
C7 C8 C9 N2 0.6(5)
