#------------------------------------------------------------------------------
#$Date: 2016-03-24 01:33:27 +0100 (jue 24 de mar de 2016) $
#$Revision: 179585 $
#$URL: svn://www.crystallography.net/cod/cif/4/50/50/4505020.cif $
#------------------------------------------------------------------------------
#
# This file is available in the Crystallography Open Database (COD),
# http://www.crystallography.net/
#
# All data on this site have been placed in the public domain by the
# contributors.
#
data_4505020
loop_
_publ_author_name
'Fábián, László'
'Kálmán, Alajos'
'Argay, Gyula'
'Bernáth, Gábor'
'Gyarmati, Zsuzsanna Cs.'
_publ_section_title
;
 Crystal Engineering with Alicyclic β-Amino Acids:  Construction
 of Hydrogen-Bonded Bilayers
;
_journal_issue                   2
_journal_name_full               'Crystal Growth & Design'
_journal_page_first              773
_journal_paper_doi               10.1021/cg0497997
_journal_volume                  5
_journal_year                    2005
_chemical_formula_moiety         'C7 H11 N O2'
_chemical_formula_sum            'C7 H11 N O2'
_chemical_formula_weight         141.17
_chemical_name_systematic
; 
 cis-2-aminocyclohex-4-enecarboxylic acid
;
_space_group_IT_number           14
_symmetry_cell_setting           monoclinic
_symmetry_space_group_name_Hall  '-P 2ybc'
_symmetry_space_group_name_H-M   'P 1 21/c 1'
_atom_sites_solution_hydrogens   geom
_atom_sites_solution_primary     direct
_atom_sites_solution_secondary   difmap
_audit_creation_method           SHELXL-97
_cell_angle_alpha                90.00
_cell_angle_beta                 110.27(1)
_cell_angle_gamma                90.00
_cell_formula_units_Z            4
_cell_length_a                   11.757(1)
_cell_length_b                   5.159(1)
_cell_length_c                   12.075(1)
_cell_measurement_reflns_used    25
_cell_measurement_temperature    293(2)
_cell_measurement_theta_max      39.55
_cell_measurement_theta_min      34.98
_cell_volume                     687.04(16)
_computing_cell_refinement       'CAD4 Express'
_computing_data_collection       'CAD4 Express'
_computing_data_reduction        'XCAD4 (Harms 1996)'
_computing_structure_refinement  'SHELXL-97 (Sheldrick, 1997)'
_computing_structure_solution    'SHELXS-97 (Sheldrick, 1997)'
_diffrn_ambient_temperature      293(2)
_diffrn_measured_fraction_theta_full 0.999
_diffrn_measured_fraction_theta_max 0.999
_diffrn_measurement_device_type  'Enraf-Nonius CAD4'
_diffrn_measurement_method       ω--2θ
_diffrn_radiation_monochromator  graphite
_diffrn_radiation_source         'fine-focus sealed tube'
_diffrn_radiation_type           'CU k\a'
_diffrn_radiation_wavelength     1.54180
_diffrn_reflns_av_R_equivalents  0.0082
_diffrn_reflns_av_sigmaI/netI    0.0115
_diffrn_reflns_limit_h_max       13
_diffrn_reflns_limit_h_min       -14
_diffrn_reflns_limit_k_max       6
_diffrn_reflns_limit_k_min       0
_diffrn_reflns_limit_l_max       15
_diffrn_reflns_limit_l_min       0
_diffrn_reflns_number            1567
_diffrn_reflns_theta_full        75.86
_diffrn_reflns_theta_max         75.86
_diffrn_reflns_theta_min         4.01
_diffrn_standards_decay_%        1
_diffrn_standards_interval_time  60
_diffrn_standards_number         3
_exptl_absorpt_coefficient_mu    0.825
_exptl_absorpt_correction_T_max  0.9231
_exptl_absorpt_correction_T_min  0.9018
_exptl_absorpt_correction_type   psi-scan
_exptl_absorpt_process_details   'DATCOR (Reibenspies, 1989)'
_exptl_crystal_colour            colourless
_exptl_crystal_density_diffrn    1.365
_exptl_crystal_density_method    'not measured'
_exptl_crystal_description       prism
_exptl_crystal_F_000             304
_exptl_crystal_size_max          0.35
_exptl_crystal_size_mid          0.15
_exptl_crystal_size_min          0.10
_refine_diff_density_max         0.200
_refine_diff_density_min         -0.181
_refine_diff_density_rms         0.041
_refine_ls_extinction_method     none
_refine_ls_goodness_of_fit_ref   1.305
_refine_ls_hydrogen_treatment    riding
_refine_ls_matrix_type           full
_refine_ls_number_parameters     92
_refine_ls_number_reflns         1433
_refine_ls_number_restraints     0
_refine_ls_restrained_S_all      1.305
_refine_ls_R_factor_all          0.0403
_refine_ls_R_factor_gt           0.0357
_refine_ls_shift/su_max          0.000
_refine_ls_shift/su_mean         0.000
_refine_ls_structure_factor_coef Fsqd
_refine_ls_weighting_details
'calc w=1/[σ²(Fo²)+(0.1000P)²+0.0000P] where P=(Fo²+2Fc²)/3'
_refine_ls_weighting_scheme      calc
_refine_ls_wR_factor_gt          0.1424
_refine_ls_wR_factor_ref         0.1472
_reflns_number_gt                1275
_reflns_number_total             1433
_reflns_threshold_expression     >2sigma(I)
_cod_data_source_file            cg0497997si20040621_111010.cif
_cod_data_source_block           cmpd8
_cod_original_sg_symbol_H-M      P21/c
_cod_database_code               4505020
loop_
_symmetry_equiv_pos_as_xyz
'x, y, z'
'x, -y+1/2, z+1/2'
'-x, -y, -z'
'-x, y-1/2, -z-1/2'
loop_
_atom_site_label
_atom_site_type_symbol
_atom_site_fract_x
_atom_site_fract_y
_atom_site_fract_z
_atom_site_U_iso_or_equiv
_atom_site_adp_type
_atom_site_occupancy
_atom_site_symmetry_multiplicity
_atom_site_calc_flag
_atom_site_refinement_flags
N1 N 0.10997(9) 0.94252(19) 0.41682(8) 0.0294(3) Uani 1 1 d .
H1A H 0.1272 0.9128 0.4935 0.044 Uiso 1 1 calc R
H1B H 0.0616 1.0801 0.3953 0.044 Uiso 1 1 calc R
H1C H 0.0728 0.8048 0.3757 0.044 Uiso 1 1 calc R
O2 O 0.16272(10) 0.69897(17) 0.14666(8) 0.0431(3) Uani 1 1 d .
O3 O 0.00197(8) 0.92604(19) 0.14774(9) 0.0408(3) Uani 1 1 d .
C1 C 0.19656(10) 1.0830(2) 0.26535(10) 0.0264(3) Uani 1 1 d .
H1 H 0.1521 1.2470 0.2554 0.034 Uiso 1 1 calc R
C2 C 0.22446(9) 0.9927(2) 0.39324(9) 0.0262(3) Uani 1 1 d .
H2 H 0.2670 1.1344 0.4452 0.034 Uiso 1 1 calc R
C3 C 0.30598(12) 0.7550(2) 0.42552(11) 0.0343(3) Uani 1 1 d .
H3A H 0.3330 0.7276 0.5102 0.045 Uiso 1 1 calc R
H3B H 0.2606 0.6033 0.3871 0.045 Uiso 1 1 calc R
C4 C 0.41411(12) 0.7900(3) 0.38780(13) 0.0418(4) Uani 1 1 d .
H4 H 0.4821 0.6873 0.4231 0.054 Uiso 1 1 calc R
C5 C 0.41723(13) 0.9591(3) 0.30720(14) 0.0430(4) Uani 1 1 d .
H5 H 0.4878 0.9691 0.2891 0.056 Uiso 1 1 calc R
C6 C 0.31522(12) 1.1357(3) 0.24302(12) 0.0362(4) Uani 1 1 d .
H6A H 0.2999 1.1207 0.1590 0.047 Uiso 1 1 calc R
H6B H 0.3400 1.3129 0.2659 0.047 Uiso 1 1 calc R
C7 C 0.11488(11) 0.8873(2) 0.17883(9) 0.0290(3) Uani 1 1 d .
loop_
_atom_site_aniso_label
_atom_site_aniso_U_11
_atom_site_aniso_U_22
_atom_site_aniso_U_33
_atom_site_aniso_U_23
_atom_site_aniso_U_13
_atom_site_aniso_U_12
N1 0.0316(5) 0.0332(6) 0.0252(5) 0.0037(4) 0.0122(4) 0.0027(4)
O2 0.0592(7) 0.0340(5) 0.0312(5) -0.0098(4) 0.0096(4) 0.0062(4)
O3 0.0379(5) 0.0411(6) 0.0427(6) -0.0049(4) 0.0133(4) -0.0077(4)
C1 0.0341(6) 0.0217(5) 0.0264(6) 0.0000(4) 0.0144(4) -0.0002(4)
C2 0.0290(6) 0.0261(6) 0.0242(6) -0.0017(4) 0.0101(4) -0.0009(4)
C3 0.0358(6) 0.0320(6) 0.0344(6) 0.0046(4) 0.0112(5) 0.0061(5)
C4 0.0336(6) 0.0416(7) 0.0509(8) 0.0005(6) 0.0154(6) 0.0085(5)
C5 0.0367(7) 0.0418(8) 0.0581(9) -0.0046(6) 0.0262(6) 0.0007(5)
C6 0.0431(7) 0.0297(6) 0.0449(7) 0.0000(5) 0.0267(6) -0.0036(5)
C7 0.0407(6) 0.0268(6) 0.0208(5) 0.0018(4) 0.0122(5) -0.0026(4)
loop_
_atom_type_symbol
_atom_type_description
_atom_type_scat_dispersion_real
_atom_type_scat_dispersion_imag
_atom_type_scat_source
C C 0.0181 0.0091 'International Tables Vol C Tables 4.2.6.8 and 6.1.1.4'
H H 0.0000 0.0000 'International Tables Vol C Tables 4.2.6.8 and 6.1.1.4'
N N 0.0311 0.0180 'International Tables Vol C Tables 4.2.6.8 and 6.1.1.4'
O O 0.0492 0.0322 'International Tables Vol C Tables 4.2.6.8 and 6.1.1.4'
loop_
_geom_angle_atom_site_label_1
_geom_angle_atom_site_label_2
_geom_angle_atom_site_label_3
_geom_angle
C2 N1 H1A 109.5
C2 N1 H1B 109.5
H1A N1 H1B 109.5
C2 N1 H1C 109.5
H1A N1 H1C 109.5
H1B N1 H1C 109.5
C6 C1 C7 113.03(10)
C6 C1 C2 109.89(9)
C7 C1 C2 110.60(9)
C6 C1 H1 107.7
C7 C1 H1 107.7
C2 C1 H1 107.7
N1 C2 C3 109.95(9)
N1 C2 C1 110.61(8)
C3 C2 C1 113.46(9)
N1 C2 H2 107.5
C3 C2 H2 107.5
C1 C2 H2 107.5
C4 C3 C2 110.47(10)
C4 C3 H3A 109.6
C2 C3 H3A 109.6
C4 C3 H3B 109.6
C2 C3 H3B 109.6
H3A C3 H3B 108.1
C5 C4 C3 123.14(12)
C5 C4 H4 118.4
C3 C4 H4 118.4
C4 C5 C6 124.42(12)
C4 C5 H5 117.8
C6 C5 H5 117.8
C5 C6 C1 114.63(10)
C5 C6 H6A 108.6
C1 C6 H6A 108.6
C5 C6 H6B 108.6
C1 C6 H6B 108.6
H6A C6 H6B 107.6
O2 C7 O3 124.74(11)
O2 C7 C1 118.80(11)
O3 C7 C1 116.42(10)
loop_
_geom_bond_atom_site_label_1
_geom_bond_atom_site_label_2
_geom_bond_distance
N1 C2 1.4919(13)
N1 H1A 0.8900
N1 H1B 0.8900
N1 H1C 0.8900
O2 C7 1.2501(15)
O3 C7 1.2641(15)
C1 C6 1.5341(15)
C1 C7 1.5288(15)
C1 C2 1.5357(14)
C1 H1 0.9800
C2 C3 1.5215(16)
C2 H2 0.9800
C3 C4 1.5025(17)
C3 H3A 0.9700
C3 H3B 0.9700
C4 C5 1.317(2)
C4 H4 0.9300
C5 C6 1.4918(19)
C5 H5 0.9300
C6 H6A 0.9700
C6 H6B 0.9700
loop_
_geom_hbond_atom_site_label_D
_geom_hbond_atom_site_label_H
_geom_hbond_atom_site_label_A
_geom_hbond_distance_DH
_geom_hbond_distance_HA
_geom_hbond_distance_DA
_geom_hbond_angle_DHA
_geom_hbond_site_symmetry_A
N1 H1A O2 0.89 1.84 2.7252(13) 171.7 2_565
N1 H1B O3 0.89 1.94 2.8020(14) 164.2 4_566
N1 H1C O3 0.89 2.12 2.9544(14) 155.6 4_556
loop_
_geom_torsion_atom_site_label_1
_geom_torsion_atom_site_label_2
_geom_torsion_atom_site_label_3
_geom_torsion_atom_site_label_4
_geom_torsion
C6 C1 C2 N1 179.54(9)
C7 C1 C2 N1 -54.99(12)
C6 C1 C2 C3 -56.37(13)
C7 C1 C2 C3 69.11(12)
N1 C2 C3 C4 172.72(9)
C1 C2 C3 C4 48.27(14)
C2 C3 C4 C5 -19.83(18)
C3 C4 C5 C6 -0.2(2)
C4 C5 C6 C1 -7.8(2)
C7 C1 C6 C5 -89.34(13)
C2 C1 C6 C5 34.73(14)
C6 C1 C7 O2 37.53(14)
C2 C1 C7 O2 -86.15(12)
C6 C1 C7 O3 -144.51(11)
C2 C1 C7 O3 91.80(12)
