#------------------------------------------------------------------------------
#$Date: 2016-03-24 02:30:43 +0100 (jue 24 de mar de 2016) $
#$Revision: 179634 $
#$URL: svn://www.crystallography.net/cod/cif/4/50/98/4509815.cif $
#------------------------------------------------------------------------------
#
# This file is available in the Crystallography Open Database (COD),
# http://www.crystallography.net/. The original data for this entry
# were provided the Crystal Eye server at
# http://wwmm.ch.cam.ac.uk/crystaleye/, created by Nick Day at the
# Peter Murray-Rust laboratory.
#
# The file may be used within the scientific community so long as
# proper attribution is given to the journal article from which the
# data were obtained.
#
data_4509815
loop_
_publ_author_name
'Coles, S. J.'
'Gelbrich, T.'
'Griesser, U. J.'
'Hursthouse, M. B.'
'Pitak, M.'
'Threlfall, T.'
_publ_section_title
;
 The Elusive High Temperature Solid-State Structure ofd,l-Norleucine
;
_journal_issue                   11
_journal_name_full               'Crystal Growth & Design'
_journal_page_first              4610
_journal_paper_doi               10.1021/cg901045t
_journal_volume                  9
_journal_year                    2009
_chemical_formula_moiety         'C6 H13 N O2'
_chemical_formula_sum            'C6 H13 N O2'
_chemical_formula_weight         131.17
_chemical_name_systematic
;
 ?
;
_space_group_IT_number           14
_symmetry_cell_setting           monoclinic
_symmetry_space_group_name_Hall  '-P 2ybc'
_symmetry_space_group_name_H-M   'P 1 21/c 1'
_atom_sites_solution_hydrogens   geom
_atom_sites_solution_primary     direct
_atom_sites_solution_secondary   difmap
_audit_creation_method           SHELXL-97
_cell_angle_alpha                90.00
_cell_angle_beta                 102.338(3)
_cell_angle_gamma                90.00
_cell_formula_units_Z            4
_cell_length_a                   16.5130(8)
_cell_length_b                   4.7740(2)
_cell_length_c                   9.9245(4)
_cell_measurement_reflns_used    1926
_cell_measurement_temperature    385(2)
_cell_measurement_theta_max      27.485
_cell_measurement_theta_min      2.910
_cell_volume                     764.31(6)
_computing_cell_refinement       'DENZO, COLLECT'
_computing_data_collection       'COLLECT (Hooft, R.W.W., 1998)'
_computing_data_reduction        'DENZO, COLLECT'
_computing_molecular_graphics    'PLATON (Spek, 1990)'
_computing_structure_refinement  'SHELXL-97 (Sheldrick, 1997)'
_computing_structure_solution    'SHELXS-97 (Sheldrick, 1997)'
_diffrn_ambient_temperature      385(2)
_diffrn_detector_area_resol_mean 9.091
_diffrn_measured_fraction_theta_full 0.993
_diffrn_measured_fraction_theta_max 0.993
_diffrn_measurement_device_type  'Bruker-Nonius KappaCCD Area Detector'
_diffrn_measurement_method       'φ and ω scans'
_diffrn_radiation_monochromator  '10cm confocal mirrors'
_diffrn_radiation_source         'Bruker-Nonius FR591 rotating anode'
_diffrn_radiation_type           MoK\a
_diffrn_radiation_wavelength     0.71073
_diffrn_reflns_av_R_equivalents  0.0467
_diffrn_reflns_av_sigmaI/netI    0.0308
_diffrn_reflns_limit_h_max       19
_diffrn_reflns_limit_h_min       -19
_diffrn_reflns_limit_k_max       5
_diffrn_reflns_limit_k_min       -5
_diffrn_reflns_limit_l_max       11
_diffrn_reflns_limit_l_min       -11
_diffrn_reflns_number            8735
_diffrn_reflns_theta_full        24.97
_diffrn_reflns_theta_max         24.97
_diffrn_reflns_theta_min         3.79
_exptl_absorpt_coefficient_mu    0.085
_exptl_absorpt_correction_T_max  0.9958
_exptl_absorpt_correction_T_min  0.9916
_exptl_absorpt_correction_type   multi-scan
_exptl_absorpt_process_details   'SADABS V2.10 (Sheldrick, G.M., 2003)'
_exptl_crystal_colour            colourless
_exptl_crystal_density_diffrn    1.140
_exptl_crystal_density_method    'not measured'
_exptl_crystal_description       plate
_exptl_crystal_F_000             288
_exptl_crystal_size_max          0.10
_exptl_crystal_size_mid          0.10
_exptl_crystal_size_min          0.05
_refine_diff_density_max         0.348
_refine_diff_density_min         -0.173
_refine_diff_density_rms         0.052
_refine_ls_extinction_coef       0.13(2)
_refine_ls_extinction_expression Fc^*^=kFc[1+0.001xFc²λ³/sin(2θ)]^-1/4^
_refine_ls_extinction_method     SHELXL
_refine_ls_goodness_of_fit_ref   1.073
_refine_ls_hydrogen_treatment    constr
_refine_ls_matrix_type           full
_refine_ls_number_parameters     85
_refine_ls_number_reflns         1335
_refine_ls_number_restraints     0
_refine_ls_restrained_S_all      1.073
_refine_ls_R_factor_all          0.0746
_refine_ls_R_factor_gt           0.0601
_refine_ls_shift/su_max          0.000
_refine_ls_shift/su_mean         0.000
_refine_ls_structure_factor_coef Fsqd
_refine_ls_weighting_details
'calc w=1/[σ²(Fo²)+(0.1008P)²+0.2385P] where P=(Fo²+2Fc²)/3'
_refine_ls_weighting_scheme      calc
_refine_ls_wR_factor_gt          0.1658
_refine_ls_wR_factor_ref         0.1818
_reflns_number_gt                1055
_reflns_number_total             1335
_reflns_threshold_expression     >2σ(I)
_cod_data_source_file            cg901045tsup3.cif
_cod_data_source_block           alpha385_p21c
_cod_depositor_comments
;
The following automatic conversions were performed:

'_symmetry_cell_setting' value 'Monoclinic' changed to 'monoclinic'
according to /home/saulius/struct/CIF-dictionaries/cif_core.dic
dictionary named 'cif_core.dic' version 2.4.2 from 2011-04-26.

Automatic conversion script
Id: cif_fix_values 1891 2012-01-12 08:04:46Z andrius 
;
_cod_original_sg_symbol_H-M      P21/c
_cod_database_code               4509815
loop_
_symmetry_equiv_pos_as_xyz
'x, y, z'
'-x, y+1/2, -z+1/2'
'-x, -y, -z'
'x, -y-1/2, z-1/2'
loop_
_atom_site_label
_atom_site_type_symbol
_atom_site_fract_x
_atom_site_fract_y
_atom_site_fract_z
_atom_site_U_iso_or_equiv
_atom_site_adp_type
_atom_site_occupancy
_atom_site_symmetry_multiplicity
_atom_site_calc_flag
_atom_site_refinement_flags
N1 N 0.40566(11) 0.5479(4) 0.85618(16) 0.0453(6) Uani 1 1 d .
H1A H 0.4002 0.3789 0.8912 0.068 Uiso 1 1 calc R
H1B H 0.3896 0.6778 0.9092 0.068 Uiso 1 1 calc R
H1C H 0.4585 0.5762 0.8530 0.068 Uiso 1 1 calc R
O2 O 0.37440(12) 0.4556(3) 0.49237(15) 0.0645(6) Uani 1 1 d .
O1 O 0.43411(9) 0.1823(3) 0.66677(15) 0.0541(6) Uani 1 1 d .
C2 C 0.35345(13) 0.5654(4) 0.71461(19) 0.0429(6) Uani 1 1 d .
H2 H 0.3496 0.7609 0.6837 0.051 Uiso 1 1 calc R
C1 C 0.39205(13) 0.3893(4) 0.6172(2) 0.0423(6) Uani 1 1 d .
C3 C 0.26579(15) 0.4507(6) 0.7125(3) 0.0635(8) Uani 1 1 d .
H3A H 0.2330 0.4695 0.6195 0.076 Uiso 1 1 calc R
H3B H 0.2706 0.2521 0.7334 0.076 Uiso 1 1 calc R
C4 C 0.21922(18) 0.5848(7) 0.8089(4) 0.0825(9) Uani 1 1 d .
H4A H 0.2506 0.5607 0.9027 0.099 Uiso 1 1 calc R
H4B H 0.2151 0.7843 0.7900 0.099 Uiso 1 1 calc R
C5 C 0.1343(2) 0.4702(10) 0.7991(5) 0.1165(14) Uani 1 1 d .
H5A H 0.1023 0.5078 0.7069 0.140 Uiso 1 1 calc R
H5B H 0.1387 0.2684 0.8094 0.140 Uiso 1 1 calc R
C6 C 0.0872(3) 0.5759(15) 0.8982(7) 0.170(2) Uani 1 1 d .
H6A H 0.1183 0.5444 0.9904 0.254 Uiso 1 1 calc R
H6B H 0.0351 0.4794 0.8853 0.254 Uiso 1 1 calc R
H6C H 0.0775 0.7730 0.8839 0.254 Uiso 1 1 calc R
loop_
_atom_site_aniso_label
_atom_site_aniso_U_11
_atom_site_aniso_U_22
_atom_site_aniso_U_33
_atom_site_aniso_U_23
_atom_site_aniso_U_13
_atom_site_aniso_U_12
N1 0.0550(11) 0.0464(10) 0.0370(10) -0.0057(7) 0.0151(8) -0.0037(8)
O2 0.1089(15) 0.0524(10) 0.0356(9) 0.0023(7) 0.0228(8) 0.0048(9)
O1 0.0644(10) 0.0482(10) 0.0526(10) -0.0005(7) 0.0189(7) 0.0109(7)
C2 0.0570(13) 0.0367(11) 0.0366(11) 0.0015(8) 0.0139(9) 0.0028(9)
C1 0.0540(12) 0.0372(11) 0.0381(11) -0.0020(8) 0.0152(8) -0.0069(9)
C3 0.0541(14) 0.0756(18) 0.0614(15) -0.0050(12) 0.0135(11) 0.0025(12)
C4 0.0700(18) 0.089(2) 0.097(2) -0.0119(17) 0.0367(16) -0.0012(15)
C5 0.070(2) 0.147(4) 0.142(4) -0.011(3) 0.044(2) -0.011(2)
C6 0.113(4) 0.216(6) 0.205(6) -0.025(5) 0.091(4) -0.005(4)
loop_
_atom_type_symbol
_atom_type_description
_atom_type_scat_dispersion_real
_atom_type_scat_dispersion_imag
_atom_type_scat_source
C C 0.0033 0.0016 'International Tables Vol C Tables 4.2.6.8 and 6.1.1.4'
H H 0.0000 0.0000 'International Tables Vol C Tables 4.2.6.8 and 6.1.1.4'
N N 0.0061 0.0033 'International Tables Vol C Tables 4.2.6.8 and 6.1.1.4'
O O 0.0106 0.0060 'International Tables Vol C Tables 4.2.6.8 and 6.1.1.4'
loop_
_geom_angle_atom_site_label_1
_geom_angle_atom_site_label_2
_geom_angle_atom_site_label_3
_geom_angle
C2 N1 H1A 109.5
C2 N1 H1B 109.5
H1A N1 H1B 109.5
C2 N1 H1C 109.5
H1A N1 H1C 109.5
H1B N1 H1C 109.5
N1 C2 C1 109.43(17)
N1 C2 C3 110.22(16)
C1 C2 C3 108.34(18)
N1 C2 H2 109.6
C1 C2 H2 109.6
C3 C2 H2 109.6
O1 C1 O2 125.67(19)
O1 C1 C2 117.48(17)
O2 C1 C2 116.69(19)
C4 C3 C2 116.7(2)
C4 C3 H3A 108.1
C2 C3 H3A 108.1
C4 C3 H3B 108.1
C2 C3 H3B 108.1
H3A C3 H3B 107.3
C5 C4 C3 114.0(3)
C5 C4 H4A 108.7
C3 C4 H4A 108.7
C5 C4 H4B 108.7
C3 C4 H4B 108.7
H4A C4 H4B 107.6
C6 C5 C4 117.1(4)
C6 C5 H5A 108.0
C4 C5 H5A 108.0
C6 C5 H5B 108.0
C4 C5 H5B 108.0
H5A C5 H5B 107.3
C5 C6 H6A 109.5
C5 C6 H6B 109.5
H6A C6 H6B 109.5
C5 C6 H6C 109.5
H6A C6 H6C 109.5
H6B C6 H6C 109.5
loop_
_geom_bond_atom_site_label_1
_geom_bond_atom_site_label_2
_geom_bond_distance
N1 C2 1.486(2)
N1 H1A 0.8900
N1 H1B 0.8900
N1 H1C 0.8900
O2 C1 1.251(2)
O1 C1 1.247(3)
C2 C1 1.520(3)
C2 C3 1.544(3)
C2 H2 0.9800
C3 C4 1.494(4)
C3 H3A 0.9700
C3 H3B 0.9700
C4 C5 1.489(4)
C4 H4A 0.9700
C4 H4B 0.9700
C5 C6 1.467(6)
C5 H5A 0.9700
C5 H5B 0.9700
C6 H6A 0.9600
C6 H6B 0.9600
C6 H6C 0.9600
loop_
_geom_hbond_atom_site_label_D
_geom_hbond_atom_site_label_H
_geom_hbond_atom_site_label_A
_geom_hbond_distance_DH
_geom_hbond_distance_HA
_geom_hbond_distance_DA
_geom_hbond_angle_DHA
_geom_hbond_site_symmetry_A
N1 H1A O2 0.89 1.98 2.858(2) 168.2 4_566
N1 H1B O2 0.89 1.97 2.830(2) 161.1 4_576
N1 H1C O1 0.89 1.89 2.779(2) 172.2 2_656
loop_
_geom_torsion_atom_site_label_1
_geom_torsion_atom_site_label_2
_geom_torsion_atom_site_label_3
_geom_torsion_atom_site_label_4
_geom_torsion
N1 C2 C1 O1 28.8(2)
C3 C2 C1 O1 -91.4(2)
N1 C2 C1 O2 -155.49(18)
C3 C2 C1 O2 84.3(2)
N1 C2 C3 C4 56.5(3)
C1 C2 C3 C4 176.2(2)
C2 C3 C4 C5 178.4(3)
C3 C4 C5 C6 175.3(4)
