#------------------------------------------------------------------------------
#$Date: 2016-02-14 05:40:26 +0100 (dom 14 de feb de 2016) $
#$Revision: 176432 $
#$URL: svn://www.crystallography.net/cod/cif/4/51/27/4512745.cif $
#------------------------------------------------------------------------------
#
# This file is available in the Crystallography Open Database (COD),
# http://www.crystallography.net/
#
# All data on this site have been placed in the public domain by the
# contributors.
#
data_4512745
loop_
_publ_author_name
'Ostrowska, Kinga'
'Kropidłowska, Magdalena'
'Katrusiak, Andrzej'
_publ_section_title
;
 High-Pressure Crystallization and Structural Transformations in
 CompressedR,S-Ibuprofen
;
_journal_issue                   3
_journal_name_full               'Crystal Growth & Design'
_journal_page_first              1512
_journal_paper_doi               10.1021/cg5018888
_journal_volume                  15
_journal_year                    2015
_chemical_formula_moiety         'C13 H18 O2'
_chemical_formula_sum            'C13 H18 O2'
_chemical_formula_weight         206.27
_chemical_melting_point          349
_chemical_name_common
;
(R,S)-2-(4-(2-methylpropyl)phenyl)propanoic acid
;
_chemical_name_systematic
;
 (R,S)-ibuprofen
;
_space_group_IT_number           14
_symmetry_cell_setting           monoclinic
_symmetry_space_group_name_Hall  '-P 2ybc'
_symmetry_space_group_name_H-M   'P 1 21/c 1'
_atom_sites_solution_hydrogens   geom
_atom_sites_solution_primary     direct
_atom_sites_solution_secondary   difmap
_audit_creation_method           SHELXL-97
_cell_angle_alpha                90.00
_cell_angle_beta                 100.41(3)
_cell_angle_gamma                90.00
_cell_formula_units_Z            4
_cell_length_a                   13.9958(17)
_cell_length_b                   7.5140(12)
_cell_length_c                   10.067(8)
_cell_measurement_pressure       1890000
_cell_measurement_reflns_used    711
_cell_measurement_temperature    296(2)
_cell_measurement_theta_max      27.37
_cell_measurement_theta_min      4.01
_cell_volume                     1041.3(9)
_computing_cell_refinement       'CrysAlis (Oxford Diffraction, 2002)'
_computing_data_collection       'CrysAlis (Oxford Diffraction, 2002)'
_computing_data_reduction        'CrysAlis (Oxford Diffraction, 2002)'
_computing_molecular_graphics
;X-Seed (Barbour, 2001) 
and POV-Ray (Persistence of Vision, 2004)

Mercury (2008)
;
_computing_publication_material  'SHELXL-97 (Sheldrick, 1997)'
_computing_structure_refinement  'SHELXL-97 (Sheldrick, 1997)'
_computing_structure_solution    'SHELXS-97 (Sheldrick, 1990)'
_diffrn_ambient_temperature      296(2)
_diffrn_detector_area_resol_mean 16.4
_diffrn_measured_fraction_theta_full 0.302
_diffrn_measured_fraction_theta_max 0.302
_diffrn_measurement_device_type  'multiwire proportional'
_diffrn_measurement_method
;HP omega scans - for more details see:
A. Budzianowski, A. Katrusiak in High-Pressure Crystallography
(Eds.: A. Katrusiak, P. F. McMillan),
Dordrecht: Kluwer Acad. Publ., 2004 pp.157-168
;
_diffrn_radiation_monochromator  graphite
_diffrn_radiation_source         'fine-focus sealed tube'
_diffrn_radiation_type           MoK\a
_diffrn_radiation_wavelength     0.71073
_diffrn_reflns_av_R_equivalents  0.1312
_diffrn_reflns_av_sigmaI/netI    0.1113
_diffrn_reflns_limit_h_max       17
_diffrn_reflns_limit_h_min       -17
_diffrn_reflns_limit_k_max       9
_diffrn_reflns_limit_k_min       -8
_diffrn_reflns_limit_l_max       5
_diffrn_reflns_limit_l_min       -5
_diffrn_reflns_number            4225
_diffrn_reflns_theta_full        27.37
_diffrn_reflns_theta_max         27.37
_diffrn_reflns_theta_min         4.01
_exptl_absorpt_coefficient_mu    0.087
_exptl_absorpt_correction_T_max  0.996
_exptl_absorpt_correction_T_min  0.983
_exptl_absorpt_correction_type   multi-scan
_exptl_absorpt_process_details
; 
Correction for absorption was made using XEMP (SHELXTL, 
Sheldrick (1990)).
;
_exptl_crystal_colour            colourless
_exptl_crystal_density_diffrn    1.316
_exptl_crystal_density_method    'not measured'
_exptl_crystal_description       plate
_exptl_crystal_F_000             448
_exptl_crystal_size_max          0.46
_exptl_crystal_size_mid          0.16
_exptl_crystal_size_min          0.05
_refine_diff_density_max         0.253
_refine_diff_density_min         -0.166
_refine_diff_density_rms         0.056
_refine_ls_extinction_coef       0.008(17)
_refine_ls_extinction_expression Fc^*^=kFc[1+0.001xFc²λ³/sin(2θ)]^-1/4^
_refine_ls_extinction_method     SHELXL
_refine_ls_goodness_of_fit_ref   1.000
_refine_ls_hydrogen_treatment    constr
_refine_ls_matrix_type           full
_refine_ls_number_parameters     137
_refine_ls_number_reflns         711
_refine_ls_number_restraints     90
_refine_ls_restrained_S_all      0.984
_refine_ls_R_factor_all          0.1908
_refine_ls_R_factor_gt           0.1904
_refine_ls_shift/su_max          0.000
_refine_ls_shift/su_mean         0.000
_refine_ls_structure_factor_coef Fsqd
_refine_ls_weighting_details
'calc w=1/[σ²(Fo²)+(0.1780P)²+0.0000P] where P=(Fo²+2Fc²)/3'
_refine_ls_weighting_scheme      calc
_refine_ls_wR_factor_gt          0.2196
_refine_ls_wR_factor_ref         0.2845
_reflns_number_gt                338
_reflns_number_total             711
_reflns_threshold_expression     >2sigma(I)
_cod_data_source_file            cg5018888_si_002.cif
_cod_data_source_block           ibuprofen_189
_cod_depositor_comments
;
The following automatic conversions were performed:
'_atom_site_symetry_multiplicity' tag replaced with
'_atom_site_symmetry_multiplicity'.

Automatic conversion script
Id: cif_correct_tags 1440 2010-10-19 06:21:57Z saulius 

The following automatic conversions were performed:

'_symmetry_cell_setting' value 'Monoclinic' changed to 'monoclinic'
according to
/usr/data/users/saulius/crontab/automatic-downloads/rss-feeds/ACS/lib/dictionaries/cif_core.dic
dictionary named 'cif_core.dic' version 2.4.2 from 2011-04-26.

Automatic conversion script
Id: cif_fix_values 3008 2015-01-20 13:52:24Z robertas 

 Adding full bibliography for 4512740--4512754.cif.
;
_cod_original_cell_volume        1041.3(8)
_cod_original_sg_symbol_Hall     '-P 2y bc'
_cod_original_sg_symbol_H-M      P2(1)/c
_cod_database_code               4512745
loop_
_symmetry_equiv_pos_as_xyz
'x, y, z'
'-x, y+1/2, -z+1/2'
'-x, -y, -z'
'x, -y-1/2, z-1/2'
loop_
_atom_site_label
_atom_site_type_symbol
_atom_site_fract_x
_atom_site_fract_y
_atom_site_fract_z
_atom_site_U_iso_or_equiv
_atom_site_adp_type
_atom_site_occupancy
_atom_site_symmetry_multiplicity
_atom_site_calc_flag
_atom_site_refinement_flags
O2 O 0.5030(4) 0.1877(8) 0.5675(11) 0.054(4) Uani 1 1 d U
O1 O 0.6260(4) -0.0084(7) 0.5947(12) 0.052(4) Uani 1 1 d U
H01 H 0.5843 -0.0726 0.5512 0.063 Uiso 1 1 calc R
C7 C 0.6574(7) 0.2820(12) 0.686(2) 0.047(4) Uani 1 1 d U
H7A H 0.7095 0.2186 0.7461 0.057 Uiso 1 1 calc R
C1 C 0.7014(6) 0.3824(11) 0.587(2) 0.046(4) Uani 1 1 d U
C9 C 0.5874(6) 0.1463(12) 0.616(2) 0.050(4) Uani 1 1 d U
C11 C 0.9078(6) 0.7772(10) 0.3489(19) 0.033(4) Uani 1 1 d U
H11A H 0.9494 0.7080 0.4191 0.039 Uiso 1 1 calc R
C4 C 0.7802(6) 0.5624(12) 0.382(2) 0.046(4) Uani 1 1 d U
C5 C 0.8285(7) 0.4228(12) 0.459(2) 0.047(4) Uani 1 1 d U
H5A H 0.8897 0.3899 0.4438 0.056 Uiso 1 1 calc R
C10 C 0.8246(6) 0.6586(11) 0.2799(19) 0.049(4) Uani 1 1 d U
H10A H 0.7757 0.7311 0.2241 0.059 Uiso 1 1 calc R
H10B H 0.8491 0.5734 0.2219 0.059 Uiso 1 1 calc R
C6 C 0.7896(6) 0.3330(13) 0.5542(19) 0.054(4) Uani 1 1 d U
H6A H 0.8230 0.2366 0.5981 0.065 Uiso 1 1 calc R
C3 C 0.6905(6) 0.6091(11) 0.415(2) 0.048(4) Uani 1 1 d U
H3A H 0.6562 0.7032 0.3693 0.058 Uiso 1 1 calc R
C2 C 0.6501(7) 0.5218(12) 0.5140(19) 0.048(4) Uani 1 1 d U
H2A H 0.5896 0.5557 0.5312 0.057 Uiso 1 1 calc R
C13 C 0.8694(7) 0.9404(11) 0.4146(19) 0.055(4) Uani 1 1 d U
H13A H 0.9227 1.0165 0.4514 0.082 Uiso 1 1 calc R
H13B H 0.8366 0.9021 0.4856 0.082 Uiso 1 1 calc R
H13C H 0.8247 1.0044 0.3479 0.082 Uiso 1 1 calc R
C12 C 0.9674(6) 0.8364(12) 0.2461(18) 0.055(4) Uani 1 1 d U
H12A H 1.0176 0.9160 0.2880 0.082 Uiso 1 1 calc R
H12B H 0.9262 0.8965 0.1732 0.082 Uiso 1 1 calc R
H12C H 0.9963 0.7344 0.2117 0.082 Uiso 1 1 calc R
C8 C 0.6025(7) 0.3946(13) 0.774(2) 0.066(5) Uani 1 1 d U
H8A H 0.5761 0.3187 0.8354 0.099 Uiso 1 1 calc R
H8B H 0.5506 0.4571 0.7178 0.099 Uiso 1 1 calc R
H8C H 0.6462 0.4788 0.8249 0.099 Uiso 1 1 calc R
loop_
_atom_site_aniso_label
_atom_site_aniso_U_11
_atom_site_aniso_U_22
_atom_site_aniso_U_33
_atom_site_aniso_U_23
_atom_site_aniso_U_13
_atom_site_aniso_U_12
O2 0.036(3) 0.069(4) 0.057(10) -0.006(4) 0.008(4) 0.001(3)
O1 0.047(3) 0.053(4) 0.052(10) 0.009(4) -0.002(5) 0.003(3)
C7 0.042(4) 0.059(5) 0.043(11) 0.015(6) 0.013(7) -0.003(4)
C1 0.038(4) 0.052(5) 0.045(11) 0.002(6) 0.001(6) 0.000(4)
C9 0.038(4) 0.061(5) 0.054(11) 0.001(6) 0.014(6) -0.001(4)
C11 0.024(3) 0.047(4) 0.030(11) 0.000(5) 0.011(6) 0.001(3)
C4 0.043(4) 0.053(5) 0.044(12) -0.004(5) 0.010(6) -0.006(4)
C5 0.041(4) 0.056(5) 0.044(12) -0.003(6) 0.008(6) 0.000(4)
C10 0.045(4) 0.047(5) 0.054(11) -0.006(5) 0.003(6) -0.002(4)
C6 0.043(5) 0.060(6) 0.057(11) 0.001(6) 0.003(6) -0.003(4)
C3 0.038(4) 0.047(5) 0.055(11) 0.003(5) -0.006(6) 0.004(4)
C2 0.043(4) 0.047(5) 0.050(11) 0.002(5) -0.001(7) -0.003(4)
C13 0.055(5) 0.059(5) 0.046(12) -0.002(5) -0.002(7) -0.001(4)
C12 0.046(5) 0.061(5) 0.053(11) 0.003(6) 0.000(6) -0.005(4)
C8 0.059(5) 0.072(5) 0.065(12) -0.007(6) 0.009(7) -0.002(5)
loop_
_atom_type_symbol
_atom_type_description
_atom_type_scat_dispersion_real
_atom_type_scat_dispersion_imag
_atom_type_scat_source
C C 0.0033 0.0016 'International Tables Vol C Tables 4.2.6.8 and 6.1.1.4'
H H 0.0000 0.0000 'International Tables Vol C Tables 4.2.6.8 and 6.1.1.4'
O O 0.0106 0.0060 'International Tables Vol C Tables 4.2.6.8 and 6.1.1.4'
loop_
_geom_angle_atom_site_label_1
_geom_angle_atom_site_label_2
_geom_angle_atom_site_label_3
_geom_angle
C9 C7 C8 107.2(9)
C9 C7 C1 110.1(17)
C8 C7 C1 115.2(10)
C2 C1 C6 118.1(15)
C2 C1 C7 120.1(10)
C6 C1 C7 121.6(10)
O2 C9 O1 123.4(10)
O2 C9 C7 120.8(8)
O1 C9 C7 115.2(8)
C13 C11 C12 109.9(8)
C13 C11 C10 111.3(8)
C12 C11 C10 109.3(14)
C5 C4 C3 115.0(14)
C5 C4 C10 121.6(10)
C3 C4 C10 123.3(11)
C4 C5 C6 122.8(11)
C4 C10 C11 110.4(15)
C5 C6 C1 121.4(11)
C2 C3 C4 123.3(10)
C1 C2 C3 119.4(11)
loop_
_geom_bond_atom_site_label_1
_geom_bond_atom_site_label_2
_geom_bond_distance
O2 C9 1.234(10)
O1 C9 1.315(11)
C7 C9 1.500(16)
C7 C8 1.53(2)
C7 C1 1.47(3)
C1 C2 1.401(15)
C1 C6 1.384(16)
C11 C13 1.536(15)
C11 C12 1.51(2)
C11 C10 1.530(13)
C4 C5 1.400(16)
C4 C3 1.400(17)
C4 C10 1.49(2)
C5 C6 1.37(2)
C3 C2 1.39(2)
loop_
_geom_torsion_atom_site_label_1
_geom_torsion_atom_site_label_2
_geom_torsion_atom_site_label_3
_geom_torsion_atom_site_label_4
_geom_torsion
C9 C7 C1 C2 80.0(16)
C8 C7 C1 C2 -41(2)
C9 C7 C1 C6 -94.2(14)
C8 C7 C1 C6 144.4(13)
C8 C7 C9 O2 42(2)
C1 C7 C9 O2 -83.9(18)
C8 C7 C9 O1 -146.6(13)
C1 C7 C9 O1 87.4(13)
C3 C4 C5 C6 3(2)
C10 C4 C5 C6 179.5(16)
C5 C4 C10 C11 -71.9(16)
C3 C4 C10 C11 104.5(14)
C13 C11 C10 C4 -72.6(12)
C12 C11 C10 C4 165.8(8)
C4 C5 C6 C1 -4(2)
C2 C1 C6 C5 3(2)
C7 C1 C6 C5 177.8(15)
C5 C4 C3 C2 -2(2)
C10 C4 C3 C2 -178.3(15)
C6 C1 C2 C3 -2(2)
C7 C1 C2 C3 -176.6(16)
C4 C3 C2 C1 1(3)
