#------------------------------------------------------------------------------
#$Date: 2016-02-09 19:42:54 +0100 (mar 09 de feb de 2016) $
#$Revision: 176292 $
#$URL: svn://www.crystallography.net/cod/cif/6/00/00/6000072.cif $
#------------------------------------------------------------------------------
#
# This file is available in the Crystallography Open Database (COD),
# http://www.crystallography.net/
#
# All data on this site have been placed in the public domain by the
# contributors.
#
data_6000072
loop_
_publ_author_name
'Zouari, N.'
'Mhiri, T.'
'Daoud, A.'
'Gravereau, P.'
'Lebraud, E.'
_publ_section_title
;
 Crystal structure and Rietveld refinement using X-ray powder diffraction
 data of two potassium and ammonium-samarium condensed phosphates:
 KSmHP3O10 and NH4SmHP3O10
;
_journal_name_full
;
 International Journal of Inorganic Materials
;
_journal_page_first              379
_journal_page_last               387
_journal_paper_doi               10.1016/S1466-6049(00)00036-2
_journal_volume                  2
_journal_year                    2000
_chemical_formula_sum            'H K O10 P3 Sm'
_space_group_name_H-M_alt        'P -1'
_cell_angle_alpha                106.640
_cell_angle_beta                 106.630
_cell_angle_gamma                82.470
_cell_length_a                   6.9560
_cell_length_b                   7.7110
_cell_length_c                   8.5700
_cell_volume                     421.40
_cod_database_code               6000072
loop_
_atom_site_label
_atom_site_fract_x
_atom_site_fract_y
_atom_site_fract_z
? ? ? ?
