#------------------------------------------------------------------------------
#$Date: 2016-02-09 19:42:54 +0100 (mar 09 de feb de 2016) $
#$Revision: 176292 $
#$URL: svn://www.crystallography.net/cod/cif/6/00/01/6000136.cif $
#------------------------------------------------------------------------------
#
# This file is available in the Crystallography Open Database (COD),
# http://www.crystallography.net/
#
# All data on this site have been placed in the public domain by the
# contributors.
#
data_6000136
loop_
_publ_author_name
'Riou, D.'
'Belier, F.'
'Serre, C.'
'Nogues, M.'
'Vichard, D.'
'Ferey, G.'
_publ_section_title
;
 Hybrid open-frameworks: hydrothermal synthesis, structure determinations
 and magnetic properties of MIL-29, two copper diphosphonates
 (Cu-II(H2O))(2){O3P-X-PO3} with X=C2H4, CH2-C6H4-CH2
;
_journal_name_full
;
 International Journal of Inorganic Materials
;
_journal_page_first              29
_journal_page_last               33
_journal_paper_doi               10.1016/S1466-6049(99)00066-5
_journal_volume                  2
_journal_year                    2000
_chemical_formula_sum            'C8 H12 Cu2 O8 P2'
_space_group_name_H-M_alt        'P 1 21/c 1'
_cell_angle_alpha                90.000
_cell_angle_beta                 92.340
_cell_angle_gamma                90.000
_cell_length_a                   10.8120
_cell_length_b                   7.5770
_cell_length_c                   7.4120
_cell_volume                     606.70
_cod_database_code               6000136
loop_
_atom_site_label
_atom_site_fract_x
_atom_site_fract_y
_atom_site_fract_z
? ? ? ?
