#------------------------------------------------------------------------------
#$Date: 2016-02-09 19:42:54 +0100 (mar 09 de feb de 2016) $
#$Revision: 176292 $
#$URL: svn://www.crystallography.net/cod/cif/6/00/01/6000186.cif $
#------------------------------------------------------------------------------
#
# This file is available in the Crystallography Open Database (COD),
# http://www.crystallography.net/
#
# All data on this site have been placed in the public domain by the
# contributors.
#
data_6000186
loop_
_publ_author_name
'Kotur, B. Y.'
'Michor, H.'
'Bauer, E.'
'Hilscher, G.'
_publ_section_title
;
 The Y-Cu-Pd ternary system at 600 degrees c (0-25 at.% Y): a
 reinvestigation
;
_journal_name_full               'Journal of Alloys and Compounds'
_journal_page_first              285
_journal_page_last               289
_journal_paper_doi               10.1016/S0925-8388(99)00541-1
_journal_volume                  296
_journal_year                    2000
_chemical_formula_sum            'Cu3.77 Pd1.23 Y'
_space_group_name_H-M_alt        'F -4 3 m'
_cell_angle_alpha                90.000
_cell_angle_beta                 90.000
_cell_angle_gamma                90.000
_cell_length_a                   7.0780
_cell_length_b                   7.0780
_cell_length_c                   7.0780
_cell_volume                     354.59
_cod_database_code               6000186
loop_
_atom_site_label
_atom_site_fract_x
_atom_site_fract_y
_atom_site_fract_z
? ? ? ?
