#------------------------------------------------------------------------------
#$Date: 2016-02-09 19:42:54 +0100 (mar 09 de feb de 2016) $
#$Revision: 176292 $
#$URL: svn://www.crystallography.net/cod/cif/6/00/02/6000262.cif $
#------------------------------------------------------------------------------
#
# This file is available in the Crystallography Open Database (COD),
# http://www.crystallography.net/
#
# All data on this site have been placed in the public domain by the
# contributors.
#
data_6000262
loop_
_publ_author_name
'Cordfunke, E. H. P.'
'Huntelaar, M. E.'
'Ijdo, D. J. W.'
_publ_section_title
;
 The structure of BaSr4U3O14 and a structural and thermodynamic
 characterization of Sr5U3O14
;
_journal_name_full               'Journal of Solid State Chemistry'
_journal_page_first              144
_journal_page_last               150
_journal_paper_doi               10.1006/jssc.1999.8320
_journal_volume                  146
_journal_year                    1999
_chemical_formula_sum            'Ba O14 Sr4 U3'
_space_group_name_H-M_alt        'C m c a'
_cell_angle_alpha                90.000
_cell_angle_beta                 90.000
_cell_angle_gamma                90.000
_cell_length_a                   11.3647
_cell_length_b                   11.3770
_cell_length_c                   11.0203
_cell_volume                     1424.88
_cod_database_code               6000262
loop_
_atom_site_label
_atom_site_fract_x
_atom_site_fract_y
_atom_site_fract_z
? ? ? ?
