#------------------------------------------------------------------------------
#$Date: 2016-02-09 19:42:54 +0100 (mar 09 de feb de 2016) $
#$Revision: 176292 $
#$URL: svn://www.crystallography.net/cod/cif/6/00/04/6000434.cif $
#------------------------------------------------------------------------------
#
# This file is available in the Crystallography Open Database (COD),
# http://www.crystallography.net/
#
# All data on this site have been placed in the public domain by the
# contributors.
#
data_6000434
loop_
_publ_author_name
'Gulay, L. D.'
'Zaremba, V.'
'Stepien-Damm, J.'
'Kalychak, Y. M.'
_publ_section_title
;
 Interactions between the components in the Zr-Ag-In system at 870 k
;
_journal_name_full               'Polish Journal of Chemistry'
_journal_page_first              1886
_journal_page_last               1889
_journal_volume                  72
_journal_year                    1998
_chemical_formula_sum            'Ag0.4 In2.6 Zr'
_space_group_name_H-M_alt        'P m -3 m'
_cell_angle_alpha                90.000
_cell_angle_beta                 90.000
_cell_angle_gamma                90.000
_cell_length_a                   4.3644
_cell_length_b                   4.3644
_cell_length_c                   4.3644
_cell_volume                     83.13
_cod_database_code               6000434
loop_
_atom_site_label
_atom_site_fract_x
_atom_site_fract_y
_atom_site_fract_z
? ? ? ?
