#------------------------------------------------------------------------------
#$Date: 2016-02-09 19:42:54 +0100 (mar 09 de feb de 2016) $
#$Revision: 176292 $
#$URL: svn://www.crystallography.net/cod/cif/6/00/05/6000513.cif $
#------------------------------------------------------------------------------
#
# This file is available in the Crystallography Open Database (COD),
# http://www.crystallography.net/
#
# All data on this site have been placed in the public domain by the
# contributors.
#
data_6000513
loop_
_publ_author_name
'Riou, D.'
'Baltazar, P.'
'Ferey, G.'
_publ_section_title
;
 Hybrid open-frameworks: synthesis and structures of four
 vanado-alkyldiphosphonates with occluded potassium cations
;
_journal_name_full               'Solid State Sciences'
_journal_page_first              127
_journal_page_last               134
_journal_paper_doi               10.1016/S1293-2558(00)00103-5
_journal_volume                  2
_journal_year                    2000
_chemical_formula_sum            'C3 H13 K O14 P2 V2'
_space_group_name_H-M_alt        'C 1 2/c 1'
_cell_angle_alpha                90.000
_cell_angle_beta                 98.991
_cell_angle_gamma                90.000
_cell_length_a                   14.4939
_cell_length_b                   10.2595
_cell_length_c                   18.6782
_cell_volume                     2743.33
_cod_database_code               6000513
loop_
_atom_site_label
_atom_site_fract_x
_atom_site_fract_y
_atom_site_fract_z
? ? ? ?
