#------------------------------------------------------------------------------
#$Date: 2016-02-09 19:42:54 +0100 (mar 09 de feb de 2016) $
#$Revision: 176292 $
#$URL: svn://www.crystallography.net/cod/cif/6/00/06/6000649.cif $
#------------------------------------------------------------------------------
#
# This file is available in the Crystallography Open Database (COD),
# http://www.crystallography.net/
#
# All data on this site have been placed in the public domain by the
# contributors.
#
data_6000649
loop_
_publ_author_name
'Wang, S. H.'
'Wang, M. T.'
_publ_section_title
;
 Studies on divalent thulium ternary iodide
;
_journal_coden_ASTM              KTHPDM
_journal_name_full               'Gaodeng Xuexiao Huaxue Xuebao'
_journal_page_first              335
_journal_page_last               339
_journal_volume                  19
_journal_year                    1998
_chemical_formula_sum            'I3 K Tm'
_space_group_name_H-M_alt        'C m c m'
_cell_angle_alpha                90.000
_cell_angle_beta                 90.000
_cell_angle_gamma                90.000
_cell_length_a                   4.5760
_cell_length_b                   15.1330
_cell_length_c                   11.6790
_cell_volume                     808.75
_cod_database_code               6000649
loop_
_atom_site_label
_atom_site_fract_x
_atom_site_fract_y
_atom_site_fract_z
? ? ? ?
