#------------------------------------------------------------------------------
#$Date: 2016-02-09 19:42:54 +0100 (mar 09 de feb de 2016) $
#$Revision: 176292 $
#$URL: svn://www.crystallography.net/cod/cif/6/00/06/6000675.cif $
#------------------------------------------------------------------------------
#
# This file is available in the Crystallography Open Database (COD),
# http://www.crystallography.net/
#
# All data on this site have been placed in the public domain by the
# contributors.
#
data_6000675
loop_
_publ_author_name
'Touboul, M.'
'Melghit, K.'
_publ_section_title
;
 Synthesis by chimie-douce and properties of Chromium(III) Vanadates(V)
;
_journal_name_full               'Journal of Materials Chemistry'
_journal_page_first              147
_journal_page_last               150
_journal_paper_doi               10.1039/jm9950500147
_journal_volume                  5
_journal_year                    1995
_chemical_formula_sum            'Cr O4 V'
_space_group_name_H-M_alt        'C 1 2/m 1'
_cell_angle_alpha                90.000
_cell_angle_beta                 107.800
_cell_angle_gamma                90.000
_cell_length_a                   9.7910
_cell_length_b                   8.8480
_cell_length_c                   6.8340
_cell_volume                     563.69
_cod_database_code               6000675
loop_
_atom_site_label
_atom_site_fract_x
_atom_site_fract_y
_atom_site_fract_z
? ? ? ?
