#------------------------------------------------------------------------------
#$Date: 2016-02-09 19:42:54 +0100 (mar 09 de feb de 2016) $
#$Revision: 176292 $
#$URL: svn://www.crystallography.net/cod/cif/6/00/07/6000768.cif $
#------------------------------------------------------------------------------
#
# This file is available in the Crystallography Open Database (COD),
# http://www.crystallography.net/
#
# All data on this site have been placed in the public domain by the
# contributors.
#
data_6000768
loop_
_publ_author_name
'Gobichon, A. E.'
'Auffredic, J. P.'
'Louer, D.'
_publ_section_title
;
 A temperature-dependent powder diffraction study of chromium lanthanum
 nitrate, LaCr(NO3)(6).12H(2)O
;
_journal_name_full               'Powder Diffraction'
_journal_page_first              23
_journal_page_last               25
_journal_paper_doi               10.1017/S0885715600010782
_journal_volume                  15
_journal_year                    2000
_chemical_formula_sum            'Cr H12 La N6 O24'
_space_group_name_H-M_alt        'P 21 3'
_cell_angle_alpha                90.000
_cell_angle_beta                 90.000
_cell_angle_gamma                90.000
_cell_length_a                   12.3010
_cell_length_b                   12.3010
_cell_length_c                   12.3010
_cell_volume                     1861.32
_cod_database_code               6000768
loop_
_atom_site_label
_atom_site_fract_x
_atom_site_fract_y
_atom_site_fract_z
? ? ? ?
