#------------------------------------------------------------------------------
#$Date: 2016-02-16 02:10:39 +0100 (mar 16 de feb de 2016) $
#$Revision: 176453 $
#$URL: svn://www.crystallography.net/cod/cif/7/01/88/7018875.cif $
#------------------------------------------------------------------------------
#
# This file is available in the Crystallography Open Database (COD),
# http://www.crystallography.net/
#
# All data on this site have been placed in the public domain by the
# contributors.
#
data_7018875
loop_
_publ_author_name
'Gould, Jamie A.'
'Rosseinsky, Matthew J.'
'Moggach, Stephen A.'
_publ_section_title
;
 Tuning the coordination chemistry of a Cu(ii) complex at high-pressure.
;
_journal_issue                   18
_journal_name_full
'Dalton transactions (Cambridge, England : 2003)'
_journal_page_first              5464
_journal_page_last               5467
_journal_paper_doi               10.1039/c2dt12302a
_journal_volume                  41
_journal_year                    2012
_chemical_absolute_configuration ad
_chemical_formula_moiety         'C4 H9 Cu1 N1 O6'
_chemical_formula_sum            'C4 H9 Cu N O6'
_chemical_formula_weight         230.66
_chemical_name_common            CuAsp
_space_group_IT_number           5
_symmetry_cell_setting           monoclinic
_symmetry_Int_Tables_number      5
_symmetry_space_group_name_Hall  'C 2y'
_symmetry_space_group_name_H-M   'C 1 2 1'
_atom_sites_solution_hydrogens   difmap
_atom_sites_solution_primary     other
_audit_creation_date             11-07-11
_audit_creation_method           CRYSTALS_ver_14.23
_cell_angle_alpha                90
_cell_angle_beta                 92.265(16)
_cell_angle_gamma                90
_cell_formula_units_Z            4
_cell_length_a                   9.1425(9)
_cell_length_b                   9.7138(11)
_cell_length_c                   7.361(2)
_cell_measurement_reflns_used    1511
_cell_measurement_temperature    293
_cell_measurement_theta_max      20
_cell_measurement_theta_min      3
_cell_volume                     653.2(2)
_computing_cell_refinement       'Apex2 (Bruker AXS, 2006)'
_computing_data_collection       'Apex2 (Bruker AXS, 2006)'
_computing_data_reduction        'Apex2 (Bruker AXS, 2006)'
_computing_molecular_graphics    'CAMERON (Watkin et al., 1996)'
_computing_publication_material  'CRYSTALS (Betteridge et al., 2003)'
_computing_structure_refinement  'CRYSTALS (Betteridge et al., 2003)'
_computing_structure_solution    'USER DEFINED STRUCTURE SOLUTION'
_diffrn_ambient_pressure         3490000
_diffrn_ambient_temperature      293
_diffrn_measured_fraction_theta_full 0.433
_diffrn_measured_fraction_theta_max 0.413
_diffrn_measurement_device       Area
_diffrn_measurement_device_type  'Bruker Apex2'
_diffrn_measurement_method       ω
_diffrn_radiation_monochromator  graphite
_diffrn_radiation_probe          x-ray
_diffrn_radiation_type           ' synchrotron'
_diffrn_radiation_wavelength     0.47620
_diffrn_reflns_av_R_equivalents  0.041
_diffrn_reflns_limit_h_max       13
_diffrn_reflns_limit_h_min       -13
_diffrn_reflns_limit_k_max       13
_diffrn_reflns_limit_k_min       -13
_diffrn_reflns_limit_l_max       4
_diffrn_reflns_limit_l_min       -4
_diffrn_reflns_number            2568
_diffrn_reflns_theta_full        25.308
_diffrn_reflns_theta_max         30.492
_diffrn_reflns_theta_min         3.061
_diffrn_standards_number         0
_exptl_absorpt_coefficient_mu    3.335
_exptl_absorpt_correction_T_max  0.72
_exptl_absorpt_correction_T_min  0.62
_exptl_absorpt_correction_type   multi-scan
_exptl_absorpt_process_details   'SADABS (Siemens, 1996)'
_exptl_crystal_colour            blue
_exptl_crystal_density_diffrn    2.345
_exptl_crystal_density_method    'not measured'
_exptl_crystal_description       block
_exptl_crystal_F_000             468
_exptl_crystal_size_max          0.200
_exptl_crystal_size_mid          0.200
_exptl_crystal_size_min          0.100
_refine_diff_density_max         0.68
_refine_diff_density_min         -1.20
_refine_ls_abs_structure_details 'Flack (1983), 350 Friedel-pairs'
_refine_ls_abs_structure_Flack   0.31(4)
_refine_ls_extinction_method     None
_refine_ls_goodness_of_fit_ref   0.9333
_refine_ls_hydrogen_treatment    constr
_refine_ls_matrix_type           full
_refine_ls_number_parameters     55
_refine_ls_number_reflns         786
_refine_ls_number_restraints     37
_refine_ls_R_factor_all          0.0548
_refine_ls_R_factor_gt           0.0379
_refine_ls_shift/su_max          0.0001070
_refine_ls_shift/su_mean         0.0000204
_refine_ls_structure_factor_coef Fsqd
_refine_ls_weighting_details
;
Method= Modified Sheldrick
w=1/[σ²(F²) + ( 0.03P)² + 1.70P]
,where P=(max(Fo²,0) + 2Fc²)/3
;
_refine_ls_weighting_scheme      calc
_refine_ls_wR_factor_all         0.0916
_refine_ls_wR_factor_gt          0.0667
_refine_ls_wR_factor_ref         0.0916
_reflns_limit_h_max              13
_reflns_limit_h_min              -13
_reflns_limit_k_max              13
_reflns_limit_k_min              -13
_reflns_limit_l_max              4
_reflns_limit_l_min              0
_reflns_number_gt                595
_reflns_number_total             786
_reflns_threshold_expression     I>2.0σ(I)
_oxford_diffrn_Wilson_B_factor   0.00
_oxford_diffrn_Wilson_scale      0.00
_oxford_refine_ls_r_factor_ref   0.0548
_oxford_refine_ls_scale          0.2492(5)
_oxford_reflns_number_all        786
_oxford_reflns_threshold_expression_ref I>-10.0\s(I)
_oxford_structure_analysis_title 'ceth04 in C2'
_cod_data_source_file            c2dt12302a.txt
_cod_data_source_block           ceth04
_cod_depositor_comments
;
The following automatic conversions were performed:

'_atom_sites_solution_primary' value 'Other' changed to 'other'
according to /home/saulius/struct/CIF-dictionaries/cif_core.dic
dictionary named 'cif_core.dic' version 2.4.1 from 2010-06-29.

Automatic conversion script
Id: cif_fix_values 1715 2011-07-08 13:25:40Z adriana 
;
_cod_original_sg_symbol_H-M      'C 2'
_cod_original_formula_sum        'C4 H9 Cu1 N1 O6'
_cod_database_code               7018875
#BEGIN Tags that were not found in dictionaries:
_iucr_refine_instruction_details_constraints
;
BLOCK SCALE X'S
CONT CU(1, U'S)
CONT C(1, U[ISO]) UNTIL N(1)
CONT ENANTIO
RIDE C ( 2,X'S) H ( 21,X'S)
RIDE C ( 3,X'S) H ( 31,X'S) H ( 32,X'S)
RIDE O ( 5,X'S) H ( 51,X'S) H ( 52,X'S)
RIDE O ( 6,X'S) H ( 61,X'S) H ( 62,X'S)
RIDE N ( 1,X'S) H ( 11,X'S) H ( 12,X'S)
END
;
_iucr_refine_instruction_details_restraints
;
DIST 1.292, 0.01 = C(1) TO O(1)
DIST 1.232, 0.01 = C(1) TO O(2)
DIST 1.525, 0.01 = C(1) TO C(2)
DIST 1.489, 0.01 = C(2) TO N(1)
DIST 1.514, 0.01 = C(2) TO C(3)
DIST 1.528, 0.01 = C(3) TO C(4)
DIST 1.280, 0.01 = C(4) TO O(3)
DIST 1.239, 0.01 = C(4) TO O(4)
ANGL 123,1= O(2) TO C(1) TO O(1)
ANGL 118,1= C(2) TO C(1) TO O(1)
ANGL 120,1= C(2) TO C(1) TO O(2)
ANGL 109,1= C(1) TO C(2) TO N(1)
ANGL 110,1= C(3) TO C(2) TO N(1)
ANGL 110,1= C(3) TO C(2) TO C(1)
ANGL 115,1= C(4) TO C(3) TO C(2)
ANGL 124,1= O(4) TO C(4) TO O(3)
ANGL 114,1= C(3) TO C(4) TO O(3)
ANGL 122,1= C(3) TO C(4) TO O(4)
REM HREST START (DO NOT REMOVE THIS LINE)
REM HREST END (DO NOT REMOVE THIS LINE)
REM DELU START (DO NOT REMOVE THIS LINE)
VIBR .0, 0.00200 = O(1) TO C(1)
VIBR .0, 0.00200 = O(2) TO C(1)
VIBR .0, 0.00200 = O(3) TO C(4)
VIBR .0, 0.00200 = O(4) TO C(4)
VIBR .0, 0.00200 = N(1) TO C(2)
VIBR .0, 0.00200 = C(1) TO C(2)
VIBR .0, 0.00500 = O(2) TO O(1)
VIBR .0, 0.00500 = C(2) TO O(1)
VIBR .0, 0.00500 = C(2) TO O(2)
VIBR .0, 0.00200 = C(2) TO C(3)
VIBR .0, 0.00500 = N(1) TO C(1)
VIBR .0, 0.00500 = C(3) TO C(1)
VIBR .0, 0.00500 = C(3) TO N(1)
VIBR .0, 0.00200 = C(3) TO C(4)
VIBR .0, 0.00500 = C(4) TO C(2)
VIBR .0, 0.00500 = O(3) TO C(3)
VIBR .0, 0.00500 = O(4) TO C(3)
VIBR .0, 0.00500 = O(4) TO O(3)
REM DELU END (DO NOT REMOVE THIS LINE)
REM THERMSIM START (DO NOT REMOVE THIS LINE)
U(IJ) .0, 0.08000 = O(1) TO C(1)
U(IJ) .0, 0.08000 = O(2) TO C(1)
U(IJ) .0, 0.08000 = O(3) TO C(4)
U(IJ) .0, 0.08000 = O(4) TO C(4)
U(IJ) .0, 0.08000 = N(1) TO C(2)
U(IJ) .0, 0.04000 = C(1) TO C(2)
U(IJ) .0, 0.04000 = C(2) TO C(3)
U(IJ) .0, 0.04000 = C(3) TO C(4)
REM THERMSIM END (DO NOT REMOVE THIS LINE)
END
;
#END Tags that were not found in dictionaries
loop_
_symmetry_equiv_pos_as_xyz
x,y,z
x+1/2,y+1/2,z
-x,y,-z
-x+1/2,y+1/2,-z
loop_
_atom_site_label
_atom_site_type_symbol
_atom_site_fract_x
_atom_site_fract_y
_atom_site_fract_z
_atom_site_U_iso_or_equiv
_atom_site_occupancy
_atom_site_adp_type
_atom_site_refinement_flags_posn
_atom_site_refinement_flags_adp
Cu1 Cu 0.24035(7) 1.00462(17) 0.8665(3) 0.0286 1.0000 Uani . .
C1 C 0.3229(7) 0.7738(6) 0.6822(13) 0.0150(10) 1.0000 Uiso D U
C2 C 0.2235(6) 0.8461(5) 0.5418(13) 0.0141(9) 1.0000 Uiso D U
C3 C 0.3183(6) 0.9133(6) 0.4019(14) 0.0140(10) 1.0000 Uiso D U
C4 C 0.2451(5) 0.9427(7) 0.2165(13) 0.0103(9) 1.0000 Uiso D U
O1 O 0.3368(5) 0.8280(5) 0.8417(15) 0.0184(10) 1.0000 Uiso D U
O2 O 0.3903(5) 0.6693(5) 0.6403(17) 0.0161(10) 1.0000 Uiso D U
O3 O 0.3172(4) 1.0194(5) 0.1106(13) 0.0141(9) 1.0000 Uiso D U
O4 O 0.1239(4) 0.8916(5) 0.1761(15) 0.0129(9) 1.0000 Uiso D U
O5 O 0.1264(5) 1.1707(5) 0.879(2) 0.0165(12) 1.0000 Uiso . .
O6 O 0.4302(5) 1.1215(5) 0.754(2) 0.0198(12) 1.0000 Uiso . .
N1 N 0.1399(5) 0.9526(5) 0.6437(17) 0.0140(10) 1.0000 Uiso D U
H31 H 0.3530 1.0003 0.4530 0.0168 1.0000 Uiso R .
H32 H 0.4012 0.8532 0.3846 0.0168 1.0000 Uiso R .
H21 H 0.1563 0.7802 0.4833 0.0170 1.0000 Uiso R .
H11 H 0.1282 1.0246 0.5766 0.0168 1.0000 Uiso R .
H12 H 0.0557 0.9196 0.6683 0.0168 1.0000 Uiso R .
H61 H 0.4190 1.2004 0.7982 0.0248 1.0000 Uiso R .
H62 H 0.5147 1.0948 0.7877 0.0248 1.0000 Uiso R .
H51 H 0.1516 1.2364 0.9474 0.0206 1.0000 Uiso R .
H52 H 0.0380 1.1750 0.8452 0.0206 1.0000 Uiso R .
loop_
_atom_site_aniso_label
_atom_site_aniso_U_11
_atom_site_aniso_U_22
_atom_site_aniso_U_33
_atom_site_aniso_U_23
_atom_site_aniso_U_13
_atom_site_aniso_U_12
Cu1 0.0153(3) 0.0123(4) 0.058(3) -0.0032(10) -0.0055(6) 0.0030(4)
loop_
_atom_type_symbol
_atom_type_scat_dispersion_real
_atom_type_scat_dispersion_imag
_atom_type_scat_Cromer_Mann_a1
_atom_type_scat_Cromer_Mann_b1
_atom_type_scat_Cromer_Mann_a2
_atom_type_scat_Cromer_Mann_b2
_atom_type_scat_Cromer_Mann_a3
_atom_type_scat_Cromer_Mann_b3
_atom_type_scat_Cromer_Mann_a4
_atom_type_scat_Cromer_Mann_b4
_atom_type_scat_Cromer_Mann_c
_atom_type_scat_source
C 0.0033 0.0016 2.3100 20.8439 1.0200 10.2075 1.5886 0.5687 0.8650 51.6512
0.2156 'International Tables Vol C 4.2.6.8 and 6.1.1.4'
H 0.0000 0.0000 0.4930 10.5109 0.3229 26.1257 0.1402 3.1424 0.0408 57.7998
0.0030 'International Tables Vol C 4.2.6.8 and 6.1.1.4'
N 0.0061 0.0033 12.2126 0.0057 3.1322 9.8933 2.0125 28.9975 1.1663 0.5826
-11.5290 'International Tables Vol C 4.2.6.8 and 6.1.1.4'
O 0.0106 0.0060 3.0485 13.2771 2.2868 5.7011 1.5463 0.3239 0.8670 32.9089
0.2508 'International Tables Vol C 4.2.6.8 and 6.1.1.4'
Cu 0.3201 1.2651 13.3380 3.5828 7.1676 0.2470 5.6158 11.3966 1.6735 64.8126
1.1910 'International Tables Vol C 4.2.6.8 and 6.1.1.4'
loop_
_geom_angle_atom_site_label_1
_geom_angle_site_symmetry_1
_geom_angle_atom_site_label_2
_geom_angle_atom_site_label_3
_geom_angle_site_symmetry_3
_geom_angle
_geom_angle_publ_flag
O4 1_556 Cu1 O3 1_556 52.9(2) yes
O4 1_556 Cu1 O1 . 85.3(3) yes
O3 1_556 Cu1 O1 . 90.2(3) yes
O4 1_556 Cu1 O5 . 93.8(4) yes
O3 1_556 Cu1 O5 . 94.1(4) yes
O1 . Cu1 O5 . 173.9(2) yes
O4 1_556 Cu1 O6 . 145.5(4) yes
O3 1_556 Cu1 O6 . 92.7(4) yes
O1 . Cu1 O6 . 92.9(2) yes
O5 . Cu1 O6 . 91.3(3) yes
O4 1_556 Cu1 N1 . 114.3(3) yes
O3 1_556 Cu1 N1 . 166.4(3) yes
O1 . Cu1 N1 . 83.7(3) yes
O5 . Cu1 N1 . 91.2(4) yes
O6 . Cu1 N1 . 99.7(4) yes
C2 . C1 O1 . 117.7(5) yes
C2 . C1 O2 . 120.1(6) yes
O1 . C1 O2 . 122.2(6) yes
C1 . C2 C3 . 108.5(5) yes
C1 . C2 N1 . 106.3(5) yes
C3 . C2 N1 . 110.9(5) yes
C1 . C2 H21 . 110.2 no
C3 . C2 H21 . 110.4 no
N1 . C2 H21 . 110.4 no
C2 . C3 C4 . 116.5(4) yes
C2 . C3 H31 . 107.3 no
C4 . C3 H31 . 107.9 no
C2 . C3 H32 . 107.5 no
C4 . C3 H32 . 108.2 no
H31 . C3 H32 . 109.2 no
C3 . C4 O3 . 115.9(4) yes
C3 . C4 O4 . 119.8(6) yes
O3 . C4 O4 . 124.3(6) yes
C1 . O1 Cu1 . 114.7(5) yes
C4 . O3 Cu1 1_554 110.5(4) yes
C4 . O4 Cu1 1_554 70.8(5) yes
Cu1 . O5 H51 . 122.1 no
Cu1 . O5 H52 . 123.1 no
H51 . O5 H52 . 112.3 no
Cu1 . O6 H61 . 102.1 no
Cu1 . O6 H62 . 116.5 no
H61 . O6 H62 . 106.9 no
C2 . N1 Cu1 . 111.9(4) yes
C2 . N1 H11 . 109.1 no
Cu1 . N1 H11 . 108.7 no
C2 . N1 H12 . 109.0 no
Cu1 . N1 H12 . 108.7 no
H11 . N1 H12 . 109.3 no
loop_
_geom_bond_atom_site_label_1
_geom_bond_atom_site_label_2
_geom_bond_site_symmetry_2
_geom_bond_distance
_geom_bond_publ_flag
Cu1 O4 1_556 2.779(10) yes
Cu1 O3 1_556 1.909(9) yes
Cu1 O1 . 1.941(5) yes
Cu1 O5 . 1.924(5) yes
Cu1 O6 . 2.258(8) yes
Cu1 N1 . 1.916(11) yes
C1 C2 . 1.521(7) yes
C1 O1 . 1.289(9) yes
C1 O2 . 1.233(6) yes
C2 C3 . 1.519(8) yes
C2 N1 . 1.504(8) yes
C2 H21 . 0.975 no
C3 C4 . 1.523(8) yes
C3 H31 . 0.973 no
C3 H32 . 0.970 no
C4 O3 . 1.279(7) yes
C4 O4 . 1.240(5) yes
O5 H51 . 0.838 no
O5 H52 . 0.838 no
O6 H61 . 0.840 no
O6 H62 . 0.842 no
N1 H11 . 0.861 no
N1 H12 . 0.860 no
