#------------------------------------------------------------------------------
#$Date: 2016-03-25 15:57:53 +0100 (vie 25 de mar de 2016) $
#$Revision: 179997 $
#$URL: svn://www.crystallography.net/cod/cif/7/02/91/7029115.cif $
#------------------------------------------------------------------------------
#
# This file is available in the Crystallography Open Database (COD),
# http://www.crystallography.net/
#
# All data on this site have been placed in the public domain by the
# contributors.
#
data_7029115
loop_
_publ_author_name
'Janzen, D. E.'
'Kooyman, A. M.'
_publ_section_title
;
 Gold(iii) assisted C-H activation of 1,4,7-trithiacyclononane: synthesis
 and spontaneous resolution of a bicyclic chiral sulfonium salt.
;
_journal_issue                   9
_journal_name_full
'Dalton transactions (Cambridge, England : 2003)'
_journal_page_first              3424
_journal_page_last               3427
_journal_paper_doi               10.1039/c3dt53545b
_journal_volume                  43
_journal_year                    2014
_chemical_absolute_configuration ad
_chemical_formula_moiety         'C6 H11 S3, Au Cl2 '
_chemical_formula_sum            'C6 H11 Au Cl2 S3'
_chemical_formula_weight         447.21
_space_group_IT_number           19
_symmetry_cell_setting           orthorhombic
_symmetry_Int_Tables_number      19
_symmetry_space_group_name_Hall  'P 2ac 2ab'
_symmetry_space_group_name_H-M   'P 21 21 21'
_atom_sites_solution_hydrogens   geom
_atom_sites_solution_primary     direct
_atom_sites_solution_secondary   difmap
_cell_angle_alpha                90.0000
_cell_angle_beta                 90.0000
_cell_angle_gamma                90.0000
_cell_formula_units_Z            4
_cell_length_a                   8.4404(17)
_cell_length_b                   9.0920(18)
_cell_length_c                   14.985(3)
_cell_measurement_reflns_used    11732
_cell_measurement_temperature    173
_cell_measurement_theta_max      27.52
_cell_measurement_theta_min      3.29
_cell_volume                     1150.0(4)
_computing_cell_refinement       'CrystalClear-SM Expert 2.0 r13'
_computing_data_collection
'CrystalClear-SM Expert 2.0 r13 (Rigaku, 2011)'
_computing_data_reduction        'CrystalClear-SM Expert 2.0 r13'
_computing_molecular_graphics    'CrystalStructure 4.0'
_computing_publication_material  'CrystalStructure 4.0 (Rigaku, 2010)'
_computing_structure_refinement  'SHELXL97 (Sheldrick, 2008)'
_diffrn_ambient_temperature      173
_diffrn_detector_area_resol_mean 6.849
_diffrn_measured_fraction_theta_full 0.998
_diffrn_measured_fraction_theta_max 0.998
_diffrn_measurement_device_type  'Rigaku XtaLAB mini'
_diffrn_measurement_method       ω
_diffrn_radiation_type           'Mo K\a'
_diffrn_radiation_wavelength     0.71075
_diffrn_reflns_av_R_equivalents  0.0547
_diffrn_reflns_limit_h_max       10
_diffrn_reflns_limit_h_min       -10
_diffrn_reflns_limit_k_max       11
_diffrn_reflns_limit_k_min       -11
_diffrn_reflns_limit_l_max       19
_diffrn_reflns_limit_l_min       -19
_diffrn_reflns_number            12006
_diffrn_reflns_theta_full        27.48
_diffrn_reflns_theta_max         27.48
_diffrn_standards_number         0
_exptl_absorpt_coefficient_mu    13.794
_exptl_absorpt_correction_T_max  0.252
_exptl_absorpt_correction_T_min  0.100
_exptl_absorpt_correction_type   multi-scan
_exptl_absorpt_process_details   'REQAB (Rigaku, 1998)'
_exptl_crystal_colour            Colorless
_exptl_crystal_density_diffrn    2.583
_exptl_crystal_density_method    'not measured'
_exptl_crystal_description       Prism
_exptl_crystal_F_000             832.00
_exptl_crystal_size_max          0.300
_exptl_crystal_size_mid          0.200
_exptl_crystal_size_min          0.100
_refine_diff_density_max         1.040
_refine_diff_density_min         -1.590
_refine_ls_abs_structure_details
'Flack, H. D. (1983), Acta Cryst. A39, 876-881.  1097 Friedel Pairs'
_refine_ls_abs_structure_Flack   -0.004(7)
_refine_ls_extinction_method     none
_refine_ls_goodness_of_fit_ref   1.060
_refine_ls_hydrogen_treatment    constr
_refine_ls_number_parameters     109
_refine_ls_number_reflns         2621
_refine_ls_number_restraints     0
_refine_ls_R_factor_gt           0.0228
_refine_ls_shift/su_max          0.001
_refine_ls_structure_factor_coef Fsqd
_refine_ls_weighting_details
'w = 1/[σ²(Fo²)+(0.0115P)²+0.0000P] where P=(Fo²+2Fc²)/3'
_refine_ls_weighting_scheme      calc
_refine_ls_wR_factor_ref         0.0528
_reflns_number_gt                2562
_reflns_number_total             2621
_reflns_threshold_expression     F²>2.0σ(F²)
_cod_data_source_file            c3dt53545b.txt
_cod_data_source_block           3a
_cod_original_cell_volume        1149.9(4)
_cod_database_code               7029115
loop_
_symmetry_equiv_pos_site_id
_symmetry_equiv_pos_as_xyz
1 +X,+Y,+Z
2 1/2+X,1/2-Y,-Z
3 -X,1/2+Y,1/2-Z
4 1/2-X,-Y,1/2+Z
loop_
_atom_site_label
_atom_site_type_symbol
_atom_site_fract_x
_atom_site_fract_y
_atom_site_fract_z
_atom_site_U_iso_or_equiv
_atom_site_adp_type
_atom_site_occupancy
_atom_site_symmetry_multiplicity
_atom_site_calc_flag
_atom_site_refinement_flags
Au1 Au 0.77688(2) 0.97669(2) 0.775228(14) 0.02559(7) Uani 1.0 4 d .
Cl2 Cl 0.91396(18) 0.87749(16) 0.66004(11) 0.0366(4) Uani 1.0 4 d .
Cl13 Cl 0.64400(17) 1.07328(17) 0.89253(10) 0.0394(4) Uani 1.0 4 d .
S1 S 0.79538(17) 0.25912(14) 0.58777(9) 0.0259(3) Uani 1.0 4 d .
S2 S 0.75156(13) 0.57048(14) 0.54821(9) 0.0200(3) Uani 1.0 4 d .
S3 S 0.91327(15) 0.36173(15) 0.37678(9) 0.0256(3) Uani 1.0 4 d .
C1 C 0.7400(7) 0.3679(6) 0.6844(4) 0.0283(13) Uani 1.0 4 d .
C2 C 0.7752(7) 0.5303(6) 0.6671(4) 0.0278(12) Uani 1.0 4 d .
C3 C 0.9573(6) 0.5719(7) 0.5097(4) 0.0258(13) Uani 1.0 4 d .
C4 C 0.9646(7) 0.5473(6) 0.4101(4) 0.0292(13) Uani 1.0 4 d .
C5 C 0.7096(6) 0.3580(6) 0.4147(4) 0.0239(12) Uani 1.0 4 d .
C6 C 0.6912(6) 0.3831(5) 0.5144(4) 0.0202(12) Uani 1.0 4 d .
H1A H 0.6256 0.3549 0.6969 0.0340 Uiso 1.0 4 calc R
H1B H 0.8001 0.3340 0.7373 0.0340 Uiso 1.0 4 calc R
H2A H 0.8849 0.5533 0.6859 0.0333 Uiso 1.0 4 calc R
H2B H 0.7018 0.5923 0.7023 0.0333 Uiso 1.0 4 calc R
H3A H 1.0066 0.6677 0.5245 0.0310 Uiso 1.0 4 calc R
H3B H 1.0176 0.4937 0.5406 0.0310 Uiso 1.0 4 calc R
H4A H 1.0732 0.5694 0.3890 0.0351 Uiso 1.0 4 calc R
H4B H 0.8914 0.6169 0.3804 0.0351 Uiso 1.0 4 calc R
H5A H 0.6491 0.4346 0.3824 0.0287 Uiso 1.0 4 calc R
H5B H 0.6628 0.2614 0.3993 0.0287 Uiso 1.0 4 calc R
H6 H 0.5758 0.3735 0.5283 0.0243 Uiso 1.0 4 calc R
loop_
_atom_site_aniso_label
_atom_site_aniso_U_11
_atom_site_aniso_U_22
_atom_site_aniso_U_33
_atom_site_aniso_U_12
_atom_site_aniso_U_13
_atom_site_aniso_U_23
Au1 0.02488(11) 0.02280(11) 0.02910(13) -0.00260(7) -0.00516(9) 0.00496(8)
Cl2 0.0403(8) 0.0334(8) 0.0360(9) -0.0063(7) 0.0018(8) -0.0021(7)
Cl13 0.0333(8) 0.0378(8) 0.0470(10) -0.0026(7) 0.0081(8) -0.0023(8)
S1 0.0234(7) 0.0248(7) 0.0294(8) 0.0017(6) -0.0008(7) 0.0060(6)
S2 0.0202(7) 0.0202(6) 0.0196(6) 0.0008(5) 0.0039(6) -0.0010(5)
S3 0.0239(7) 0.0302(8) 0.0226(8) 0.0064(6) 0.0040(6) -0.0044(6)
C1 0.031(3) 0.034(3) 0.020(3) -0.009(3) 0.002(3) 0.007(3)
C2 0.031(3) 0.035(3) 0.017(3) -0.005(3) 0.000(3) -0.001(3)
C3 0.016(3) 0.028(3) 0.034(4) -0.007(3) 0.005(3) -0.003(3)
C4 0.032(3) 0.025(3) 0.031(4) -0.003(3) 0.011(3) 0.003(3)
C5 0.019(3) 0.028(3) 0.025(3) 0.003(3) -0.002(3) -0.004(3)
C6 0.013(3) 0.019(3) 0.028(3) -0.002(2) 0.001(3) -0.002(3)
loop_
_atom_type_symbol
_atom_type_description
_atom_type_scat_dispersion_real
_atom_type_scat_dispersion_imag
_atom_type_scat_source
Au Au -2.0133 8.8022
;
International Tables for Crystallography
(1992, Vol. C, Tables 4.2.6.8 and 6.1.1.4)
;
Cl Cl 0.1484 0.1585
;
International Tables for Crystallography
(1992, Vol. C, Tables 4.2.6.8 and 6.1.1.4)
;
S S 0.1246 0.1234
;
International Tables for Crystallography
(1992, Vol. C, Tables 4.2.6.8 and 6.1.1.4)
;
C C 0.0033 0.0016
;
International Tables for Crystallography
(1992, Vol. C, Tables 4.2.6.8 and 6.1.1.4)
;
H H 0.0000 0.0000
;
International Tables for Crystallography
(1992, Vol. C, Table 6.1.1.4)
;
loop_
_geom_angle_atom_site_label_1
_geom_angle_atom_site_label_2
_geom_angle_atom_site_label_3
_geom_angle
_geom_angle_publ_flag
Cl2 Au1 Cl13 178.66(6) yes
C1 S1 C6 91.2(3) yes
C2 S2 C3 101.8(3) yes
C2 S2 C6 96.5(3) yes
C3 S2 C6 100.5(3) yes
C4 S3 C5 99.1(3) yes
S1 C1 C2 109.9(4) yes
S2 C2 C1 109.7(4) yes
S2 C3 C4 110.5(4) yes
S3 C4 C3 113.6(4) yes
S3 C5 C6 113.7(4) yes
S1 C6 S2 105.9(3) yes
S1 C6 C5 117.1(4) yes
S2 C6 C5 112.4(4) yes
loop_
_geom_bond_atom_site_label_1
_geom_bond_atom_site_label_2
_geom_bond_distance
_geom_bond_publ_flag
Au1 Cl2 2.2652(17) yes
Au1 Cl13 2.2624(16) yes
S1 C1 1.815(6) yes
S1 C6 1.804(5) yes
S2 C2 1.829(6) yes
S2 C3 1.830(5) yes
S2 C6 1.849(5) yes
S3 C4 1.812(6) yes
S3 C5 1.811(6) yes
C1 C2 1.529(7) yes
C3 C4 1.510(8) yes
C5 C6 1.519(8) yes
