#------------------------------------------------------------------------------
#$Date: 2023-12-22 16:07:40 +0100 (Fri 22 de Dec de 2023) $
#$Revision: 288505 $
#$URL: svn://www.crystallography.net/cod/cif/7/11/19/7111970.cif $
#------------------------------------------------------------------------------
#
# This file is available in the Crystallography Open Database (COD),
# http://www.crystallography.net/
#
# All data on this site have been placed in the public domain by the
# contributors.
#
data_7111970
loop_
_publ_author_name
'Osama Shekhah'
'Raja Swaidan'
'Youssef Belmabkhout'
'Marike du Plessis'
'Tia Jacobs'
'Leonard J. Barbour'
'Ingo Pinnau'
'Mohamed Eddaoudi'
_publ_section_title
;
 The liquid phase epitaxy approach for the successful construction of
 ultra-thin and defect-free ZIF-8 membranes: pure and mixed gas transport
 study
;
_journal_name_full               Chem.Commun.
_journal_page_first              2089
_journal_paper_doi               10.1039/c3cc47495j
_journal_volume                  50
_journal_year                    2014
_chemical_formula_moiety         'C8 H10 N4 Zn, C2.1 H5.6'
_chemical_formula_sum            'C10.1 H15.6 N4 Zn'
_chemical_formula_weight         258.44
_chemical_name_common            ZIF8_2barProp
_space_group_IT_number           217
_symmetry_cell_setting           cubic
_symmetry_space_group_name_Hall  'I -4 2 3'
_symmetry_space_group_name_H-M   'I -4 3 m'
_atom_sites_solution_hydrogens   geom
_atom_sites_solution_primary     direct
_atom_sites_solution_secondary   difmap
_audit_creation_method           SHELXL-97
_cell_angle_alpha                90.00
_cell_angle_beta                 90.00
_cell_angle_gamma                90.00
_cell_formula_units_Z            12
_cell_length_a                   16.987(3)
_cell_length_b                   16.987(3)
_cell_length_c                   16.987(3)
_cell_measurement_reflns_used    4305
_cell_measurement_temperature    298(2)
_cell_measurement_theta_max      22.41
_cell_measurement_theta_min      2.40
_cell_volume                     4901.7(15)
_computing_cell_refinement       'Bruker SAINT'
_computing_data_collection       'Bruker APEX2'
_computing_data_reduction        'Bruker SAINT'
_computing_molecular_graphics    'X-Seed (Barbour,2001;Atwood & Barbour,2003)'
_computing_structure_refinement  'SHELXL-97 (Sheldrick, 1997)'
_computing_structure_solution    'SHELXS-97 (Sheldrick, 1990)'
_diffrn_ambient_temperature      298(2)
_diffrn_measured_fraction_theta_full 0.998
_diffrn_measured_fraction_theta_max 0.994
_diffrn_measurement_device_type  'Bruker APEX-II CCD'
_diffrn_measurement_method       'φ and ω scans'
_diffrn_radiation_monochromator  graphite
_diffrn_radiation_source         'fine-focus sealed tube'
_diffrn_radiation_type           MoK\a
_diffrn_radiation_wavelength     0.71073
_diffrn_reflns_av_R_equivalents  0.0483
_diffrn_reflns_av_sigmaI/netI    0.0268
_diffrn_reflns_limit_h_max       21
_diffrn_reflns_limit_h_min       -22
_diffrn_reflns_limit_k_max       21
_diffrn_reflns_limit_k_min       -22
_diffrn_reflns_limit_l_max       20
_diffrn_reflns_limit_l_min       -22
_diffrn_reflns_number            15458
_diffrn_reflns_theta_full        27.00
_diffrn_reflns_theta_max         28.19
_diffrn_reflns_theta_min         1.70
_diffrn_standards_number         0
_exptl_absorpt_coefficient_mu    1.485
_exptl_absorpt_correction_T_max  0.7718
_exptl_absorpt_correction_T_min  0.7596
_exptl_absorpt_correction_type   multi-scan
_exptl_absorpt_process_details   'Symmetry-related measurements'
_exptl_crystal_colour            Colourless
_exptl_crystal_density_diffrn    1.051
_exptl_crystal_density_method    'not measured'
_exptl_crystal_description       'Hexagonal Prism'
_exptl_crystal_F_000             1610
_exptl_crystal_size_max          0.20
_exptl_crystal_size_mid          0.19
_exptl_crystal_size_min          0.18
_refine_diff_density_max         0.257
_refine_diff_density_min         -0.210
_refine_diff_density_rms         0.069
_refine_ls_abs_structure_details 'Flack H D (1983), Acta Cryst. A39, 876-881'
_refine_ls_abs_structure_Flack   0.00(2)
_refine_ls_extinction_method     none
_refine_ls_goodness_of_fit_ref   1.087
_refine_ls_hydrogen_treatment    constr
_refine_ls_matrix_type           full
_refine_ls_number_parameters     34
_refine_ls_number_reflns         1135
_refine_ls_number_restraints     0
_refine_ls_restrained_S_all      1.087
_refine_ls_R_factor_all          0.0446
_refine_ls_R_factor_gt           0.0331
_refine_ls_shift/su_max          0.000
_refine_ls_shift/su_mean         0.000
_refine_ls_structure_factor_coef Fsqd
_refine_ls_weighting_details
'calc w=1/[σ²(Fo²)+(0.0496P)²+0.0000P] where P=(Fo²+2Fc²)/3'
_refine_ls_weighting_scheme      calc
_refine_ls_wR_factor_gt          0.0782
_refine_ls_wR_factor_ref         0.0818
_reflns_number_gt                983
_reflns_number_total             1135
_reflns_threshold_expression     >2sigma(I)
_iucr_refine_instructions_details
;
TITL MDPZIF8_2barProp_0m in I-43m
CELL 0.71073 16.9866 16.9866 16.9866 90.000 90.000 90.000
ZERR 12.0000 0.0026 0.0026 0.0026 0.000 0.000 0.000
LATT -2
SYMM Y, -X, -Z
SYMM -X, -Y, Z
SYMM -Y, X, -Z
SYMM -X, Z, -Y
SYMM X, -Y, -Z
SYMM -X, -Z, Y
SYMM -Z, -Y, X
SYMM -X, Y, -Z
SYMM Z, -Y, -X
SYMM Z, X, Y
SYMM Y, Z, X
SYMM -Y, -Z, X
SYMM Z, -X, -Y
SYMM -Y, Z, -X
SYMM -Z, -X, Y
SYMM -Z, X, -Y
SYMM Y, -Z, -X
SYMM -Y, -X, Z
SYMM Y, X, Z
SYMM X, -Z, -Y
SYMM X, Z, Y
SYMM -Z, Y, -X
SYMM Z, Y, X
SFAC C H N ZN
UNIT 121.2 187.2 48 12
MERG 2
FMAP 2
GRID
PLAN 5
TEMP 25
SIZE 0.196 0.189 0.184
OMIT  2 14 16
OMIT  0 15 15
OMIT  4 12 18
OMIT  -7 14 15
OMIT  12 12 14
OMIT  8 10 18
OMIT  -12 13 13
OMIT  6 10 16
OMIT  -8 13 13
BOND $H
CONF
HTAB
L.S. 20
ACTA 54
WGHT    0.049600
FVAR       0.07522
ZN1   4    0.500000    0.000000    0.250000    10.25000    0.04971    0.04971 =
         0.04406    0.00000    0.00000    0.00000
C2    1    0.376692    0.008163    0.376692    10.50000    0.05092    0.03695 =
         0.05092   -0.00259   -0.00022   -0.00259
N1    3    0.409484   -0.031748    0.317702    11.00000    0.05328    0.05006 =
         0.05215   -0.00443    0.00814   -0.00505
C1    1    0.369140   -0.101347    0.314032    11.00000    0.07573    0.05344 =
         0.07132   -0.01890    0.01759   -0.00934
AFIX  43
H1    2    0.378831   -0.141981    0.278642    11.00000   -1.20000
AFIX   0
C3    1    0.405110    0.086010    0.405110    10.50000    0.07837    0.05907 =
         0.07837   -0.01494    0.01949   -0.01494
AFIX 137
H3A   2    0.403038    0.123414    0.362794    10.50000   -1.50000
H3B   2    0.458382    0.081112    0.423332    10.50000   -1.50000
H3C   2    0.372241    0.103722    0.447535    10.50000   -1.50000
HKLF 4
 
REM  MDPZIF8_2barProp_0m in I-43m
REM R1 =  0.0331 for    983 Fo > 4sig(Fo)  and  0.0446 for all   1135 data
REM     34 parameters refined using      0 restraints
 
END  
     
WGHT      0.0496      0.0000 
REM Highest difference peak  0.257,  deepest hole -0.210,  1-sigma level  0.069
Q1    1   0.4726  0.3161  0.3161  10.50000  0.05    0.26
Q2    1   0.4489 -0.0038  0.2893  11.00000  0.05    0.25
Q3    1   0.4601 -0.0261  0.2979  11.00000  0.05    0.25
Q4    1   0.4013 -0.3338  0.3338  10.50000  0.05    0.24
Q5    1   0.4008  0.3325  0.3325  10.50000  0.05    0.24
;
_cod_data_source_file            c3cc47495j.txt
_cod_data_source_block           C:zif8_2barprop.CIF
_cod_depositor_comments
;
The following automatic conversions were performed:

data name '_iucr_refine_instruction_details' was replaced with
'_iucr_refine_instructions_details' as specified in the replacement
file 'data/replacement-values/replacement_tags.lst'.

Automatic conversion script
Id: cif_correct_tags 9268 2022-04-12 08:56:07Z antanas 
;
_cod_original_cell_volume        4901.4(13)
_cod_original_sg_symbol_H-M      I-43m
_cod_original_formula_sum        'C10.10 H15.60 N4 Zn'
_cod_database_code               7111970
loop_
_symmetry_equiv_pos_as_xyz
'x, y, z'
'y, -x, -z'
'-x, -y, z'
'-y, x, -z'
'-x, z, -y'
'x, -y, -z'
'-x, -z, y'
'-z, -y, x'
'-x, y, -z'
'z, -y, -x'
'z, x, y'
'y, z, x'
'-y, -z, x'
'z, -x, -y'
'-y, z, -x'
'-z, -x, y'
'-z, x, -y'
'y, -z, -x'
'-y, -x, z'
'y, x, z'
'x, -z, -y'
'x, z, y'
'-z, y, -x'
'z, y, x'
'x+1/2, y+1/2, z+1/2'
'y+1/2, -x+1/2, -z+1/2'
'-x+1/2, -y+1/2, z+1/2'
'-y+1/2, x+1/2, -z+1/2'
'-x+1/2, z+1/2, -y+1/2'
'x+1/2, -y+1/2, -z+1/2'
'-x+1/2, -z+1/2, y+1/2'
'-z+1/2, -y+1/2, x+1/2'
'-x+1/2, y+1/2, -z+1/2'
'z+1/2, -y+1/2, -x+1/2'
'z+1/2, x+1/2, y+1/2'
'y+1/2, z+1/2, x+1/2'
'-y+1/2, -z+1/2, x+1/2'
'z+1/2, -x+1/2, -y+1/2'
'-y+1/2, z+1/2, -x+1/2'
'-z+1/2, -x+1/2, y+1/2'
'-z+1/2, x+1/2, -y+1/2'
'y+1/2, -z+1/2, -x+1/2'
'-y+1/2, -x+1/2, z+1/2'
'y+1/2, x+1/2, z+1/2'
'x+1/2, -z+1/2, -y+1/2'
'x+1/2, z+1/2, y+1/2'
'-z+1/2, y+1/2, -x+1/2'
'z+1/2, y+1/2, x+1/2'
loop_
_atom_site_label
_atom_site_type_symbol
_atom_site_fract_x
_atom_site_fract_y
_atom_site_fract_z
_atom_site_U_iso_or_equiv
_atom_site_adp_type
_atom_site_occupancy
_atom_site_symmetry_multiplicity
_atom_site_calc_flag
_atom_site_refinement_flags
Zn1 Zn 0.5000 0.0000 0.2500 0.04783(18) Uani 1 4 d S
C2 C 0.37669(11) 0.0082(3) 0.37669(11) 0.0463(8) Uani 1 2 d S
N1 N 0.40948(13) -0.03175(11) 0.31770(12) 0.0518(5) Uani 1 1 d .
C1 C 0.36914(17) -0.10135(16) 0.31403(18) 0.0668(7) Uani 1 1 d .
H1 H 0.3788 -0.1420 0.2786 0.080 Uiso 1 1 calc R
C3 C 0.4051(2) 0.0860(2) 0.4051(2) 0.0719(11) Uani 1 2 d S
H3A H 0.4030 0.1234 0.3628 0.108 Uiso 0.50 1 calc PR
H3B H 0.4584 0.0811 0.4233 0.108 Uiso 0.50 1 calc PR
H3C H 0.3722 0.1037 0.4475 0.108 Uiso 0.50 1 calc PR
loop_
_atom_site_aniso_label
_atom_site_aniso_U_11
_atom_site_aniso_U_22
_atom_site_aniso_U_33
_atom_site_aniso_U_23
_atom_site_aniso_U_13
_atom_site_aniso_U_12
Zn1 0.0497(2) 0.0497(2) 0.0441(3) 0.000 0.000 0.000
C2 0.0509(9) 0.037(2) 0.0509(9) -0.0026(12) -0.0002(11) -0.0026(12)
N1 0.0533(11) 0.0501(11) 0.0522(11) -0.0044(8) 0.0081(9) -0.0051(9)
C1 0.0757(18) 0.0534(15) 0.0713(18) -0.0189(13) 0.0176(14) -0.0093(13)
C3 0.0784(17) 0.059(2) 0.0784(17) -0.0149(16) 0.019(2) -0.0149(16)
loop_
_atom_type_symbol
_atom_type_description
_atom_type_scat_dispersion_real
_atom_type_scat_dispersion_imag
_atom_type_scat_source
C C 0.0033 0.0016 'International Tables Vol C Tables 4.2.6.8 and 6.1.1.4'
H H 0.0000 0.0000 'International Tables Vol C Tables 4.2.6.8 and 6.1.1.4'
N N 0.0061 0.0033 'International Tables Vol C Tables 4.2.6.8 and 6.1.1.4'
Zn Zn 0.2839 1.4301 'International Tables Vol C Tables 4.2.6.8 and 6.1.1.4'
loop_
_geom_angle_atom_site_label_1
_geom_angle_atom_site_label_2
_geom_angle_atom_site_label_3
_geom_angle
_geom_angle_site_symmetry_1
_geom_angle_site_symmetry_3
N1 Zn1 N1 109.42(6) 28_545 .
N1 Zn1 N1 109.42(6) 28_545 3_655
N1 Zn1 N1 109.57(13) . 3_655
N1 Zn1 N1 109.57(13) 28_545 26
N1 Zn1 N1 109.42(6) . 26
N1 Zn1 N1 109.42(6) 3_655 26
N1 C2 N1 111.7(4) 24 .
N1 C2 C3 124.10(19) 24 .
N1 C2 C3 124.10(19) . .
C2 N1 C1 105.3(3) . .
C2 N1 Zn1 128.2(2) . .
C1 N1 Zn1 126.42(17) . .
C1 C1 N1 108.78(15) 24 .
C1 C1 H1 125.6 24 .
N1 C1 H1 125.6 . .
C2 C3 H3A 109.5 . .
C2 C3 H3B 109.5 . .
H3A C3 H3B 109.5 . .
C2 C3 H3C 109.5 . .
H3A C3 H3C 109.5 . .
H3B C3 H3C 109.5 . .
loop_
_geom_bond_atom_site_label_1
_geom_bond_atom_site_label_2
_geom_bond_distance
_geom_bond_site_symmetry_2
Zn1 N1 1.9944(19) 28_545
Zn1 N1 1.9944(19) .
Zn1 N1 1.9944(19) 3_655
Zn1 N1 1.9944(19) 26
C2 N1 1.332(3) 24
C2 N1 1.332(3) .
C2 C3 1.488(6) .
N1 C1 1.368(3) .
C1 C1 1.324(6) 24
C1 H1 0.9300 .
C3 H3A 0.9600 .
C3 H3B 0.9600 .
C3 H3C 0.9600 .
loop_
_geom_torsion_atom_site_label_1
_geom_torsion_atom_site_label_2
_geom_torsion_atom_site_label_3
_geom_torsion_atom_site_label_4
_geom_torsion
_geom_torsion_site_symmetry_1
_geom_torsion_site_symmetry_4
N1 C2 N1 C1 -0.8(4) 24 .
C3 C2 N1 C1 176.3(4) . .
N1 C2 N1 Zn1 -179.21(10) 24 .
C3 C2 N1 Zn1 -2.1(5) . .
N1 Zn1 N1 C2 171.9(3) 28_545 .
N1 Zn1 N1 C2 52.0(3) 3_655 .
N1 Zn1 N1 C2 -68.0(2) 26 .
N1 Zn1 N1 C1 -6.2(3) 28_545 .
N1 Zn1 N1 C1 -126.2(3) 3_655 .
N1 Zn1 N1 C1 113.9(3) 26 .
C2 N1 C1 C1 0.5(3) . 24
Zn1 N1 C1 C1 178.93(14) . 24
