#------------------------------------------------------------------------------
#$Date: 2016-03-26 17:17:45 +0100 (Sat 26 de Mar de 2016) $
#$Revision: 180421 $
#$URL: svn://www.crystallography.net/cod/cif/7/20/90/7209028.cif $
#------------------------------------------------------------------------------
#
# This file is available in the Crystallography Open Database (COD),
# http://www.crystallography.net/
#
# All data on this site have been placed in the public domain by the
# contributors.
#
data_7209028
loop_
_publ_author_name
'Argyle, Victoria J.'
'Woods, Laura M.'
'Roxburgh, Marina'
'Hanton, Lyall R.'
_publ_section_title
;
 Triflate anion and ligand influences in silver(i) coordination polymers
 of four isomeric dipyridyl ketone oximes
;
_journal_issue                   1
_journal_name_full               CrystEngComm
_journal_page_first              120
_journal_paper_doi               10.1039/c2ce26449h
_journal_volume                  15
_journal_year                    2013
_chemical_formula_sum            'C11 H8 N2 O'
_chemical_formula_weight         184.19
_chemical_name_systematic
;
?
;
_space_group_IT_number           15
_symmetry_cell_setting           monoclinic
_symmetry_space_group_name_Hall  '-C 2yc'
_symmetry_space_group_name_H-M   'C 1 2/c 1'
_atom_sites_solution_hydrogens   geom
_atom_sites_solution_primary     direct
_atom_sites_solution_secondary   difmap
_audit_creation_method           SHELXL-97
_cell_angle_alpha                90.000
_cell_angle_beta                 102.254(5)
_cell_angle_gamma                90.000
_cell_formula_units_Z            8
_cell_length_a                   21.6741(18)
_cell_length_b                   3.7762(3)
_cell_length_c                   21.1734(18)
_cell_measurement_reflns_used    6359
_cell_measurement_temperature    90(2)
_cell_measurement_theta_max      30.84
_cell_measurement_theta_min      2.44
_cell_volume                     1693.5(2)
_computing_cell_refinement       'Bruker SMART'
_computing_data_collection       'Bruker SMART'
_computing_data_reduction        'Bruker SAINT'
_computing_molecular_graphics    'Bruker SHELXTL'
_computing_publication_material  'Bruker SHELXTL'
_computing_structure_refinement  'SHELXL-97 (Sheldrick, 1997)'
_computing_structure_solution    'SIR97 (Altomare et al., 1999)'
_diffrn_ambient_temperature      90(2)
_diffrn_measured_fraction_theta_full 0.998
_diffrn_measured_fraction_theta_max 0.998
_diffrn_measurement_device_type  'Bruker APEXII CCD area detector'
_diffrn_measurement_method       'phi and omega scans'
_diffrn_radiation_monochromator  graphite
_diffrn_radiation_source         'fine-focus sealed tube'
_diffrn_radiation_type           MoK\a
_diffrn_radiation_wavelength     0.71069
_diffrn_reflns_av_R_equivalents  0.0289
_diffrn_reflns_av_sigmaI/netI    0.0166
_diffrn_reflns_limit_h_max       26
_diffrn_reflns_limit_h_min       -25
_diffrn_reflns_limit_k_max       4
_diffrn_reflns_limit_k_min       -4
_diffrn_reflns_limit_l_max       25
_diffrn_reflns_limit_l_min       -25
_diffrn_reflns_number            12280
_diffrn_reflns_theta_full        25.49
_diffrn_reflns_theta_max         25.49
_diffrn_reflns_theta_min         2.44
_diffrn_standards_number         0
_exptl_absorpt_coefficient_mu    0.096
_exptl_absorpt_correction_T_max  0.9921
_exptl_absorpt_correction_T_min  0.8940
_exptl_absorpt_correction_type   multi-scan
_exptl_absorpt_process_details   'SADABS (Bruker, 2004)'
_exptl_crystal_colour            colourless
_exptl_crystal_density_diffrn    1.445
_exptl_crystal_density_method    'not measured'
_exptl_crystal_description       Rod
_exptl_crystal_F_000             768
_exptl_crystal_size_max          0.54
_exptl_crystal_size_mid          0.24
_exptl_crystal_size_min          0.08
_refine_diff_density_max         0.217
_refine_diff_density_min         -0.229
_refine_diff_density_rms         0.044
_refine_ls_extinction_method     none
_refine_ls_goodness_of_fit_ref   1.079
_refine_ls_hydrogen_treatment    constr
_refine_ls_matrix_type           full
_refine_ls_number_parameters     127
_refine_ls_number_reflns         1587
_refine_ls_number_restraints     0
_refine_ls_restrained_S_all      1.079
_refine_ls_R_factor_all          0.0377
_refine_ls_R_factor_gt           0.0349
_refine_ls_shift/su_max          0.000
_refine_ls_shift/su_mean         0.000
_refine_ls_structure_factor_coef Fsqd
_refine_ls_weighting_details
'calc w=1/[σ²(Fo²)+(0.0502P)²+1.2907P] where P=(Fo²+2Fc²)/3'
_refine_ls_weighting_scheme      calc
_refine_ls_wR_factor_gt          0.0920
_refine_ls_wR_factor_ref         0.0951
_reflns_number_gt                1458
_reflns_number_total             1587
_reflns_threshold_expression     >2sigma(I)
_cod_data_source_file            c2ce26449h.txt
_cod_data_source_block           va58_Ligand2
_cod_depositor_comments
;
The following automatic conversions were performed:

'_symmetry_cell_setting' value 'Monoclinic' changed to 'monoclinic'
according to /home/saulius/struct/CIF-dictionaries/cif_core.dic
dictionary named 'cif_core.dic' version 2.4.2 from 2011-04-26.

Automatic conversion script
Id: cif_fix_values 1891 2012-01-12 08:04:46Z andrius 
;
_cod_original_sg_symbol_H-M      C2/c
_cod_database_code               7209028
loop_
_symmetry_equiv_pos_as_xyz
'x, y, z'
'-x, y, -z+1/2'
'x+1/2, y+1/2, z'
'-x+1/2, y+1/2, -z+1/2'
'-x, -y, -z'
'x, -y, z-1/2'
'-x+1/2, -y+1/2, -z'
'x+1/2, -y+1/2, z-1/2'
loop_
_atom_site_label
_atom_site_type_symbol
_atom_site_fract_x
_atom_site_fract_y
_atom_site_fract_z
_atom_site_U_iso_or_equiv
_atom_site_adp_type
_atom_site_occupancy
_atom_site_symmetry_multiplicity
_atom_site_calc_flag
_atom_site_refinement_flags
C1 C 0.06071(5) 0.4337(3) -0.04532(6) 0.0174(3) Uani 1 1 d .
H1 H 0.0224 0.5538 -0.0513 0.021 Uiso 1 1 calc R
C2 C 0.08591(6) 0.3653(3) -0.09937(6) 0.0183(3) Uani 1 1 d .
H2 H 0.0649 0.4378 -0.1403 0.022 Uiso 1 1 calc R
C3 C 0.14283(6) 0.1873(3) -0.09082(6) 0.0187(3) Uani 1 1 d .
H3 H 0.1609 0.1379 -0.1260 0.022 Uiso 1 1 calc R
C4 C 0.17255(5) 0.0837(3) -0.02911(6) 0.0162(3) Uani 1 1 d .
H4 H 0.2110 -0.0352 -0.0220 0.019 Uiso 1 1 calc R
C5 C 0.14363(5) 0.1613(3) 0.02196(5) 0.0147(3) Uani 1 1 d .
C6 C 0.17534(5) 0.0511(3) 0.08915(5) 0.0152(3) Uani 1 1 d .
C7 C 0.14347(5) 0.1167(3) 0.14461(5) 0.0146(3) Uani 1 1 d .
C8 C 0.08071(5) 0.0293(3) 0.14257(5) 0.0166(3) Uani 1 1 d .
H8 H 0.0553 -0.0603 0.1050 0.020 Uiso 1 1 calc R
C9 C 0.05693(6) 0.0790(3) 0.19793(6) 0.0191(3) Uani 1 1 d .
H9 H 0.0151 0.0175 0.1963 0.023 Uiso 1 1 calc R
C10 C 0.15096(6) 0.2924(3) 0.25443(6) 0.0190(3) Uani 1 1 d .
H10 H 0.1753 0.3837 0.2925 0.023 Uiso 1 1 calc R
C11 C 0.17929(5) 0.2496(3) 0.20208(5) 0.0169(3) Uani 1 1 d .
H11 H 0.2215 0.3086 0.2053 0.020 Uiso 1 1 calc R
N1 N 0.08844(4) 0.3364(3) 0.01481(5) 0.0159(2) Uani 1 1 d .
N2 N 0.09062(5) 0.2102(3) 0.25354(5) 0.0203(3) Uani 1 1 d .
O1 O 0.22728(4) -0.0886(2) 0.09961(4) 0.0218(2) Uani 1 1 d .
loop_
_atom_site_aniso_label
_atom_site_aniso_U_11
_atom_site_aniso_U_22
_atom_site_aniso_U_33
_atom_site_aniso_U_23
_atom_site_aniso_U_13
_atom_site_aniso_U_12
C1 0.0155(6) 0.0163(6) 0.0191(6) 0.0019(5) 0.0007(4) -0.0007(4)
C2 0.0211(6) 0.0179(6) 0.0145(6) 0.0023(5) 0.0005(5) -0.0052(5)
C3 0.0241(6) 0.0174(6) 0.0164(6) -0.0027(5) 0.0081(5) -0.0056(5)
C4 0.0152(6) 0.0148(6) 0.0191(6) -0.0013(5) 0.0044(4) -0.0011(4)
C5 0.0154(6) 0.0124(5) 0.0160(6) -0.0007(4) 0.0027(4) -0.0028(4)
C6 0.0141(6) 0.0135(6) 0.0176(6) -0.0003(4) 0.0024(4) -0.0016(4)
C7 0.0170(6) 0.0120(5) 0.0142(6) 0.0023(4) 0.0018(4) 0.0021(4)
C8 0.0177(6) 0.0169(6) 0.0140(6) 0.0012(4) 0.0008(4) -0.0001(5)
C9 0.0173(6) 0.0223(6) 0.0181(6) 0.0024(5) 0.0046(5) -0.0005(5)
C10 0.0236(6) 0.0178(6) 0.0137(6) -0.0011(5) -0.0004(5) -0.0005(5)
C11 0.0163(6) 0.0157(6) 0.0178(6) 0.0015(4) 0.0012(5) 0.0000(5)
N1 0.0150(5) 0.0159(5) 0.0163(5) 0.0010(4) 0.0024(4) -0.0008(4)
N2 0.0229(5) 0.0217(6) 0.0165(5) 0.0006(4) 0.0050(4) 0.0003(4)
O1 0.0175(5) 0.0278(5) 0.0199(5) 0.0020(4) 0.0037(3) 0.0050(4)
loop_
_atom_type_symbol
_atom_type_description
_atom_type_scat_dispersion_real
_atom_type_scat_dispersion_imag
_atom_type_scat_source
C C 0.0033 0.0016 'International Tables Vol C Tables 4.2.6.8 and 6.1.1.4'
H H 0.0000 0.0000 'International Tables Vol C Tables 4.2.6.8 and 6.1.1.4'
N N 0.0061 0.0033 'International Tables Vol C Tables 4.2.6.8 and 6.1.1.4'
O O 0.0106 0.0060 'International Tables Vol C Tables 4.2.6.8 and 6.1.1.4'
loop_
_geom_angle_atom_site_label_1
_geom_angle_atom_site_label_2
_geom_angle_atom_site_label_3
_geom_angle
N1 C1 C2 123.73(11)
N1 C1 H1 118.1
C2 C1 H1 118.1
C3 C2 C1 118.50(11)
C3 C2 H2 120.8
C1 C2 H2 120.8
C2 C3 C4 118.97(11)
C2 C3 H3 120.5
C4 C3 H3 120.5
C3 C4 C5 118.53(11)
C3 C4 H4 120.7
C5 C4 H4 120.7
N1 C5 C4 123.50(10)
N1 C5 C6 117.37(10)
C4 C5 C6 119.12(10)
O1 C6 C5 120.73(10)
O1 C6 C7 119.25(10)
C5 C6 C7 120.01(10)
C11 C7 C8 118.24(11)
C11 C7 C6 118.62(10)
C8 C7 C6 123.00(10)
C9 C8 C7 118.49(11)
C9 C8 H8 120.8
C7 C8 H8 120.8
N2 C9 C8 124.04(11)
N2 C9 H9 118.0
C8 C9 H9 118.0
N2 C10 C11 123.93(11)
N2 C10 H10 118.0
C11 C10 H10 118.0
C10 C11 C7 118.83(11)
C10 C11 H11 120.6
C7 C11 H11 120.6
C1 N1 C5 116.78(10)
C10 N2 C9 116.46(10)
loop_
_geom_bond_atom_site_label_1
_geom_bond_atom_site_label_2
_geom_bond_distance
C1 N1 1.3388(16)
C1 C2 1.3929(17)
C1 H1 0.9300
C2 C3 1.3827(18)
C2 H2 0.9300
C3 C4 1.3849(17)
C3 H3 0.9300
C4 C5 1.3915(16)
C4 H4 0.9300
C5 N1 1.3467(16)
C5 C6 1.5015(16)
C6 O1 1.2200(14)
C6 C7 1.5038(16)
C7 C11 1.3908(17)
C7 C8 1.3915(17)
C8 C9 1.3898(16)
C8 H8 0.9300
C9 N2 1.3416(16)
C9 H9 0.9300
C10 N2 1.3404(16)
C10 C11 1.3859(17)
C10 H10 0.9300
C11 H11 0.9300
