#------------------------------------------------------------------------------
#$Date: 2016-02-16 02:10:39 +0100 (mar 16 de feb de 2016) $
#$Revision: 176453 $
#$URL: svn://www.crystallography.net/cod/cif/7/20/97/7209741.cif $
#------------------------------------------------------------------------------
#
# This file is available in the Crystallography Open Database (COD),
# http://www.crystallography.net/
#
# All data on this site have been placed in the public domain by the
# contributors.
#
data_7209741
loop_
_publ_author_name
'Liao, Ju-Hsiou'
'Chen, Wan-Ting'
'Tsai, Cherng-Shiaw'
'Wang, Chih-Chieh'
_publ_section_title
;
 Characterization, adsorption properties, metal ion-exchange and
 crystal-to-crystal transformation of Cd3[(Cd4Cl)3(BTT)8(H2O)12]2
 framework, where BTT3− = 1,3,5-benzenetristetrazolate
;
_journal_issue                   17
_journal_name_full               CrystEngComm
_journal_page_first              3377
_journal_paper_doi               10.1039/c3ce27063g
_journal_volume                  15
_journal_year                    2013
_chemical_formula_sum            'C1.5 H0.5 Cl0.19 Co0.31 N2'
_chemical_formula_weight         71.60
_chemical_name_systematic
;
?
;
_space_group_IT_number           221
_symmetry_cell_setting           cubic
_symmetry_space_group_name_Hall  '-P 4 2 3'
_symmetry_space_group_name_H-M   'P m -3 m'
_atom_sites_solution_hydrogens   geom
_atom_sites_solution_primary     direct
_atom_sites_solution_secondary   difmap
_audit_creation_method           SHELXL-97
_cell_angle_alpha                90.00
_cell_angle_beta                 90.00
_cell_angle_gamma                90.00
_cell_formula_units_Z            48
_cell_length_a                   18.5015(3)
_cell_length_b                   18.5015(3)
_cell_length_c                   18.5015(3)
_cell_measurement_reflns_used    903
_cell_measurement_temperature    423(2)
_cell_measurement_theta_max      23.529
_cell_measurement_theta_min      -23.529
_cell_volume                     6333.17(18)
_computing_cell_refinement       'BRUKER SMART'
_computing_data_collection       'BRUKER SMART'
_computing_data_reduction        'BRUKER SAINT'
_computing_molecular_graphics    Ortep-3
_computing_publication_material  'wingx publication routines (Farrugia, 1999)'
_computing_structure_refinement  'SHELXL-97 (Sheldrick, 1997)'
_computing_structure_solution    'SHELXS-97 (Sheldrick, 1990)'
_diffrn_ambient_temperature      423(2)
_diffrn_measured_fraction_theta_full 1.000
_diffrn_measured_fraction_theta_max 1.000
_diffrn_measurement_device_type  'Bruker Smart Apex'
_diffrn_measurement_method       'phi-omega scan'
_diffrn_radiation_monochromator  graphite
_diffrn_radiation_source         'fine-focus sealed tube'
_diffrn_radiation_type           MoK\a
_diffrn_radiation_wavelength     0.71073
_diffrn_reflns_av_R_equivalents  0.0890
_diffrn_reflns_av_sigmaI/netI    0.0190
_diffrn_reflns_limit_h_max       22
_diffrn_reflns_limit_h_min       -21
_diffrn_reflns_limit_k_max       22
_diffrn_reflns_limit_k_min       -22
_diffrn_reflns_limit_l_max       22
_diffrn_reflns_limit_l_min       -22
_diffrn_reflns_number            60559
_diffrn_reflns_theta_full        25.00
_diffrn_reflns_theta_max         25.00
_diffrn_reflns_theta_min         1.10
_diffrn_standards_decay_%        0
_exptl_absorpt_coefficient_mu    1.089
_exptl_absorpt_correction_T_max  0.9355
_exptl_absorpt_correction_T_min  0.9131
_exptl_absorpt_correction_type   empirical
_exptl_absorpt_process_details   SADABS
_exptl_crystal_colour            pink
_exptl_crystal_density_diffrn    0.901
_exptl_crystal_density_method    'not measured'
_exptl_crystal_description       chunky
_exptl_crystal_F_000             1686
_exptl_crystal_size_max          0.09
_exptl_crystal_size_mid          0.08
_exptl_crystal_size_min          0.06
_refine_diff_density_max         1.375
_refine_diff_density_min         -0.562
_refine_diff_density_rms         0.129
_refine_ls_extinction_method     none
_refine_ls_goodness_of_fit_ref   1.221
_refine_ls_hydrogen_treatment    mixed
_refine_ls_matrix_type           full
_refine_ls_number_parameters     57
_refine_ls_number_reflns         1171
_refine_ls_number_restraints     0
_refine_ls_restrained_S_all      1.221
_refine_ls_R_factor_all          0.0942
_refine_ls_R_factor_gt           0.0873
_refine_ls_shift/su_max          0.000
_refine_ls_shift/su_mean         0.000
_refine_ls_structure_factor_coef Fsqd
_refine_ls_weighting_details
'calc w=1/[σ²(Fo²)+(0.1365P)²+15.1308P] where P=(Fo²+2Fc²)/3'
_refine_ls_weighting_scheme      calc
_refine_ls_wR_factor_gt          0.2512
_refine_ls_wR_factor_ref         0.2583
_reflns_number_gt                1105
_reflns_number_total             1171
_reflns_threshold_expression     >2sigma(I)
_cod_data_source_file            c3ce27063g.txt
_cod_data_source_block           2CoHT
_cod_depositor_comments
;
The following automatic conversions were performed:

'_exptl_absorpt_correction_type' value 'Empirical' changed to
'empirical' according to
/home/saulius/struct/CIF-dictionaries/cif_core.dic dictionary named
'cif_core.dic' version 2.4.2 from 2011-04-26.

Automatic conversion script
Id: cif_fix_values 1891 2012-01-12 08:04:46Z andrius 
;
_cod_original_cell_volume        6333.16(18)
_cod_original_formula_sum        'C1.50 H0.50 Cl0.19 Co0.31 N2'
_cod_database_code               7209741
loop_
_symmetry_equiv_pos_as_xyz
'x, y, z'
'-x, -y, z'
'-x, y, -z'
'x, -y, -z'
'z, x, y'
'z, -x, -y'
'-z, -x, y'
'-z, x, -y'
'y, z, x'
'-y, z, -x'
'y, -z, -x'
'-y, -z, x'
'y, x, -z'
'-y, -x, -z'
'y, -x, z'
'-y, x, z'
'x, z, -y'
'-x, z, y'
'-x, -z, -y'
'x, -z, y'
'z, y, -x'
'z, -y, x'
'-z, y, x'
'-z, -y, -x'
'-x, -y, -z'
'x, y, -z'
'x, -y, z'
'-x, y, z'
'-z, -x, -y'
'-z, x, y'
'z, x, -y'
'z, -x, y'
'-y, -z, -x'
'y, -z, x'
'-y, z, x'
'y, z, -x'
'-y, -x, z'
'y, x, z'
'-y, x, -z'
'y, -x, -z'
'-x, -z, y'
'x, -z, -y'
'x, z, y'
'-x, z, -y'
'-z, -y, x'
'-z, y, -x'
'z, -y, -x'
'z, y, x'
loop_
_atom_site_label
_atom_site_type_symbol
_atom_site_fract_x
_atom_site_fract_y
_atom_site_fract_z
_atom_site_U_iso_or_equiv
_atom_site_adp_type
_atom_site_occupancy
_atom_site_symmetry_multiplicity
_atom_site_calc_flag
_atom_site_refinement_flags
Co1 Co 0.36674(8) 0.5000 0.0000 0.0403(6) Uani 1 4 d S
Co2 Co 0.2681(4) 0.5000 0.1484(5) 0.052(3) Uani 0.13 2 d SP
Cl1 Cl 0.5000 0.5000 0.0000 0.0469(13) Uani 1 16 d S
Cl2 Cl 0.2403(7) 0.5000 0.0000 0.070(4) Uani 0.25 4 d SP
Cl3 Cl 0.2876(10) 0.5000 0.2876(10) 0.141(9) Uani 0.25 4 d SP
N1 N 0.3713(2) 0.4215(2) 0.0750(2) 0.0469(11) Uani 1 1 d .
N2 N 0.3258(3) 0.4103(2) 0.1292(2) 0.0525(13) Uani 1 1 d .
C1 C 0.3507(3) 0.3507(3) 0.1618(4) 0.0491(19) Uani 1 2 d S
C2 C 0.3169(3) 0.3169(3) 0.2257(4) 0.056(2) Uani 1 2 d S
C3 C 0.2575(3) 0.3477(5) 0.2575(3) 0.059(2) Uani 1 2 d S
H3 H 0.2384 0.3901 0.2384 0.071 Uiso 1 2 calc SR
loop_
_atom_site_aniso_label
_atom_site_aniso_U_11
_atom_site_aniso_U_22
_atom_site_aniso_U_33
_atom_site_aniso_U_23
_atom_site_aniso_U_13
_atom_site_aniso_U_12
Co1 0.0567(10) 0.0375(8) 0.0266(8) 0.000 0.000 0.000
Co2 0.050(5) 0.008(3) 0.098(7) 0.000 0.057(5) 0.000
Cl1 0.0465(18) 0.0465(18) 0.048(3) 0.000 0.000 0.000
Cl2 0.058(7) 0.055(7) 0.096(10) 0.000 0.000 0.000
Cl3 0.156(14) 0.109(16) 0.156(14) 0.000 -0.039(18) 0.000
N1 0.057(3) 0.049(2) 0.035(2) 0.0000(19) 0.000(2) 0.0058(19)
N2 0.064(3) 0.051(3) 0.042(3) 0.009(2) 0.018(2) 0.012(2)
C1 0.053(3) 0.053(3) 0.040(4) 0.007(3) 0.007(3) 0.014(4)
C2 0.059(3) 0.059(3) 0.048(5) 0.018(3) 0.018(3) 0.017(4)
C3 0.056(3) 0.064(5) 0.056(3) 0.020(3) 0.012(4) 0.020(3)
loop_
_atom_type_symbol
_atom_type_description
_atom_type_scat_dispersion_real
_atom_type_scat_dispersion_imag
_atom_type_scat_source
C C 0.0033 0.0016 'International Tables Vol C Tables 4.2.6.8 and 6.1.1.4'
H H 0.0000 0.0000 'International Tables Vol C Tables 4.2.6.8 and 6.1.1.4'
N N 0.0061 0.0033 'International Tables Vol C Tables 4.2.6.8 and 6.1.1.4'
Cl Cl 0.1484 0.1585 'International Tables Vol C Tables 4.2.6.8 and 6.1.1.4'
Co Co 0.3494 0.9721 'International Tables Vol C Tables 4.2.6.8 and 6.1.1.4'
loop_
_geom_angle_atom_site_label_1
_geom_angle_atom_site_label_2
_geom_angle_atom_site_label_3
_geom_angle
_geom_angle_site_symmetry_1
_geom_angle_site_symmetry_3
N1 Co1 N1 175.2(3) 27_565 26
N1 Co1 N1 92.6(2) 27_565 .
N1 Co1 N1 87.2(2) 26 .
N1 Co1 N1 87.2(2) 27_565 4_565
N1 Co1 N1 92.6(2) 26 4_565
N1 Co1 N1 175.2(3) . 4_565
N1 Co1 Cl2 92.38(14) 27_565 .
N1 Co1 Cl2 92.38(14) 26 .
N1 Co1 Cl2 92.38(14) . .
N1 Co1 Cl2 92.38(14) 4_565 .
N1 Co1 Cl1 87.62(14) 27_565 .
N1 Co1 Cl1 87.62(14) 26 .
N1 Co1 Cl1 87.62(14) . .
N1 Co1 Cl1 87.62(14) 4_565 .
Cl2 Co1 Cl1 180.0 . .
N2 Co2 N2 111.8(4) . 27_565
N2 Co2 Cl3 95.8(4) . .
N2 Co2 Cl3 95.8(4) 27_565 .
N2 Co2 Cl2 85.6(3) . .
N2 Co2 Cl2 85.6(3) 27_565 .
Cl3 Co2 Cl2 177.4(5) . .
Co1 Cl1 Co1 90.0 37_665 .
Co1 Cl1 Co1 180.0 37_665 13
Co1 Cl1 Co1 90.0 . 13
Co1 Cl1 Co1 90.0 37_665 25_665
Co1 Cl1 Co1 180.0 . 25_665
Co1 Cl1 Co1 90.0 13 25_665
Co1 Cl2 Co2 79.4(3) . .
Co2 Cl3 Co2 74.1(7) 22_565 .
N1 N1 N2 109.8(3) 38 .
N1 N1 Co1 122.72(12) 38 .
N2 N1 Co1 127.5(3) . .
N1 N2 C1 104.6(4) . .
N1 N2 Co2 110.0(4) . .
C1 N2 Co2 141.8(5) . .
N2 C1 N2 111.3(7) . 38
N2 C1 C2 124.3(3) . .
N2 C1 C2 124.3(3) 38 .
C3 C2 C3 118.9(8) . 9
C3 C2 C1 120.5(4) . .
C3 C2 C1 120.5(4) 9 .
C2 C3 C2 121.0(8) 5 .
loop_
_geom_bond_atom_site_label_1
_geom_bond_atom_site_label_2
_geom_bond_distance
_geom_bond_site_symmetry_2
Co1 N1 2.011(4) 27_565
Co1 N1 2.011(4) 26
Co1 N1 2.011(4) .
Co1 N1 2.011(4) 4_565
Co1 Cl2 2.339(14) .
Co1 Cl1 2.4655(15) .
Co2 N2 2.005(6) .
Co2 N2 2.005(6) 27_565
Co2 Cl3 2.60(2) .
Co2 Cl2 2.793(11) .
Cl1 Co1 2.4655(15) 37_665
Cl1 Co1 2.4655(15) 13
Cl1 Co1 2.4655(15) 25_665
Cl3 Co2 2.60(2) 22_565
N1 N1 1.313(8) 38
N1 N2 1.325(6) .
N2 C1 1.339(6) .
C1 N2 1.339(6) 38
C1 C2 1.476(11) .
C2 C3 1.371(5) .
C2 C3 1.371(5) 9
C3 C2 1.371(5) 5
