#------------------------------------------------------------------------------
#$Date: 2016-02-14 05:40:26 +0100 (dom 14 de feb de 2016) $
#$Revision: 176432 $
#$URL: svn://www.crystallography.net/cod/cif/7/21/20/7212087.cif $
#------------------------------------------------------------------------------
#
# This file is available in the Crystallography Open Database (COD),
# http://www.crystallography.net/
#
# All data on this site have been placed in the public domain by the
# contributors.
#
data_7212087
loop_
_publ_author_name
'Hursthouse, Michael B.'
'Montis, Riccardo'
'Tizzard, Graham J.'
_publ_section_title
;
 Intriguing relationships and associations in the crystal structures of a
 family of substituted aspirin molecules
;
_journal_issue                   3
_journal_name_full               CrystEngComm
_journal_page_first              953
_journal_paper_doi               10.1039/b919538f
_journal_volume                  12
_journal_year                    2010
_chemical_formula_moiety         'C10 H10 O4'
_chemical_formula_sum            'C10 H10 O4'
_chemical_formula_weight         194.18
_chemical_melting_point          135
_chemical_name_common            '2-acetyloxy-4-methylbenzoic acid'
_chemical_name_systematic        '2-acetyloxy-4-methylbenzoic acid'
_space_group_IT_number           14
_symmetry_cell_setting           monoclinic
_symmetry_space_group_name_Hall  '-P 2yn'
_symmetry_space_group_name_H-M   'P 1 21/n 1'
_atom_sites_solution_hydrogens   geom
_atom_sites_solution_primary     direct
_atom_sites_solution_secondary   difmap
_audit_creation_method           SHELXL-97
_cell_angle_alpha                90.00
_cell_angle_beta                 93.632(5)
_cell_angle_gamma                90.00
_cell_formula_units_Z            4
_cell_length_a                   4.6363(3)
_cell_length_b                   10.3293(9)
_cell_length_c                   19.5855(16)
_cell_measurement_reflns_used    10270
_cell_measurement_temperature    120(2)
_cell_measurement_theta_max      27.48
_cell_measurement_theta_min      2.91
_cell_volume                     936.06(13)
_computing_cell_refinement
'DENZO (Otwinowski & Minor, 1997) & COLLECT (Hooft, R.W.W., 1998)'
_computing_data_collection       'COLLECT (Hooft, R.W.W., 1998)'
_computing_data_reduction
'DENZO (Otwinowski & Minor, 1997) & COLLECT (Hooft, R.W.W., 1998)'
_computing_structure_refinement  'SHELXL-97 (Sheldrick, 1997)'
_diffrn_ambient_temperature      120(2)
_diffrn_detector_area_resol_mean 9.091
_diffrn_measured_fraction_theta_full 0.995
_diffrn_measured_fraction_theta_max 0.995
_diffrn_measurement_device_type
'Bruker-Nonius 95mm CCD camera on κ-goniostat'
_diffrn_measurement_method       'φ & ω scans'
_diffrn_radiation_monochromator  graphite
_diffrn_radiation_source         'Bruker-Nonius FR591 rotating anode'
_diffrn_radiation_type           MoK\a
_diffrn_radiation_wavelength     0.71073
_diffrn_reflns_av_R_equivalents  0.1204
_diffrn_reflns_av_sigmaI/netI    0.0912
_diffrn_reflns_limit_h_max       6
_diffrn_reflns_limit_h_min       -5
_diffrn_reflns_limit_k_max       13
_diffrn_reflns_limit_k_min       -13
_diffrn_reflns_limit_l_max       25
_diffrn_reflns_limit_l_min       -24
_diffrn_reflns_number            10687
_diffrn_reflns_theta_full        27.47
_diffrn_reflns_theta_max         27.47
_diffrn_reflns_theta_min         3.70
_exptl_absorpt_coefficient_mu    0.107
_exptl_absorpt_correction_T_max  0.9851
_exptl_absorpt_correction_T_min  0.9685
_exptl_absorpt_correction_type   multi-scan
_exptl_absorpt_process_details   'SADABS V2.10 (Sheldrick, G.M., 2003)'
_exptl_crystal_colour            Colourless
_exptl_crystal_density_diffrn    1.378
_exptl_crystal_density_method    'not measured'
_exptl_crystal_description       Prism
_exptl_crystal_F_000             408
_exptl_crystal_size_max          0.30
_exptl_crystal_size_mid          0.14
_exptl_crystal_size_min          0.14
_refine_diff_density_max         0.269
_refine_diff_density_min         -0.303
_refine_diff_density_rms         0.066
_refine_ls_extinction_method     none
_refine_ls_goodness_of_fit_ref   1.055
_refine_ls_hydrogen_treatment    constr
_refine_ls_matrix_type           full
_refine_ls_number_parameters     130
_refine_ls_number_reflns         2133
_refine_ls_number_restraints     0
_refine_ls_restrained_S_all      1.055
_refine_ls_R_factor_all          0.1242
_refine_ls_R_factor_gt           0.0660
_refine_ls_shift/su_max          0.000
_refine_ls_shift/su_mean         0.000
_refine_ls_structure_factor_coef Fsqd
_refine_ls_weighting_details
'calc w=1/[σ²(Fo²)+(0.0671P)²+0.3109P] where P=(Fo²+2Fc²)/3'
_refine_ls_weighting_scheme      calc
_refine_ls_wR_factor_gt          0.1464
_refine_ls_wR_factor_ref         0.1709
_reflns_number_gt                1257
_reflns_number_total             2133
_reflns_threshold_expression     >2sigma(I)
_cod_data_source_file            b919538f.txt
_cod_data_source_block           shelxl1
_cod_original_sg_symbol_Hall     -P2yn
_cod_original_sg_symbol_H-M      P2(1)/n
_cod_database_code               7212087
loop_
_symmetry_equiv_pos_as_xyz
'x, y, z'
'-x+1/2, y+1/2, -z+1/2'
'-x, -y, -z'
'x-1/2, -y-1/2, z-1/2'
loop_
_atom_site_label
_atom_site_type_symbol
_atom_site_fract_x
_atom_site_fract_y
_atom_site_fract_z
_atom_site_U_iso_or_equiv
_atom_site_adp_type
_atom_site_occupancy
_atom_site_symmetry_multiplicity
_atom_site_calc_flag
_atom_site_refinement_flags
C1 C 0.6239(5) 0.9334(2) 0.84940(13) 0.0311(6) Uani 1 1 d .
C2 C 0.4038(5) 0.8426(3) 0.84051(13) 0.0327(6) Uani 1 1 d .
C3 C 0.2850(6) 0.8091(3) 0.77632(15) 0.0410(7) Uani 1 1 d .
H3 H 0.1378 0.7451 0.7720 0.049 Uiso 1 1 calc R
C4 C 0.3799(6) 0.8686(3) 0.71806(15) 0.0442(8) Uani 1 1 d .
C5 C 0.5912(6) 0.9629(3) 0.72632(14) 0.0449(8) Uani 1 1 d .
H5 H 0.6541 1.0066 0.6873 0.054 Uiso 1 1 calc R
C6 C 0.7129(6) 0.9947(3) 0.79072(14) 0.0390(7) Uani 1 1 d .
H6 H 0.8590 1.0592 0.7950 0.047 Uiso 1 1 calc R
C7 C 0.7723(5) 0.9654(2) 0.91652(13) 0.0313(6) Uani 1 1 d .
C8 C 0.3864(6) 0.6839(2) 0.92732(15) 0.0359(6) Uani 1 1 d .
C9 C 0.2367(6) 0.6550(3) 0.99097(15) 0.0424(7) Uani 1 1 d .
H9A H 0.3056 0.5719 1.0099 0.064 Uiso 1 1 calc R
H9B H 0.0277 0.6504 0.9801 0.064 Uiso 1 1 calc R
H9C H 0.2788 0.7237 1.0247 0.064 Uiso 1 1 calc R
C10 C 0.2457(8) 0.8315(4) 0.64851(15) 0.0603(10) Uani 1 1 d .
H10A H 0.3690 0.8620 0.6130 0.090 Uiso 1 1 calc R
H10B H 0.0542 0.8714 0.6417 0.090 Uiso 1 1 calc R
H10C H 0.2269 0.7372 0.6457 0.090 Uiso 1 1 calc R
O1 O 0.9530(4) 1.05832(18) 0.91760(10) 0.0411(5) Uani 1 1 d .
H1 H 1.0488 1.0592 0.9555 0.062 Uiso 1 1 calc R
O2 O 0.7204(4) 0.90000(17) 0.96920(9) 0.0361(5) Uani 1 1 d .
O3 O 0.2703(4) 0.79215(17) 0.89704(9) 0.0353(5) Uani 1 1 d .
O4 O 0.5805(4) 0.62434(18) 0.90396(10) 0.0450(6) Uani 1 1 d .
loop_
_atom_site_aniso_label
_atom_site_aniso_U_11
_atom_site_aniso_U_22
_atom_site_aniso_U_33
_atom_site_aniso_U_23
_atom_site_aniso_U_13
_atom_site_aniso_U_12
C1 0.0296(13) 0.0292(13) 0.0349(15) -0.0002(11) 0.0054(10) 0.0066(11)
C2 0.0320(13) 0.0292(14) 0.0369(15) 0.0012(11) 0.0030(11) 0.0091(11)
C3 0.0379(16) 0.0343(16) 0.0496(18) -0.0053(13) -0.0053(13) 0.0114(12)
C4 0.0440(17) 0.0460(18) 0.0422(17) -0.0049(14) -0.0012(13) 0.0237(14)
C5 0.0444(17) 0.0552(19) 0.0364(17) 0.0090(14) 0.0118(13) 0.0221(15)
C6 0.0352(15) 0.0408(17) 0.0418(18) 0.0018(13) 0.0085(12) 0.0046(12)
C7 0.0307(13) 0.0239(13) 0.0405(16) -0.0003(12) 0.0117(11) 0.0040(11)
C8 0.0343(14) 0.0248(14) 0.0469(17) -0.0032(12) -0.0119(12) 0.0017(12)
C9 0.0349(15) 0.0366(16) 0.0550(19) 0.0111(14) -0.0029(13) -0.0015(12)
C10 0.079(2) 0.062(2) 0.0381(18) -0.0093(16) -0.0093(16) 0.0338(19)
O1 0.0478(12) 0.0315(10) 0.0435(12) 0.0026(9) 0.0007(9) -0.0088(9)
O2 0.0428(11) 0.0331(10) 0.0331(11) -0.0005(8) 0.0087(8) -0.0040(8)
O3 0.0293(10) 0.0296(10) 0.0472(11) 0.0075(8) 0.0024(8) 0.0027(7)
O4 0.0504(13) 0.0335(11) 0.0498(13) -0.0066(9) -0.0063(10) 0.0122(10)
loop_
_atom_type_symbol
_atom_type_description
_atom_type_scat_dispersion_real
_atom_type_scat_dispersion_imag
_atom_type_scat_source
C C 0.0033 0.0016 'International Tables Vol C Tables 4.2.6.8 and 6.1.1.4'
H H 0.0000 0.0000 'International Tables Vol C Tables 4.2.6.8 and 6.1.1.4'
O O 0.0106 0.0060 'International Tables Vol C Tables 4.2.6.8 and 6.1.1.4'
loop_
_geom_angle_atom_site_label_1
_geom_angle_atom_site_label_2
_geom_angle_atom_site_label_3
_geom_angle
C2 C1 C6 117.1(2)
C2 C1 C7 123.9(2)
C6 C1 C7 118.9(2)
C3 C2 C1 122.0(3)
C3 C2 O3 117.0(2)
C1 C2 O3 120.6(2)
C2 C3 C4 120.4(3)
C2 C3 H3 119.8
C4 C3 H3 119.8
C5 C4 C3 118.3(3)
C5 C4 C10 122.2(3)
C3 C4 C10 119.6(3)
C4 C5 C6 121.1(3)
C4 C5 H5 119.4
C6 C5 H5 119.4
C5 C6 C1 121.1(3)
C5 C6 H6 119.5
C1 C6 H6 119.5
O2 C7 O1 123.1(2)
O2 C7 C1 120.1(2)
O1 C7 C1 116.8(2)
O4 C8 O3 122.6(3)
O4 C8 C9 127.7(3)
O3 C8 C9 109.6(2)
C8 C9 H9A 109.5
C8 C9 H9B 109.5
H9A C9 H9B 109.5
C8 C9 H9C 109.5
H9A C9 H9C 109.5
H9B C9 H9C 109.5
C4 C10 H10A 109.5
C4 C10 H10B 109.5
H10A C10 H10B 109.5
C4 C10 H10C 109.5
H10A C10 H10C 109.5
H10B C10 H10C 109.5
C7 O1 H1 109.5
C8 O3 C2 117.8(2)
loop_
_geom_bond_atom_site_label_1
_geom_bond_atom_site_label_2
_geom_bond_distance
C1 C2 1.388(4)
C1 C6 1.397(4)
C1 C7 1.482(4)
C2 C3 1.384(4)
C2 O3 1.403(3)
C3 C4 1.392(4)
C3 H3 0.9500
C4 C5 1.383(4)
C4 C10 1.511(4)
C5 C6 1.388(4)
C5 H5 0.9500
C6 H6 0.9500
C7 O2 1.269(3)
C7 O1 1.273(3)
C8 O4 1.204(3)
C8 O3 1.360(3)
C8 C9 1.495(4)
C9 H9A 0.9800
C9 H9B 0.9800
C9 H9C 0.9800
C10 H10A 0.9800
C10 H10B 0.9800
C10 H10C 0.9800
O1 H1 0.8400
loop_
_geom_hbond_atom_site_label_D
_geom_hbond_atom_site_label_H
_geom_hbond_atom_site_label_A
_geom_hbond_distance_DH
_geom_hbond_distance_HA
_geom_hbond_distance_DA
_geom_hbond_angle_DHA
_geom_hbond_site_symmetry_A
O1 H1 O2 0.84 1.82 2.640(3) 166.2 3_777
