#------------------------------------------------------------------------------
#$Date: 2016-02-14 05:40:26 +0100 (dom 14 de feb de 2016) $
#$Revision: 176432 $
#$URL: svn://www.crystallography.net/cod/cif/7/21/20/7212089.cif $
#------------------------------------------------------------------------------
#
# This file is available in the Crystallography Open Database (COD),
# http://www.crystallography.net/
#
# All data on this site have been placed in the public domain by the
# contributors.
#
data_7212089
loop_
_publ_author_name
'Hursthouse, Michael B.'
'Montis, Riccardo'
'Tizzard, Graham J.'
_publ_section_title
;
 Intriguing relationships and associations in the crystal structures of a
 family of substituted aspirin molecules
;
_journal_issue                   3
_journal_name_full               CrystEngComm
_journal_page_first              953
_journal_paper_doi               10.1039/b919538f
_journal_volume                  12
_journal_year                    2010
_chemical_formula_moiety         'C9 H7 Cl O4'
_chemical_formula_sum            'C9 H7 Cl O4'
_chemical_formula_weight         214.60
_chemical_melting_point          147
_chemical_name_common            '2-acetyloxy-5-chlorobenzoic acid'
_chemical_name_systematic        '2-acetyloxy-5-chlorobenzoic acid'
_space_group_IT_number           14
_symmetry_cell_setting           monoclinic
_symmetry_space_group_name_Hall  '-P 2yn'
_symmetry_space_group_name_H-M   'P 1 21/n 1'
_atom_sites_solution_hydrogens   geom
_atom_sites_solution_primary     direct
_atom_sites_solution_secondary   difmap
_audit_creation_method           SHELXL-97
_cell_angle_alpha                90.00
_cell_angle_beta                 96.219(2)
_cell_angle_gamma                90.00
_cell_formula_units_Z            4
_cell_length_a                   10.1217(4)
_cell_length_b                   4.73590(10)
_cell_length_c                   19.4447(7)
_cell_measurement_reflns_used    7186
_cell_measurement_temperature    120(2)
_cell_measurement_theta_max      27.48
_cell_measurement_theta_min      2.91
_cell_volume                     926.60(5)
_computing_cell_refinement
'DENZO (Otwinowski & Minor, 1997) & COLLECT (Hooft, R.W.W., 1998)'
_computing_data_collection       'COLLECT (Hooft, R.W.W., 1998)'
_computing_data_reduction
'DENZO (Otwinowski & Minor, 1997) & COLLECT (Hooft, R.W.W., 1998)'
_computing_structure_refinement  'SHELXL-97 (Sheldrick, 1997)'
_computing_structure_solution    'SHELXS-97 (Sheldrick, 1990)'
_diffrn_ambient_temperature      120(2)
_diffrn_detector_area_resol_mean 9.091
_diffrn_measured_fraction_theta_full 0.998
_diffrn_measured_fraction_theta_max 0.998
_diffrn_measurement_device_type
'Bruker-Nonius 95mm CCD camera on κ-goniostat'
_diffrn_measurement_method       'φ & ω scans'
_diffrn_radiation_monochromator  graphite
_diffrn_radiation_source         'Bruker-Nonius FR591 rotating anode'
_diffrn_radiation_type           MoK\a
_diffrn_radiation_wavelength     0.71073
_diffrn_reflns_av_R_equivalents  0.0499
_diffrn_reflns_av_sigmaI/netI    0.0396
_diffrn_reflns_limit_h_max       12
_diffrn_reflns_limit_h_min       -13
_diffrn_reflns_limit_k_max       5
_diffrn_reflns_limit_k_min       -6
_diffrn_reflns_limit_l_max       25
_diffrn_reflns_limit_l_min       -25
_diffrn_reflns_number            12125
_diffrn_reflns_theta_full        27.49
_diffrn_reflns_theta_max         27.49
_diffrn_reflns_theta_min         3.57
_exptl_absorpt_coefficient_mu    0.395
_exptl_absorpt_correction_T_max  0.9881
_exptl_absorpt_correction_T_min  0.7954
_exptl_absorpt_correction_type   multi-scan
_exptl_absorpt_process_details   'SADABS V2.10 (Sheldrick, G.M., 2003)'
_exptl_crystal_colour            Colourless
_exptl_crystal_density_diffrn    1.538
_exptl_crystal_density_method    'not measured'
_exptl_crystal_description       Block
_exptl_crystal_F_000             440
_exptl_crystal_size_max          0.60
_exptl_crystal_size_mid          0.10
_exptl_crystal_size_min          0.08
_refine_diff_density_max         0.223
_refine_diff_density_min         -0.265
_refine_diff_density_rms         0.055
_refine_ls_extinction_method     none
_refine_ls_goodness_of_fit_ref   1.047
_refine_ls_hydrogen_treatment    constr
_refine_ls_matrix_type           full
_refine_ls_number_parameters     129
_refine_ls_number_reflns         2111
_refine_ls_number_restraints     0
_refine_ls_restrained_S_all      1.047
_refine_ls_R_factor_all          0.0567
_refine_ls_R_factor_gt           0.0387
_refine_ls_shift/su_max          0.000
_refine_ls_shift/su_mean         0.000
_refine_ls_structure_factor_coef Fsqd
_refine_ls_weighting_details
'calc w=1/[σ²(Fo²)+(0.0422P)²+0.3205P] where P=(Fo²+2Fc²)/3'
_refine_ls_weighting_scheme      calc
_refine_ls_wR_factor_gt          0.0889
_refine_ls_wR_factor_ref         0.0973
_reflns_number_gt                1608
_reflns_number_total             2111
_reflns_threshold_expression     >2sigma(I)
_cod_data_source_file            b919538f.txt
_cod_data_source_block           shelxl3
_cod_original_sg_symbol_Hall     -P2yn
_cod_original_sg_symbol_H-M      P2(1)/n
_cod_database_code               7212089
loop_
_symmetry_equiv_pos_as_xyz
'x, y, z'
'-x+1/2, y+1/2, -z+1/2'
'-x, -y, -z'
'x-1/2, -y-1/2, z-1/2'
loop_
_atom_site_label
_atom_site_type_symbol
_atom_site_fract_x
_atom_site_fract_y
_atom_site_fract_z
_atom_site_U_iso_or_equiv
_atom_site_adp_type
_atom_site_occupancy
_atom_site_symmetry_multiplicity
_atom_site_calc_flag
_atom_site_refinement_flags
Cl1 Cl 0.89012(4) 0.24922(10) 0.08962(3) 0.03417(16) Uani 1 1 d .
O1 O 1.50405(11) 0.2919(2) 0.06227(6) 0.0240(3) Uani 1 1 d .
H1 H 1.5531 0.1840 0.0420 0.036 Uiso 1 1 calc R
O2 O 1.34381(12) 0.0617(3) -0.00313(6) 0.0276(3) Uani 1 1 d .
O3 O 1.42747(12) 0.7354(2) 0.13518(6) 0.0243(3) Uani 1 1 d .
O4 O 1.50466(13) 0.4410(3) 0.22098(6) 0.0363(3) Uani 1 1 d .
C1 C 1.27844(17) 0.3778(3) 0.08062(8) 0.0208(4) Uani 1 1 d .
C2 C 1.30452(17) 0.5978(3) 0.12809(8) 0.0225(4) Uani 1 1 d .
C7 C 1.37923(17) 0.2334(3) 0.04250(8) 0.0209(4) Uani 1 1 d .
C4 C 1.07763(19) 0.5956(4) 0.15396(9) 0.0288(4) Uani 1 1 d .
H4 H 1.0097 0.6659 0.1794 0.035 Uiso 1 1 calc R
C3 C 1.20569(19) 0.7033(4) 0.16482(9) 0.0276(4) Uani 1 1 d .
H3 H 1.2256 0.8501 0.1976 0.033 Uiso 1 1 calc R
C5 C 1.05048(17) 0.3837(4) 0.10529(9) 0.0248(4) Uani 1 1 d .
C6 C 1.14872(18) 0.2738(3) 0.06894(9) 0.0230(4) Uani 1 1 d .
H6 H 1.1281 0.1278 0.0360 0.028 Uiso 1 1 calc R
C8 C 1.52437(18) 0.6337(4) 0.18347(9) 0.0247(4) Uani 1 1 d .
C9 C 1.65038(19) 0.7914(4) 0.18035(10) 0.0317(4) Uani 1 1 d .
H9A H 1.7132 0.7420 0.2205 0.047 Uiso 1 1 calc R
H9B H 1.6325 0.9947 0.1807 0.047 Uiso 1 1 calc R
H9C H 1.6887 0.7415 0.1378 0.047 Uiso 1 1 calc R
loop_
_atom_site_aniso_label
_atom_site_aniso_U_11
_atom_site_aniso_U_22
_atom_site_aniso_U_33
_atom_site_aniso_U_23
_atom_site_aniso_U_13
_atom_site_aniso_U_12
Cl1 0.0198(3) 0.0406(3) 0.0428(3) -0.0079(2) 0.00690(19) -0.00353(19)
O1 0.0178(6) 0.0295(7) 0.0247(7) -0.0023(5) 0.0031(5) -0.0044(5)
O2 0.0225(7) 0.0365(7) 0.0236(6) -0.0077(5) 0.0021(5) -0.0044(5)
O3 0.0241(7) 0.0196(6) 0.0274(7) 0.0018(5) -0.0055(5) -0.0030(5)
O4 0.0364(8) 0.0424(8) 0.0289(7) 0.0113(6) -0.0011(6) -0.0014(6)
C1 0.0224(9) 0.0209(8) 0.0189(8) 0.0032(7) 0.0010(6) -0.0016(7)
C2 0.0228(9) 0.0204(9) 0.0230(9) 0.0033(7) -0.0033(7) -0.0032(7)
C7 0.0209(9) 0.0239(9) 0.0176(8) 0.0036(7) 0.0006(7) -0.0042(7)
C4 0.0302(10) 0.0291(10) 0.0276(10) -0.0022(7) 0.0053(8) 0.0040(8)
C3 0.0314(11) 0.0223(9) 0.0282(10) -0.0042(7) -0.0008(8) 0.0018(8)
C5 0.0199(9) 0.0277(9) 0.0267(9) -0.0001(7) 0.0024(7) -0.0016(7)
C6 0.0241(9) 0.0237(9) 0.0213(9) -0.0027(7) 0.0029(7) -0.0031(7)
C8 0.0294(10) 0.0230(9) 0.0207(9) -0.0030(7) -0.0024(7) 0.0033(7)
C9 0.0291(10) 0.0288(10) 0.0344(11) 0.0009(8) -0.0089(8) -0.0023(8)
loop_
_atom_type_symbol
_atom_type_description
_atom_type_scat_dispersion_real
_atom_type_scat_dispersion_imag
_atom_type_scat_source
C C 0.0033 0.0016 'International Tables Vol C Tables 4.2.6.8 and 6.1.1.4'
H H 0.0000 0.0000 'International Tables Vol C Tables 4.2.6.8 and 6.1.1.4'
O O 0.0106 0.0060 'International Tables Vol C Tables 4.2.6.8 and 6.1.1.4'
Cl Cl 0.1484 0.1585 'International Tables Vol C Tables 4.2.6.8 and 6.1.1.4'
loop_
_geom_angle_atom_site_label_1
_geom_angle_atom_site_label_2
_geom_angle_atom_site_label_3
_geom_angle
C7 O1 H1 109.5
C8 O3 C2 117.85(13)
C6 C1 C2 118.47(16)
C6 C1 C7 116.05(15)
C2 C1 C7 125.44(15)
C3 C2 C1 120.97(16)
C3 C2 O3 117.76(15)
C1 C2 O3 121.00(15)
O2 C7 O1 123.29(16)
O2 C7 C1 120.07(15)
O1 C7 C1 116.59(14)
C5 C4 C3 118.88(17)
C5 C4 H4 120.6
C3 C4 H4 120.6
C2 C3 C4 120.26(16)
C2 C3 H3 119.9
C4 C3 H3 119.9
C6 C5 C4 121.40(16)
C6 C5 Cl1 118.81(13)
C4 C5 Cl1 119.79(14)
C5 C6 C1 119.96(16)
C5 C6 H6 120.0
C1 C6 H6 120.0
O4 C8 O3 122.07(17)
O4 C8 C9 127.46(16)
O3 C8 C9 110.46(15)
C8 C9 H9A 109.5
C8 C9 H9B 109.5
H9A C9 H9B 109.5
C8 C9 H9C 109.5
H9A C9 H9C 109.5
H9B C9 H9C 109.5
loop_
_geom_bond_atom_site_label_1
_geom_bond_atom_site_label_2
_geom_bond_distance
Cl1 C5 1.7394(17)
O1 C7 1.3097(19)
O1 H1 0.8400
O2 C7 1.2281(19)
O3 C8 1.370(2)
O3 C2 1.398(2)
O4 C8 1.198(2)
C1 C6 1.398(2)
C1 C2 1.398(2)
C1 C7 1.490(2)
C2 C3 1.384(3)
C4 C5 1.386(2)
C4 C3 1.388(3)
C4 H4 0.9500
C3 H3 0.9500
C5 C6 1.383(2)
C6 H6 0.9500
C8 C9 1.485(3)
C9 H9A 0.9800
C9 H9B 0.9800
C9 H9C 0.9800
loop_
_geom_hbond_atom_site_label_D
_geom_hbond_atom_site_label_H
_geom_hbond_atom_site_label_A
_geom_hbond_distance_DH
_geom_hbond_distance_HA
_geom_hbond_distance_DA
_geom_hbond_angle_DHA
_geom_hbond_site_symmetry_A
O1 H1 O2 0.84 1.78 2.6233(17) 176.3 3_855
