#------------------------------------------------------------------------------
#$Date: 2016-02-14 05:40:26 +0100 (dom 14 de feb de 2016) $
#$Revision: 176432 $
#$URL: svn://www.crystallography.net/cod/cif/7/21/25/7212544.cif $
#------------------------------------------------------------------------------
#
# This file is available in the Crystallography Open Database (COD),
# http://www.crystallography.net/
#
# All data on this site have been placed in the public domain by the
# contributors.
#
data_7212544
loop_
_publ_author_name
'Oswald, Iain D. H.'
'Lennie, Alistair R.'
'Pulham, Colin R.'
'Shankland, Kenneth'
_publ_section_title
;
 High-pressure structural studies of the pharmaceutical, chlorothiazide
;
_journal_issue                   9
_journal_name_full               CrystEngComm
_journal_page_first              2533
_journal_paper_doi               10.1039/c001355b
_journal_volume                  12
_journal_year                    2010
_chemical_absolute_configuration ad
_chemical_formula_moiety         'C7 H6 Cl1 N3 O4 S2'
_chemical_formula_sum            'C7 H6 Cl N3 O4 S2'
_chemical_formula_weight         295.73
_space_group_IT_number           1
_symmetry_cell_setting           triclinic
_symmetry_space_group_name_Hall  'P 1'
_symmetry_space_group_name_H-M   'P 1'
_atom_sites_solution_hydrogens   geom
_atom_sites_solution_primary     direct
_cell_angle_alpha                76.528(16)
_cell_angle_beta                 85.624(17)
_cell_angle_gamma                83.203(8)
_cell_formula_units_Z            1
_cell_length_a                   4.5100(5)
_cell_length_b                   5.9287(6)
_cell_length_c                   8.503(3)
_cell_measurement_reflns_used    778
_cell_measurement_temperature    293
_cell_measurement_theta_max      23
_cell_measurement_theta_min      4
_cell_volume                     219.27(9)
_computing_cell_refinement       'SAINT (Siemens ,1995)'
_computing_data_collection       'SMART (Siemens, 1993)'
_computing_data_reduction        'SAINT (Siemens ,1995)'
_computing_molecular_graphics    'CAMERON (Watkin et al., 1996)'
_computing_publication_material  'CRYSTALS (Betteridge et al., 2003)'
_computing_structure_refinement  'CRYSTALS (Betteridge et al., 2003)'
_computing_structure_solution    'Refined from Low pressure structure'
_diffrn_ambient_temperature      293
_diffrn_measured_fraction_theta_full 0.473
_diffrn_measured_fraction_theta_max 0.394
_diffrn_measurement_device       'Bruker SMART'
_diffrn_measurement_device_type  Area
_diffrn_measurement_method       ω
_diffrn_radiation_monochromator  graphite
_diffrn_radiation_type           'Mo K\a'
_diffrn_radiation_wavelength     0.71073
_diffrn_reflns_av_R_equivalents  0.0421
_diffrn_reflns_limit_h_max       5
_diffrn_reflns_limit_h_min       -4
_diffrn_reflns_limit_k_max       6
_diffrn_reflns_limit_k_min       -6
_diffrn_reflns_limit_l_max       4
_diffrn_reflns_limit_l_min       0
_diffrn_reflns_number            2095
_diffrn_reflns_theta_full        17.417
_diffrn_reflns_theta_max         23.223
_diffrn_reflns_theta_min         3.553
_diffrn_standards_number         0
_exptl_absorpt_coefficient_mu    0.919
_exptl_absorpt_correction_T_max  0.96
_exptl_absorpt_correction_T_min  0.85
_exptl_absorpt_correction_type   multi-scan
_exptl_absorpt_process_details   'SADABS (Siemens, 1996)'
_exptl_crystal_colour            colourless
_exptl_crystal_density_diffrn    2.239
_exptl_crystal_density_method    'not measured'
_exptl_crystal_description       block
_exptl_crystal_F_000             150
_exptl_crystal_size_max          0.15
_exptl_crystal_size_mid          0.09
_exptl_crystal_size_min          0.05
_refine_diff_density_max         0.19
_refine_diff_density_min         -0.17
_refine_ls_abs_structure_details 'Flack (1983), 0 Friedel-pairs'
_refine_ls_abs_structure_Flack   .0000(0)
_refine_ls_extinction_method     None
_refine_ls_goodness_of_fit_ref   1.2230
_refine_ls_hydrogen_treatment    constr
_refine_ls_matrix_type           full
_refine_ls_number_parameters     71
_refine_ls_number_reflns         243
_refine_ls_number_restraints     20
_refine_ls_R_factor_all          0.0305
_refine_ls_R_factor_gt           0.0288
_refine_ls_shift/su_max          0.000229
_refine_ls_structure_factor_coef Fsqd
_refine_ls_weighting_details
;
Method= Modified Sheldrick
w=1/[σ²(F²) + ( 0.03P)² + 0.41P]
,where P=(max(Fo²,0) + 2Fc²)/3
;
_refine_ls_weighting_scheme      calc
_refine_ls_wR_factor_all         0.0693
_refine_ls_wR_factor_gt          0.0675
_refine_ls_wR_factor_ref         0.0693
_reflns_limit_h_max              5
_reflns_limit_h_min              -4
_reflns_limit_k_max              6
_reflns_limit_k_min              -6
_reflns_limit_l_max              4
_reflns_limit_l_min              0
_reflns_number_gt                232
_reflns_number_total             246
_reflns_threshold_expression     I>2.0σ(I)
_oxford_diffrn_Wilson_B_factor   0.05
_oxford_diffrn_Wilson_scale      0.03
_oxford_refine_ls_r_factor_ref   0.0305
_oxford_refine_ls_scale          7.6(6)
_oxford_reflns_number_all        243
_oxford_reflns_threshold_expression_ref I>-10.0\s(I)
_cod_data_source_file            c001355b.txt
_cod_data_source_block           7
_cod_depositor_comments
;
The following automatic conversions were performed:

'_symmetry_cell_setting' value 'Triclinic' changed to 'triclinic'
according to /home/saulius/struct/CIF-dictionaries/cif_core.dic
dictionary named 'cif_core.dic' version 2.4.2 from 2011-04-26.

Automatic conversion script
Id: cif_fix_values 1891 2012-01-12 08:04:46Z andrius 
;
_cod_original_cell_volume        219.26(8)
_cod_original_sg_symbol_Hall     'P 1 '
_cod_original_sg_symbol_H-M      'P 1 '
_cod_original_formula_sum        'C7 H6 Cl1 N3 O4 S2'
_cod_database_code               7212544
loop_
_symmetry_equiv_pos_as_xyz
x,y,z
loop_
_atom_site_label
_atom_site_type_symbol
_atom_site_fract_x
_atom_site_fract_y
_atom_site_fract_z
_atom_site_U_iso_or_equiv
_atom_site_occupancy
_atom_site_adp_type
_atom_site_refinement_flags_posn
Cl1 Cl -0.3910(6) 0.3188(5) 1.0597(8) 0.0285 1.0000 Uani D
S1 S 0.6124(7) 0.0724(5) 0.5752(10) 0.0213 1.0000 Uani D
S2 S -0.0519(6) -0.1971(5) 1.1358(10) 0.0227 1.0000 Uani D
O1 O 0.8487(14) -0.1002(12) 0.639(2) 0.0197(7) 1.0000 Uiso .
O2 O 0.4427(16) 0.0141(13) 0.462(2) 0.0235(7) 1.0000 Uiso .
O3 O 0.1197(15) -0.4136(12) 1.134(2) 0.0235(7) 1.0000 Uiso .
O4 O -0.3677(15) -0.1899(13) 1.145(2) 0.0215(7) 1.0000 Uiso .
N1 N 0.7516(19) 0.3112(14) 0.493(3) 0.0222(7) 1.0000 Uiso D
N2 N 0.3395(15) 0.5331(13) 0.593(2) 0.0164(7) 1.0000 Uiso D
N3 N 0.0465(19) -0.1066(16) 1.285(2) 0.0248(7) 1.0000 Uiso D
C1 C 0.584(2) 0.505(2) 0.499(3) 0.0250(7) 1.0000 Uiso D
C2 C 0.235(2) 0.3595(15) 0.713(2) 0.0191(7) 1.0000 Uiso D
C3 C 0.366(2) 0.1294(16) 0.7318(19) 0.0205(7) 1.0000 Uiso D
C4 C 0.281(2) -0.0387(15) 0.859(2) 0.0133(7) 1.0000 Uiso D
C5 C 0.0461(19) 0.0106(15) 0.962(2) 0.0196(7) 1.0000 Uiso D
C6 C -0.0967(18) 0.2389(14) 0.938(2) 0.0146(7) 1.0000 Uiso D
C7 C -0.001(2) 0.4100(14) 0.815(2) 0.0172(7) 1.0000 Uiso D
H1 H 0.6380 0.6362 0.4237 0.0300 1.0000 Uiso R
H2 H 0.2711 0.6680 0.5941 0.0300 1.0000 Uiso R
H31 H -0.0459 -0.0059 1.3315 0.0300 1.0000 Uiso R
H32 H 0.2186 -0.0938 1.3035 0.0300 1.0000 Uiso R
H4 H 0.3762 -0.1869 0.8771 0.0300 1.0000 Uiso R
H7 H -0.0935 0.5590 0.7992 0.0300 1.0000 Uiso R
loop_
_atom_site_aniso_label
_atom_site_aniso_U_11
_atom_site_aniso_U_22
_atom_site_aniso_U_33
_atom_site_aniso_U_23
_atom_site_aniso_U_13
_atom_site_aniso_U_12
Cl1 0.0180(14) 0.0227(14) 0.043(14) -0.008(3) 0.007(2) 0.0000(11)
S1 0.0162(14) 0.0156(13) 0.030(12) 0.000(3) -0.001(2) -0.0030(10)
S2 0.0165(15) 0.0169(13) 0.034(12) -0.006(3) 0.006(2) -0.0030(10)
loop_
_atom_type_symbol
_atom_type_scat_dispersion_real
_atom_type_scat_dispersion_imag
_atom_type_scat_Cromer_Mann_a1
_atom_type_scat_Cromer_Mann_b1
_atom_type_scat_Cromer_Mann_a2
_atom_type_scat_Cromer_Mann_b2
_atom_type_scat_Cromer_Mann_a3
_atom_type_scat_Cromer_Mann_b3
_atom_type_scat_Cromer_Mann_a4
_atom_type_scat_Cromer_Mann_b4
_atom_type_scat_Cromer_Mann_c
_atom_type_scat_source
C 0.0033 0.0016 2.3100 20.8439 1.0200 10.2075 1.5886 0.5687 0.8650 51.6512
0.2156 'International Tables Vol C 4.2.6.8 and 6.1.1.4'
H 0.0000 0.0000 0.4930 10.5109 0.3229 26.1257 0.1402 3.1424 0.0408 57.7998
0.0030 'International Tables Vol C 4.2.6.8 and 6.1.1.4'
N 0.0061 0.0033 12.2126 0.0057 3.1322 9.8933 2.0125 28.9975 1.1663 0.5826
-11.5290 'International Tables Vol C 4.2.6.8 and 6.1.1.4'
O 0.0106 0.0060 3.0485 13.2771 2.2868 5.7011 1.5463 0.3239 0.8670 32.9089
0.2508 'International Tables Vol C 4.2.6.8 and 6.1.1.4'
S 0.1246 0.1234 6.9053 1.4679 5.2034 22.2151 1.4379 0.2536 1.5863 56.1720
0.8669 'International Tables Vol C 4.2.6.8 and 6.1.1.4'
Cl 0.1484 0.1585 11.4604 0.0104 7.1964 1.1662 6.2556 18.5194 1.6455 47.7784
-9.5574 'International Tables Vol C 4.2.6.8 and 6.1.1.4'
loop_
_geom_angle_atom_site_label_1
_geom_angle_atom_site_label_2
_geom_angle_atom_site_label_3
_geom_angle
_geom_angle_publ_flag
O1 S1 O2 115.3(7) yes
O1 S1 N1 108.8(5) yes
O2 S1 N1 108.7(10) yes
O1 S1 C3 109.9(9) yes
O2 S1 C3 107.0(8) yes
N1 S1 C3 106.8(7) yes
O3 S2 O4 118.4(4) yes
O3 S2 N3 107.6(8) yes
O4 S2 N3 108.1(9) yes
O3 S2 C5 109.3(8) yes
O4 S2 C5 107.1(9) yes
N3 S2 C5 105.6(7) yes
S1 N1 C1 116.9(9) yes
C1 N2 C2 124.4(9) yes
C1 N2 H2 117.0 no
C2 N2 H2 117.0 no
S2 N3 H31 128.5 no
S2 N3 H32 125.4 no
H31 N3 H32 99.9 no
N2 C1 N1 127.7(14) yes
N2 C1 H1 117.1 no
N1 C1 H1 115.1 no
N2 C2 C3 120.2(9) yes
N2 C2 C7 120.1(8) yes
C3 C2 C7 119.7(8) yes
C2 C3 S1 116.2(9) yes
C2 C3 C4 120.3(7) yes
S1 C3 C4 123.3(7) yes
C3 C4 C5 120.1(6) yes
C3 C4 H4 121.1 no
C5 C4 H4 118.8 no
S2 C5 C4 121.1(7) yes
S2 C5 C6 119.2(8) yes
C4 C5 C6 119.3(7) yes
C5 C6 Cl1 123.1(7) yes
C5 C6 C7 120.4(6) yes
Cl1 C6 C7 116.5(6) yes
C2 C7 C6 119.8(7) yes
C2 C7 H7 119.4 no
C6 C7 H7 120.8 no
loop_
_geom_bond_atom_site_label_1
_geom_bond_atom_site_label_2
_geom_bond_distance
_geom_bond_publ_flag
Cl1 C6 1.709(10) yes
S1 O1 1.430(10) yes
S1 O2 1.399(17) yes
S1 N1 1.603(10) yes
S1 C3 1.737(13) yes
S2 O3 1.421(7) yes
S2 O4 1.416(8) yes
S2 N3 1.600(15) yes
S2 C5 1.753(16) yes
N1 C1 1.309(13) yes
N2 C1 1.331(14) yes
N2 C2 1.371(14) yes
N2 H2 0.824 no
N3 H31 0.843 no
N3 H32 0.819 no
C1 H1 0.927 no
C2 C3 1.400(11) yes
C2 C7 1.370(14) yes
C3 C4 1.355(14) yes
C4 C5 1.372(13) yes
C4 H4 0.915 no
C5 C6 1.405(11) yes
C6 C7 1.360(14) yes
C7 H7 0.915 no
