#------------------------------------------------------------------------------
#$Date: 2018-10-12 16:54:13 +0200 (vie 12 de oct de 2018) $
#$Revision: 211415 $
#$URL: svn://www.crystallography.net/cod/cif/7/21/39/7213974.cif $
#------------------------------------------------------------------------------
#
# This file is available in the Crystallography Open Database (COD),
# http://www.crystallography.net/
#
# All data on this site have been placed in the public domain by the
# contributors.
#
data_7213974
loop_
_publ_author_name
'Woodall, Christopher H.'
'Brayshaw, Simon K.'
'Schiffers, Stefanie'
'Allan, David R.'
'Parsons, Simon'
'Valiente, Rafael'
'Raithby, Paul R.'
_publ_section_title
;
 High-pressure crystallographic and spectroscopic studies on two molecular
 dithienylethene switches
;
_journal_issue                   11
_journal_name_full               CrystEngComm
_journal_page_first              2119
_journal_paper_doi               10.1039/c3ce41933a
_journal_volume                  16
_journal_year                    2014
_chemical_formula_moiety         'C23 H14 F6 S2'
_chemical_formula_sum            'C23 H14 F6 S2'
_chemical_formula_weight         468.46
_chemical_name_common            BenzothiopheneDTE
_chemical_name_systematic
;
 1,2-Bis(2-methyl benzothiophen-3-yl) perfluorocyclopentene
;
_space_group_IT_number           14
_symmetry_cell_setting           monoclinic
_symmetry_space_group_name_Hall  '-P 2yn'
_symmetry_space_group_name_H-M   'P 1 21/n 1'
_atom_sites_solution_hydrogens   geom
_atom_sites_solution_primary     direct
_atom_sites_solution_secondary   difmap
_audit_creation_method           SHELXL-97
_cell_angle_alpha                90.00
_cell_angle_beta                 113.85(3)
_cell_angle_gamma                90.00
_cell_formula_units_Z            4
_cell_length_a                   11.096(2)
_cell_length_b                   14.494(3)
_cell_length_c                   12.262(3)
_cell_measurement_reflns_used    1025
_cell_measurement_temperature    293
_cell_measurement_theta_max      25.8419
_cell_measurement_theta_min      3.3363
_cell_volume                     1803.6(8)
_computing_cell_refinement
;
CrysAlisPro, Oxford Diffraction Ltd.,
Version 1.171.34.9 (release 08-12-2009 CrysAlis171 .NET)
(compiled Dec  8 2009,17:31:18)
;
_computing_data_collection
;
CrysAlisPro, Oxford Diffraction Ltd.,
Version 1.171.34.9 (release 08-12-2009 CrysAlis171 .NET)
(compiled Dec  8 2009,17:31:18)
;
_computing_data_reduction
;
CrysAlisPro, Oxford Diffraction Ltd.,
Version 1.171.34.9 (release 08-12-2009 CrysAlis171 .NET)
(compiled Dec  8 2009,17:31:18)
;
_computing_structure_refinement  'SHELXL-97 (Sheldrick, 1997)'
_computing_structure_solution    'SIR92 (Altomare et al., 1994)'
_diffrn_ambient_temperature      293
_diffrn_measured_fraction_theta_full 0.359
_diffrn_measured_fraction_theta_max 0.359
_diffrn_measurement_device
;
CrystalLogic Kappa (3 circle)
;
_diffrn_measurement_device_type
;
Rigaku Saturn724+ (2x2 bin mode)
;
_diffrn_measurement_method       ω
_diffrn_radiation_monochromator  Synchrotron
_diffrn_radiation_type           synchrotron
_diffrn_radiation_wavelength     0.6889
_diffrn_reflns_av_R_equivalents  0.0789
_diffrn_reflns_av_sigmaI/netI    0.0842
_diffrn_reflns_limit_h_max       8
_diffrn_reflns_limit_h_min       -7
_diffrn_reflns_limit_k_max       16
_diffrn_reflns_limit_k_min       -16
_diffrn_reflns_limit_l_max       10
_diffrn_reflns_limit_l_min       -10
_diffrn_reflns_number            4474
_diffrn_reflns_theta_full        22.53
_diffrn_reflns_theta_max         22.53
_diffrn_reflns_theta_min         3.35
_exptl_absorpt_coefficient_mu    0.282
_exptl_absorpt_correction_T_max  1.00000
_exptl_absorpt_correction_T_min  0.90894
_exptl_absorpt_correction_type   multi-scan
_exptl_absorpt_process_details
;
CrysAlisPro, Oxford Diffraction Ltd.,
Version 1.171.34.9 (release 08-12-2009 CrysAlis171 .NET)
(compiled Dec  8 2009,17:31:18)
Empirical absorption correction using spherical harmonics,
 implemented in SCALE3 ABSPACK scaling algorithm.
;
_exptl_crystal_colour            colourless
_exptl_crystal_density_diffrn    1.725
_exptl_crystal_description       block
_exptl_crystal_F_000             952
_exptl_crystal_size_max          0.16
_exptl_crystal_size_mid          0.10
_exptl_crystal_size_min          0.10
_refine_diff_density_max         0.363
_refine_diff_density_min         -0.376
_refine_diff_density_rms         0.062
_refine_ls_extinction_method     none
_refine_ls_goodness_of_fit_ref   1.536
_refine_ls_hydrogen_treatment    constr
_refine_ls_matrix_type           full
_refine_ls_number_parameters     137
_refine_ls_number_reflns         933
_refine_ls_number_restraints     68
_refine_ls_restrained_S_all      1.489
_refine_ls_R_factor_all          0.1037
_refine_ls_R_factor_gt           0.0775
_refine_ls_shift/su_max          0.000
_refine_ls_shift/su_mean         0.000
_refine_ls_structure_factor_coef Fsqd
_refine_ls_weighting_details
'calc w=1/[σ²(Fo²)+(0.0339P)²+1.4145P] where P=(Fo²+2Fc²)/3'
_refine_ls_weighting_scheme      calc
_refine_ls_wR_factor_gt          0.1535
_refine_ls_wR_factor_ref         0.1713
_reflns_number_gt                688
_reflns_number_total             933
_reflns_threshold_expression     >2sigma(I)
_cod_data_source_file            c3ce41933a.txt
_cod_data_source_block           2.09GPaBenzothiopheneDTE
_cod_depositor_comments
;
The following automatic conversions were performed:

'_symmetry_cell_setting' value 'Monoclinic' changed to 'monoclinic'
according to
/usr/data/users/saulius/automatic-downloads/current/RSC/lib/dictionaries/cif_core.dic
dictionary named 'cif_core.dic' version 2.4.2 from 2011-04-26.

Automatic conversion script
Id: cif_fix_values 2281 2013-09-26 08:29:07Z andrius 
;
_cod_original_cell_volume        1803.7(6)
_cod_original_sg_symbol_H-M      'P 1 21/n 1 '
_cod_database_code               7213974
loop_
_symmetry_equiv_pos_as_xyz
x,y,z
-x+1/2,y+1/2,-z+1/2
-x,-y,-z
x-1/2,-y-1/2,z-1/2
loop_
_atom_site_label
_atom_site_type_symbol
_atom_site_fract_x
_atom_site_fract_y
_atom_site_fract_z
_atom_site_U_iso_or_equiv
_atom_site_adp_type
_atom_site_occupancy
_atom_site_symmetry_multiplicity
_atom_site_calc_flag
_atom_site_refinement_flags
C1 C 0.5594(13) 0.1191(5) 0.8041(9) 0.021(2) Uiso 1 1 d D
C2 C 0.4841(11) 0.1700(6) 0.8632(9) 0.028(3) Uiso 1 1 d D
C3 C 0.5898(11) 0.2172(5) 0.9738(10) 0.036(3) Uiso 1 1 d D
C4 C 0.7120(10) 0.1607(5) 0.9920(8) 0.021(2) Uiso 1 1 d D
C5 C 0.6860(11) 0.1136(5) 0.8751(8) 0.018(2) Uiso 1 1 d D
C11 C 0.6022(14) 0.1986(5) 0.5924(12) 0.033(3) Uiso 1 1 d D
H11A H 0.6505 0.2179 0.6734 0.050 Uiso 1 1 calc R
H11B H 0.5575 0.2507 0.5449 0.050 Uiso 1 1 calc R
H11C H 0.6620 0.1733 0.5615 0.050 Uiso 1 1 calc R
C12 C 0.5035(12) 0.1269(5) 0.5881(9) 0.021(2) Uiso 1 1 d D
C13 C 0.4845(12) 0.0877(5) 0.6807(9) 0.018(2) Uiso 1 1 d D
C14 C 0.3758(12) 0.0232(5) 0.6435(8) 0.022(2) Uiso 1 1 d D
C15 C 0.3312(13) -0.0331(5) 0.7118(10) 0.031(3) Uiso 1 1 d D
H15 H 0.3736 -0.0332 0.7946 0.037 Uiso 1 1 calc R
C16 C 0.2237(15) -0.0880(6) 0.6545(11) 0.042(3) Uiso 1 1 d D
H16 H 0.1941 -0.1269 0.6987 0.050 Uiso 1 1 calc R
C17 C 0.1582(15) -0.0865(6) 0.5309(10) 0.041(3) Uiso 1 1 d D
H17 H 0.0830 -0.1224 0.4946 0.049 Uiso 1 1 calc R
C18 C 0.2011(13) -0.0341(6) 0.4617(11) 0.035(3) Uiso 1 1 d D
H18 H 0.1572 -0.0343 0.3790 0.042 Uiso 1 1 calc R
C19 C 0.3132(11) 0.0200(5) 0.5188(8) 0.021(2) Uiso 1 1 d D
C31 C 0.7111(14) -0.0954(6) 0.8846(11) 0.034(3) Uiso 1 1 d D
H31A H 0.7511 -0.1164 0.9657 0.051 Uiso 1 1 calc R
H31B H 0.6946 -0.1472 0.8317 0.051 Uiso 1 1 calc R
H31C H 0.6294 -0.0649 0.8711 0.051 Uiso 1 1 calc R
C32 C 0.8012(10) -0.0297(5) 0.8618(9) 0.026(3) Uiso 1 1 d D
C33 C 0.7905(11) 0.0644(5) 0.8565(9) 0.017(2) Uiso 1 1 d D
C34 C 0.8959(11) 0.1090(5) 0.8382(9) 0.023(2) Uiso 1 1 d D
C35 C 0.9130(15) 0.2032(5) 0.8215(10) 0.028(3) Uiso 1 1 d D
H35 H 0.8547 0.2471 0.8273 0.034 Uiso 1 1 calc R
C36 C 1.0183(14) 0.2285(7) 0.7966(10) 0.032(3) Uiso 1 1 d D
H36 H 1.0308 0.2909 0.7866 0.038 Uiso 1 1 calc R
C37 C 1.1068(15) 0.1660(6) 0.7855(11) 0.047(3) Uiso 1 1 d D
H37 H 1.1758 0.1860 0.7667 0.057 Uiso 1 1 calc R
C38 C 1.0914(14) 0.0737(7) 0.8026(11) 0.045(3) Uiso 1 1 d D
H38 H 1.1507 0.0307 0.7969 0.054 Uiso 1 1 calc R
C39 C 0.9864(12) 0.0453(5) 0.8285(9) 0.026(3) Uiso 1 1 d D
F1 F 0.3973(11) 0.2299(3) 0.7922(8) 0.0486(18) Uiso 1 1 d D
F2 F 0.4162(11) 0.1127(4) 0.9066(8) 0.063(2) Uiso 1 1 d D
F3 F 0.6070(11) 0.3039(3) 0.9422(7) 0.0471(18) Uiso 1 1 d D
F4 F 0.5613(11) 0.2220(4) 1.0681(9) 0.068(2) Uiso 1 1 d D
F5 F 0.8233(9) 0.2131(3) 1.0333(7) 0.0367(16) Uiso 1 1 d D
F6 F 0.7302(10) 0.0967(3) 1.0795(7) 0.0435(17) Uiso 1 1 d D
S1 S 0.3899(5) 0.08971(15) 0.4511(3) 0.040(5) Uani 1 1 d D
S2 S 0.9403(5) -0.06677(15) 0.8452(3) 0.034(5) Uani 1 1 d D
loop_
_atom_site_aniso_label
_atom_site_aniso_U_11
_atom_site_aniso_U_22
_atom_site_aniso_U_33
_atom_site_aniso_U_23
_atom_site_aniso_U_13
_atom_site_aniso_U_12
S1 0.048(6) 0.0285(13) 0.026(4) 0.0016(13) -0.002(5) -0.0039(17)
S2 0.037(7) 0.0289(14) 0.038(4) 0.0037(14) 0.018(5) 0.0116(18)
loop_
_atom_type_symbol
_atom_type_description
_atom_type_scat_dispersion_real
_atom_type_scat_dispersion_imag
_atom_type_scat_source
C C 0.0029 0.0015 'International Tables Vol C Tables 4.2.6.8 and 6.1.1.4'
H H 0.0000 0.0000 'International Tables Vol C Tables 4.2.6.8 and 6.1.1.4'
F F 0.0165 0.0096 'International Tables Vol C Tables 4.2.6.8 and 6.1.1.4'
S S 0.1188 0.1164 'International Tables Vol C Tables 4.2.6.8 and 6.1.1.4'
loop_
_geom_angle_atom_site_label_1
_geom_angle_atom_site_label_2
_geom_angle_atom_site_label_3
_geom_angle
C5 C1 C13 131.6(14)
C5 C1 C2 111.3(9)
C13 C1 C2 117.1(10)
F1 C2 F2 106.6(11)
F1 C2 C1 113.7(11)
F2 C2 C1 113.0(8)
F1 C2 C3 112.2(7)
F2 C2 C3 105.6(9)
C1 C2 C3 105.6(10)
F4 C3 F3 108.3(10)
F4 C3 C4 114.5(9)
F3 C3 C4 108.7(10)
F4 C3 C2 115.3(11)
F3 C3 C2 107.7(8)
C4 C3 C2 101.9(8)
F5 C4 F6 105.2(6)
F5 C4 C5 113.7(10)
F6 C4 C5 110.4(7)
F5 C4 C3 112.0(7)
F6 C4 C3 108.6(10)
C5 C4 C3 106.7(7)
C1 C5 C33 129.0(9)
C1 C5 C4 110.0(11)
C33 C5 C4 120.8(7)
C13 C12 C11 128.3(8)
C13 C12 S1 112.5(7)
C11 C12 S1 119.1(8)
C12 C13 C14 113.4(8)
C12 C13 C1 121.0(9)
C14 C13 C1 125.1(11)
C15 C14 C19 119.8(9)
C15 C14 C13 129.9(8)
C19 C14 C13 110.3(9)
C16 C15 C14 118.6(11)
C15 C16 C17 120.9(14)
C18 C17 C16 121.9(13)
C17 C18 C19 117.8(11)
C14 C19 C18 120.9(11)
C14 C19 S1 112.4(7)
C18 C19 S1 126.7(8)
C33 C32 C31 126.5(11)
C33 C32 S2 111.7(9)
C31 C32 S2 121.7(7)
C32 C33 C34 113.4(10)
C32 C33 C5 122.7(11)
C34 C33 C5 123.8(8)
C39 C34 C35 119.0(12)
C39 C34 C33 111.9(8)
C35 C34 C33 128.9(12)
C36 C35 C34 118.0(13)
C35 C36 C37 123.3(12)
C38 C37 C36 119.0(15)
C37 C38 C39 119.4(14)
C38 C39 C34 121.3(9)
C38 C39 S2 128.2(9)
C34 C39 S2 110.5(9)
C12 S1 C19 91.3(6)
C32 S2 C39 92.5(6)
loop_
_geom_bond_atom_site_label_1
_geom_bond_atom_site_label_2
_geom_bond_distance
C1 C5 1.323(12)
C1 C13 1.474(10)
C1 C2 1.502(16)
C2 F1 1.327(8)
C2 F2 1.365(12)
C2 C3 1.547(10)
C3 F4 1.317(13)
C3 F3 1.352(10)
C3 C4 1.522(12)
C4 F5 1.361(10)
C4 F6 1.369(10)
C4 C5 1.507(11)
C5 C33 1.455(12)
C11 C12 1.495(12)
C12 C13 1.360(13)
C12 S1 1.729(7)
C13 C14 1.447(11)
C14 C15 1.395(13)
C14 C19 1.401(10)
C15 C16 1.369(11)
C16 C17 1.391(11)
C17 C18 1.360(13)
C18 C19 1.397(10)
C19 S1 1.734(12)
C31 C32 1.486(13)
C32 C33 1.368(9)
C32 S2 1.722(12)
C33 C34 1.432(13)
C34 C39 1.404(12)
C34 C35 1.405(10)
C35 C36 1.373(14)
C36 C37 1.383(13)
C37 C38 1.376(10)
C38 C39 1.388(14)
C39 S2 1.739(9)
