#------------------------------------------------------------------------------
#$Date: 2018-10-12 16:54:13 +0200 (vie 12 de oct de 2018) $
#$Revision: 211415 $
#$URL: svn://www.crystallography.net/cod/cif/7/21/39/7213981.cif $
#------------------------------------------------------------------------------
#
# This file is available in the Crystallography Open Database (COD),
# http://www.crystallography.net/
#
# All data on this site have been placed in the public domain by the
# contributors.
#
data_7213981
loop_
_publ_author_name
'Woodall, Christopher H.'
'Brayshaw, Simon K.'
'Schiffers, Stefanie'
'Allan, David R.'
'Parsons, Simon'
'Valiente, Rafael'
'Raithby, Paul R.'
_publ_section_title
;
 High-pressure crystallographic and spectroscopic studies on two molecular
 dithienylethene switches
;
_journal_issue                   11
_journal_name_full               CrystEngComm
_journal_page_first              2119
_journal_paper_doi               10.1039/c3ce41933a
_journal_volume                  16
_journal_year                    2014
_chemical_formula_moiety         'C23 H14 F6 S2'
_chemical_formula_sum            'C23 H14 F6 S2'
_chemical_formula_weight         468.46
_chemical_name_common            BenzothiopheneDTE
_chemical_name_systematic
;
 1,2-Bis(2-methyl benzothiophen-3-yl) perfluorocyclopentene
;
_space_group_IT_number           14
_symmetry_cell_setting           monoclinic
_symmetry_space_group_name_Hall  '-P 2yn'
_symmetry_space_group_name_H-M   'P 1 21/n 1'
_atom_sites_solution_hydrogens   geom
_atom_sites_solution_primary     direct
_atom_sites_solution_secondary   difmap
_audit_creation_method           SHELXL-97
_cell_angle_alpha                90.00
_cell_angle_beta                 107.52(16)
_cell_angle_gamma                90.00
_cell_formula_units_Z            4
_cell_length_a                   10.117(18)
_cell_length_b                   15.004(3)
_cell_length_c                   10.869(11)
_cell_measurement_reflns_used    1460
_cell_measurement_temperature    293
_cell_measurement_theta_max      25.4345
_cell_measurement_theta_min      3.3227
_cell_volume                     1573(4)
_computing_cell_refinement
;
CrysAlisPro, Oxford Diffraction Ltd.,
Version 1.171.34.9 (release 08-12-2009 CrysAlis171 .NET)
(compiled Dec  8 2009,17:31:18)
;
_computing_data_collection
;
CrysAlisPro, Oxford Diffraction Ltd.,
Version 1.171.34.9 (release 08-12-2009 CrysAlis171 .NET)
(compiled Dec  8 2009,17:31:18)
;
_computing_data_reduction
;
CrysAlisPro, Oxford Diffraction Ltd.,
Version 1.171.34.9 (release 08-12-2009 CrysAlis171 .NET)
(compiled Dec  8 2009,17:31:18)
;
_computing_structure_refinement  'SHELXL-97 (Sheldrick, 1997)'
_computing_structure_solution    'SIR92 (Altomare et al., 1994)'
_diffrn_ambient_temperature      293
_diffrn_measured_fraction_theta_full 0.298
_diffrn_measured_fraction_theta_max 0.298
_diffrn_measurement_device
;
CrystalLogic Kappa (3 circle)
;
_diffrn_measurement_device_type
;
Rigaku Saturn724+ (2x2 bin mode)
;
_diffrn_measurement_method       ω
_diffrn_radiation_monochromator  Synchrotron
_diffrn_radiation_type           synchrotron
_diffrn_radiation_wavelength     0.6889
_diffrn_reflns_av_R_equivalents  0.0671
_diffrn_reflns_av_sigmaI/netI    0.0623
_diffrn_reflns_limit_h_max       8
_diffrn_reflns_limit_h_min       -8
_diffrn_reflns_limit_k_max       18
_diffrn_reflns_limit_k_min       -18
_diffrn_reflns_limit_l_max       10
_diffrn_reflns_limit_l_min       -10
_diffrn_reflns_number            5013
_diffrn_reflns_theta_full        25.51
_diffrn_reflns_theta_max         25.51
_diffrn_reflns_theta_min         4.03
_exptl_absorpt_coefficient_mu    0.323
_exptl_absorpt_correction_T_max  1.00000
_exptl_absorpt_correction_T_min  0.21297
_exptl_absorpt_correction_type   multi-scan
_exptl_absorpt_process_details
;
CrysAlisPro, Oxford Diffraction Ltd.,
Version 1.171.34.9 (release 08-12-2009 CrysAlis171 .NET)
(compiled Dec  8 2009,17:31:18)
Empirical absorption correction using spherical harmonics,
 implemented in SCALE3 ABSPACK scaling algorithm.
;
_exptl_crystal_colour            colourless
_exptl_crystal_density_diffrn    1.978
_exptl_crystal_description       block
_exptl_crystal_F_000             952
_exptl_crystal_size_max          0.16
_exptl_crystal_size_mid          0.10
_exptl_crystal_size_min          0.10
_refine_diff_density_max         0.380
_refine_diff_density_min         -0.396
_refine_diff_density_rms         0.058
_refine_ls_extinction_method     none
_refine_ls_goodness_of_fit_ref   1.530
_refine_ls_hydrogen_treatment    constr
_refine_ls_matrix_type           full
_refine_ls_number_parameters     137
_refine_ls_number_reflns         961
_refine_ls_number_restraints     68
_refine_ls_restrained_S_all      1.496
_refine_ls_R_factor_all          0.0710
_refine_ls_R_factor_gt           0.0548
_refine_ls_shift/su_max          0.000
_refine_ls_shift/su_mean         0.000
_refine_ls_structure_factor_coef Fsqd
_refine_ls_weighting_details
'calc w=1/[σ²(Fo²)+(0.0339P)²+1.4145P] where P=(Fo²+2Fc²)/3'
_refine_ls_weighting_scheme      calc
_refine_ls_wR_factor_gt          0.1277
_refine_ls_wR_factor_ref         0.1354
_reflns_number_gt                785
_reflns_number_total             961
_reflns_threshold_expression     >2sigma(I)
_cod_data_source_file            c3ce41933a.txt
_cod_data_source_block           5.60GPaBenzothiopheneDTE
_cod_depositor_comments
;
The following automatic conversions were performed:

'_symmetry_cell_setting' value 'Monoclinic' changed to 'monoclinic'
according to
/usr/data/users/saulius/automatic-downloads/current/RSC/lib/dictionaries/cif_core.dic
dictionary named 'cif_core.dic' version 2.4.2 from 2011-04-26.

Automatic conversion script
Id: cif_fix_values 2281 2013-09-26 08:29:07Z andrius 
;
_cod_original_cell_volume        1573(3)
_cod_original_sg_symbol_H-M      'P 1 21/n 1 '
_cod_database_code               7213981
loop_
_symmetry_equiv_pos_as_xyz
x,y,z
-x+1/2,y+1/2,-z+1/2
-x,-y,-z
x-1/2,-y-1/2,z-1/2
loop_
_atom_site_label
_atom_site_type_symbol
_atom_site_fract_x
_atom_site_fract_y
_atom_site_fract_z
_atom_site_U_iso_or_equiv
_atom_site_adp_type
_atom_site_occupancy
_atom_site_symmetry_multiplicity
_atom_site_calc_flag
_atom_site_refinement_flags
C1 C 0.5440(11) 0.1666(3) 0.8048(8) 0.0129(13) Uiso 1 1 d D
C2 C 0.4798(9) 0.2473(3) 0.8386(7) 0.0136(13) Uiso 1 1 d D
C3 C 0.5512(10) 0.2649(4) 0.9851(8) 0.0171(19) Uiso 1 1 d D
C4 C 0.6677(8) 0.1957(3) 1.0209(6) 0.0115(13) Uiso 1 1 d D
C5 C 0.6500(10) 0.1379(3) 0.9031(7) 0.0108(12) Uiso 1 1 d D
C11 C 0.6787(11) 0.2193(4) 0.5946(9) 0.0204(14) Uiso 1 1 d D
H11A H 0.6899 0.2580 0.6674 0.031 Uiso 1 1 calc R
H11B H 0.6663 0.2544 0.5181 0.031 Uiso 1 1 calc R
H11C H 0.7597 0.1827 0.6085 0.031 Uiso 1 1 calc R
C12 C 0.5546(9) 0.1614(3) 0.5787(7) 0.0145(14) Uiso 1 1 d D
C13 C 0.5003(9) 0.1320(3) 0.6722(7) 0.0122(13) Uiso 1 1 d D
C14 C 0.3896(9) 0.0673(3) 0.6246(7) 0.0114(13) Uiso 1 1 d D
C15 C 0.3206(10) 0.0132(3) 0.6910(8) 0.0199(15) Uiso 1 1 d D
H15 H 0.3440 0.0155 0.7805 0.024 Uiso 1 1 calc R
C16 C 0.2165(12) -0.0440(4) 0.6211(8) 0.0265(16) Uiso 1 1 d D
H16 H 0.1704 -0.0807 0.6636 0.032 Uiso 1 1 calc R
C17 C 0.1819(11) -0.0459(3) 0.4861(8) 0.0194(14) Uiso 1 1 d D
H17 H 0.1066 -0.0799 0.4396 0.023 Uiso 1 1 calc R
C18 C 0.2549(10) 0.0005(3) 0.4217(8) 0.0149(14) Uiso 1 1 d D
H18 H 0.2350 -0.0053 0.3328 0.018 Uiso 1 1 calc R
C19 C 0.3603(9) 0.0568(3) 0.4907(7) 0.0104(12) Uiso 1 1 d D
C31 C 0.6142(11) -0.0705(3) 0.9249(9) 0.0211(15) Uiso 1 1 d D
H31A H 0.5453 -0.0291 0.9339 0.032 Uiso 1 1 calc R
H31B H 0.6478 -0.1049 1.0025 0.032 Uiso 1 1 calc R
H31C H 0.5740 -0.1096 0.8535 0.032 Uiso 1 1 calc R
C32 C 0.7311(9) -0.0207(3) 0.9013(7) 0.0155(14) Uiso 1 1 d D
C33 C 0.7494(10) 0.0698(3) 0.8945(7) 0.0129(14) Uiso 1 1 d D
C34 C 0.8742(10) 0.0933(3) 0.8674(7) 0.0150(14) Uiso 1 1 d D
C35 C 0.9202(12) 0.1785(3) 0.8480(8) 0.0124(14) Uiso 1 1 d D
H35 H 0.8714 0.2290 0.8585 0.015 Uiso 1 1 calc R
C36 C 1.0398(12) 0.1857(4) 0.8131(8) 0.0163(15) Uiso 1 1 d D
H36 H 1.0708 0.2422 0.7996 0.020 Uiso 1 1 calc R
C37 C 1.1159(11) 0.1115(3) 0.7971(8) 0.0239(15) Uiso 1 1 d D
H37 H 1.1955 0.1185 0.7721 0.029 Uiso 1 1 calc R
C38 C 1.0714(11) 0.0269(4) 0.8192(8) 0.0181(15) Uiso 1 1 d D
H38 H 1.1226 -0.0231 0.8114 0.022 Uiso 1 1 calc R
C39 C 0.9502(10) 0.0177(3) 0.8529(7) 0.0126(14) Uiso 1 1 d D
F1 F 0.4918(7) 0.31862(19) 0.7689(5) 0.0232(9) Uiso 1 1 d D
F2 F 0.3392(7) 0.23858(19) 0.8215(5) 0.0235(9) Uiso 1 1 d D
F3 F 0.6035(7) 0.34847(17) 1.0024(6) 0.0217(9) Uiso 1 1 d D
F4 F 0.4668(8) 0.2547(2) 1.0542(6) 0.0285(12) Uiso 1 1 d D
F5 F 0.7934(7) 0.23596(18) 1.0542(5) 0.0233(9) Uiso 1 1 d D
F6 F 0.6658(7) 0.14743(18) 1.1263(5) 0.0230(9) Uiso 1 1 d D
S1 S 0.4684(3) 0.11786(8) 0.4292(2) 0.023(3) Uani 1 1 d D
S2 S 0.8675(3) -0.07850(8) 0.8741(3) 0.026(3) Uani 1 1 d D
loop_
_atom_site_aniso_label
_atom_site_aniso_U_11
_atom_site_aniso_U_22
_atom_site_aniso_U_33
_atom_site_aniso_U_23
_atom_site_aniso_U_13
_atom_site_aniso_U_12
S1 0.032(5) 0.0147(7) 0.016(3) 0.0001(8) -0.001(3) 0.0022(11)
S2 0.030(5) 0.0114(7) 0.030(3) 0.0023(8) -0.001(4) -0.0004(10)
loop_
_atom_type_symbol
_atom_type_description
_atom_type_scat_dispersion_real
_atom_type_scat_dispersion_imag
_atom_type_scat_source
C C 0.0029 0.0015 'International Tables Vol C Tables 4.2.6.8 and 6.1.1.4'
H H 0.0000 0.0000 'International Tables Vol C Tables 4.2.6.8 and 6.1.1.4'
F F 0.0165 0.0096 'International Tables Vol C Tables 4.2.6.8 and 6.1.1.4'
S S 0.1188 0.1164 'International Tables Vol C Tables 4.2.6.8 and 6.1.1.4'
loop_
_geom_angle_atom_site_label_1
_geom_angle_atom_site_label_2
_geom_angle_atom_site_label_3
_geom_angle
C5 C1 C2 112.0(6)
C5 C1 C13 127.0(8)
C2 C1 C13 120.7(4)
F1 C2 F2 105.3(5)
F1 C2 C1 113.3(9)
F2 C2 C1 113.7(5)
F1 C2 C3 110.4(4)
F2 C2 C3 107.1(8)
C1 C2 C3 106.9(5)
F4 C3 F3 109.0(8)
F4 C3 C4 111.2(7)
F3 C3 C4 110.8(7)
F4 C3 C2 112.6(7)
F3 C3 C2 109.9(6)
C4 C3 C2 103.2(6)
F5 C4 F6 105.2(4)
F5 C4 C5 110.1(8)
F6 C4 C5 112.3(5)
F5 C4 C3 110.8(5)
F6 C4 C3 111.7(8)
C5 C4 C3 106.7(4)
C1 C5 C33 125.4(8)
C1 C5 C4 110.7(7)
C33 C5 C4 123.3(5)
C13 C12 C11 127.9(6)
C13 C12 S1 112.1(5)
C11 C12 S1 119.9(7)
C12 C13 C14 113.0(7)
C12 C13 C1 123.1(7)
C14 C13 C1 123.8(9)
C15 C14 C19 119.0(5)
C15 C14 C13 130.7(7)
C19 C14 C13 110.1(8)
C16 C15 C14 119.1(8)
C15 C16 C17 119.6(10)
C18 C17 C16 121.8(7)
C17 C18 C19 118.9(8)
C18 C19 C14 121.1(9)
C18 C19 S1 126.3(8)
C14 C19 S1 112.6(5)
C33 C32 C31 129.2(8)
C33 C32 S2 111.0(8)
C31 C32 S2 119.7(5)
C32 C33 C34 113.4(8)
C32 C33 C5 125.6(9)
C34 C33 C5 120.8(6)
C35 C34 C39 120.2(10)
C35 C34 C33 127.9(8)
C39 C34 C33 111.8(6)
C36 C35 C34 118.3(9)
C35 C36 C37 122.4(8)
C36 C37 C38 119.2(11)
C39 C38 C37 119.6(8)
C38 C39 C34 120.3(7)
C38 C39 S2 128.6(6)
C34 C39 S2 111.0(8)
C19 S1 C12 92.0(5)
C39 S2 C32 92.8(5)
loop_
_geom_bond_atom_site_label_1
_geom_bond_atom_site_label_2
_geom_bond_distance
C1 C5 1.337(7)
C1 C2 1.471(11)
C1 C13 1.469(9)
C2 F1 1.338(8)
C2 F2 1.384(11)
C2 C3 1.561(8)
C3 F4 1.305(12)
C3 F3 1.352(7)
C3 C4 1.531(9)
C4 F5 1.355(9)
C4 F6 1.360(9)
C4 C5 1.512(9)
C5 C33 1.455(10)
C11 C12 1.494(11)
C12 C13 1.365(12)
C12 S1 1.725(6)
C13 C14 1.454(8)
C14 C15 1.404(12)
C14 C19 1.404(10)
C15 C16 1.393(8)
C16 C17 1.402(10)
C17 C18 1.354(12)
C18 C19 1.390(7)
C19 S1 1.710(10)
C31 C32 1.484(12)
C32 C33 1.377(7)
C32 S2 1.729(10)
C33 C34 1.424(12)
C34 C35 1.397(9)
C34 C39 1.407(10)
C35 C36 1.377(13)
C36 C37 1.394(10)
C37 C38 1.391(9)
C38 C39 1.389(13)
C39 S2 1.717(8)
