#------------------------------------------------------------------------------
#$Date: 2016-03-26 20:52:34 +0100 (Sat 26 de Mar de 2016) $
#$Revision: 180484 $
#$URL: svn://www.crystallography.net/cod/cif/7/21/53/7215303.cif $
#------------------------------------------------------------------------------
#
# This file is available in the Crystallography Open Database (COD),
# http://www.crystallography.net/
#
# All data on this site have been placed in the public domain by the
# contributors.
#
data_7215303
loop_
_publ_author_name
'Hursthouse, Michael B.'
'Montis, Riccardo'
'Tizzard, Graham J.'
_publ_section_title
;
 Further crystal structures for the substituted aspirin family of
 molecules: the first aspirin carboxylate catemer and a detailed
 assessment of the subtle influences of weak intermolecular interactions
;
_journal_issue                   10
_journal_name_full               CrystEngComm
_journal_page_first              3390
_journal_paper_doi               10.1039/c0ce00838a
_journal_volume                  13
_journal_year                    2011
_chemical_formula_moiety         'C10 H10 O5'
_chemical_formula_sum            'C10 H10 O5'
_chemical_formula_weight         210.18
_chemical_name_common            3-methoxyaspirin
_chemical_name_systematic        '2-acetyloxy-3-methoxybenzoic acid'
_space_group_IT_number           14
_symmetry_cell_setting           monoclinic
_symmetry_space_group_name_Hall  '-P 2ybc'
_symmetry_space_group_name_H-M   'P 1 21/c 1'
_atom_sites_solution_hydrogens   geom
_atom_sites_solution_primary     direct
_atom_sites_solution_secondary   difmap
_audit_creation_method           SHELXL-97
_cell_angle_alpha                90.00
_cell_angle_beta                 102.716(2)
_cell_angle_gamma                90.00
_cell_formula_units_Z            4
_cell_length_a                   9.5451(3)
_cell_length_b                   14.2427(5)
_cell_length_c                   7.3811(2)
_cell_measurement_reflns_used    12090
_cell_measurement_temperature    120(2)
_cell_measurement_theta_max      27.48
_cell_measurement_theta_min      2.91
_cell_volume                     978.83(5)
_computing_cell_refinement
'DENZO (Otwinowski & Minor, 1997) & COLLECT (Hooft, R.W.W., 1998)'
_computing_data_collection       'COLLECT (Hooft, R.W.W., 1998)'
_computing_data_reduction
'DENZO (Otwinowski & Minor, 1997) & COLLECT (Hooft, R.W.W., 1998)'
_computing_structure_refinement  'SHELXL-97 (Sheldrick, 1997)'
_computing_structure_solution    'SHELXS-97 (Sheldrick, 1990)'
_diffrn_ambient_temperature      120(2)
_diffrn_detector_area_resol_mean 9.091
_diffrn_measured_fraction_theta_full 0.997
_diffrn_measured_fraction_theta_max 0.997
_diffrn_measurement_device_type
'Bruker-Nonius Roper CCD camera on κ-goniostat'
_diffrn_measurement_method       'φ & ω scans'
_diffrn_radiation_monochromator  graphite
_diffrn_radiation_source         'Bruker-Nonius FR591 rotating anode'
_diffrn_radiation_type           MoK\a
_diffrn_radiation_wavelength     0.71073
_diffrn_reflns_av_R_equivalents  0.0446
_diffrn_reflns_av_sigmaI/netI    0.0299
_diffrn_reflns_limit_h_max       12
_diffrn_reflns_limit_h_min       -12
_diffrn_reflns_limit_k_max       18
_diffrn_reflns_limit_k_min       -18
_diffrn_reflns_limit_l_max       9
_diffrn_reflns_limit_l_min       -9
_diffrn_reflns_number            15755
_diffrn_reflns_theta_full        27.48
_diffrn_reflns_theta_max         27.48
_diffrn_reflns_theta_min         3.17
_exptl_absorpt_coefficient_mu    0.116
_exptl_absorpt_correction_T_max  0.9772
_exptl_absorpt_correction_T_min  0.9497
_exptl_absorpt_correction_type   multi-scan
_exptl_absorpt_process_details   'SADABS 2007/2 (Sheldrick, G.M., 2007)'
_exptl_crystal_colour            Colourless
_exptl_crystal_density_diffrn    1.426
_exptl_crystal_density_method    'not measured'
_exptl_crystal_description       Slab
_exptl_crystal_F_000             440
_exptl_crystal_size_max          0.45
_exptl_crystal_size_mid          0.45
_exptl_crystal_size_min          0.20
_refine_diff_density_max         0.243
_refine_diff_density_min         -0.236
_refine_diff_density_rms         0.047
_refine_ls_extinction_method     none
_refine_ls_goodness_of_fit_ref   1.070
_refine_ls_hydrogen_treatment    constr
_refine_ls_matrix_type           full
_refine_ls_number_parameters     139
_refine_ls_number_reflns         2245
_refine_ls_number_restraints     0
_refine_ls_restrained_S_all      1.070
_refine_ls_R_factor_all          0.0503
_refine_ls_R_factor_gt           0.0403
_refine_ls_shift/su_max          0.000
_refine_ls_shift/su_mean         0.000
_refine_ls_structure_factor_coef Fsqd
_refine_ls_weighting_details
'calc w=1/[σ²(Fo²)+(0.0465P)²+0.4145P] where P=(Fo²+2Fc²)/3'
_refine_ls_weighting_scheme      calc
_refine_ls_wR_factor_gt          0.1013
_refine_ls_wR_factor_ref         0.1070
_reflns_number_gt                1902
_reflns_number_total             2245
_reflns_threshold_expression     >2sigma(I)
_cod_data_source_file            c0ce00838a.txt
_cod_data_source_block           3-methoxyaspirin
_cod_original_sg_symbol_H-M      P21/c
_cod_database_code               7215303
loop_
_symmetry_equiv_pos_as_xyz
'x, y, z'
'-x, y+1/2, -z+1/2'
'-x, -y, -z'
'x, -y-1/2, z-1/2'
loop_
_atom_site_label
_atom_site_type_symbol
_atom_site_fract_x
_atom_site_fract_y
_atom_site_fract_z
_atom_site_U_iso_or_equiv
_atom_site_adp_type
_atom_site_occupancy
_atom_site_symmetry_multiplicity
_atom_site_calc_flag
_atom_site_refinement_flags
C1 C 0.80638(13) 0.05894(9) 0.32233(17) 0.0176(3) Uani 1 1 d .
C2 C 0.78562(13) -0.00093(9) 0.46283(17) 0.0174(3) Uani 1 1 d .
C3 C 0.70148(13) 0.02571(9) 0.58770(17) 0.0184(3) Uani 1 1 d .
C4 C 0.63442(15) 0.11277(10) 0.56801(18) 0.0220(3) Uani 1 1 d .
H4 H 0.5754 0.1311 0.6500 0.026 Uiso 1 1 calc R
C5 C 0.65432(16) 0.17314(10) 0.42694(19) 0.0245(3) Uani 1 1 d .
H5 H 0.6080 0.2326 0.4131 0.029 Uiso 1 1 calc R
C6 C 0.74059(15) 0.14759(9) 0.30694(18) 0.0218(3) Uani 1 1 d .
H6 H 0.7553 0.1902 0.2139 0.026 Uiso 1 1 calc R
C7 C 0.89288(13) 0.03098(9) 0.18497(17) 0.0176(3) Uani 1 1 d .
C8 C 0.78314(16) -0.16056(10) 0.38248(19) 0.0236(3) Uani 1 1 d .
C9 C 0.8678(2) -0.24912(12) 0.4224(2) 0.0426(5) Uani 1 1 d .
H9A H 0.8723 -0.2683 0.5511 0.064 Uiso 1 1 calc R
H9B H 0.9653 -0.2386 0.4045 0.064 Uiso 1 1 calc R
H9C H 0.8215 -0.2986 0.3379 0.064 Uiso 1 1 calc R
C10 C 0.60115(15) -0.01668(11) 0.84497(18) 0.0243(3) Uani 1 1 d .
H10A H 0.6344 0.0415 0.9115 0.037 Uiso 1 1 calc R
H10B H 0.6042 -0.0679 0.9344 0.037 Uiso 1 1 calc R
H10C H 0.5024 -0.0084 0.7739 0.037 Uiso 1 1 calc R
O1 O 0.90230(11) 0.09669(7) 0.06392(13) 0.0250(2) Uani 1 1 d .
H1 H 0.9511 0.0769 -0.0099 0.037 Uiso 1 1 calc R
O2 O 0.94803(10) -0.04751(7) 0.18329(13) 0.0237(2) Uani 1 1 d .
O3 O 0.85095(10) -0.08895(7) 0.49149(12) 0.0208(2) Uani 1 1 d .
O4 O 0.67146(11) -0.15000(7) 0.27181(15) 0.0291(3) Uani 1 1 d .
O5 O 0.69259(11) -0.03907(7) 0.72059(13) 0.0234(2) Uani 1 1 d .
loop_
_atom_site_aniso_label
_atom_site_aniso_U_11
_atom_site_aniso_U_22
_atom_site_aniso_U_33
_atom_site_aniso_U_23
_atom_site_aniso_U_13
_atom_site_aniso_U_12
C1 0.0150(6) 0.0211(6) 0.0156(6) -0.0009(5) 0.0013(5) -0.0016(5)
C2 0.0143(6) 0.0204(6) 0.0163(6) -0.0012(5) 0.0007(5) 0.0012(5)
C3 0.0173(6) 0.0233(7) 0.0142(6) -0.0002(5) 0.0023(5) -0.0009(5)
C4 0.0221(7) 0.0246(7) 0.0196(6) -0.0050(5) 0.0053(5) 0.0015(5)
C5 0.0293(7) 0.0194(6) 0.0244(7) -0.0026(5) 0.0054(6) 0.0016(6)
C6 0.0267(7) 0.0189(6) 0.0196(6) 0.0003(5) 0.0047(5) -0.0029(5)
C7 0.0145(6) 0.0220(7) 0.0152(6) 0.0000(5) 0.0009(5) -0.0046(5)
C8 0.0328(8) 0.0226(7) 0.0191(6) 0.0027(5) 0.0136(6) 0.0050(6)
C9 0.0715(13) 0.0297(8) 0.0273(8) 0.0047(6) 0.0123(8) 0.0236(8)
C10 0.0203(7) 0.0378(8) 0.0164(6) 0.0004(6) 0.0073(5) 0.0011(6)
O1 0.0282(5) 0.0265(5) 0.0239(5) 0.0035(4) 0.0135(4) -0.0015(4)
O2 0.0249(5) 0.0242(5) 0.0246(5) 0.0005(4) 0.0108(4) 0.0012(4)
O3 0.0220(5) 0.0233(5) 0.0178(4) 0.0042(4) 0.0060(4) 0.0071(4)
O4 0.0298(6) 0.0252(5) 0.0327(6) -0.0036(4) 0.0076(5) -0.0006(4)
O5 0.0254(5) 0.0292(5) 0.0184(5) 0.0050(4) 0.0108(4) 0.0051(4)
loop_
_atom_type_symbol
_atom_type_description
_atom_type_scat_dispersion_real
_atom_type_scat_dispersion_imag
_atom_type_scat_source
C C 0.0033 0.0016 'International Tables Vol C Tables 4.2.6.8 and 6.1.1.4'
H H 0.0000 0.0000 'International Tables Vol C Tables 4.2.6.8 and 6.1.1.4'
O O 0.0106 0.0060 'International Tables Vol C Tables 4.2.6.8 and 6.1.1.4'
loop_
_geom_angle_atom_site_label_1
_geom_angle_atom_site_label_2
_geom_angle_atom_site_label_3
_geom_angle
C2 C1 C6 118.52(12)
C2 C1 C7 122.22(12)
C6 C1 C7 119.25(11)
C1 C2 O3 122.13(11)
C1 C2 C3 121.40(12)
O3 C2 C3 116.43(11)
O5 C3 C4 125.43(12)
O5 C3 C2 115.18(11)
C4 C3 C2 119.39(12)
C3 C4 C5 119.55(12)
C3 C4 H4 120.2
C5 C4 H4 120.2
C6 C5 C4 120.89(13)
C6 C5 H5 119.6
C4 C5 H5 119.6
C5 C6 C1 120.22(12)
C5 C6 H6 119.9
C1 C6 H6 119.9
O2 C7 O1 123.05(11)
O2 C7 C1 123.17(11)
O1 C7 C1 113.77(11)
O4 C8 O3 122.69(12)
O4 C8 C9 126.96(14)
O3 C8 C9 110.36(13)
C8 C9 H9A 109.5
C8 C9 H9B 109.5
H9A C9 H9B 109.5
C8 C9 H9C 109.5
H9A C9 H9C 109.5
H9B C9 H9C 109.5
O5 C10 H10A 109.5
O5 C10 H10B 109.5
H10A C10 H10B 109.5
O5 C10 H10C 109.5
H10A C10 H10C 109.5
H10B C10 H10C 109.5
C7 O1 H1 109.5
C8 O3 C2 116.24(10)
C3 O5 C10 116.93(10)
loop_
_geom_bond_atom_site_label_1
_geom_bond_atom_site_label_2
_geom_bond_distance
C1 C2 1.3900(18)
C1 C6 1.4037(18)
C1 C7 1.4955(17)
C2 O3 1.3954(15)
C2 C3 1.4016(18)
C3 O5 1.3628(16)
C3 C4 1.3882(19)
C4 C5 1.395(2)
C4 H4 0.9500
C5 C6 1.3842(19)
C5 H5 0.9500
C6 H6 0.9500
C7 O2 1.2369(16)
C7 O1 1.3106(15)
C8 O4 1.2012(18)
C8 O3 1.3701(17)
C8 C9 1.492(2)
C9 H9A 0.9800
C9 H9B 0.9800
C9 H9C 0.9800
C10 O5 1.4350(16)
C10 H10A 0.9800
C10 H10B 0.9800
C10 H10C 0.9800
O1 H1 0.8400
loop_
_geom_hbond_atom_site_label_D
_geom_hbond_atom_site_label_H
_geom_hbond_atom_site_label_A
_geom_hbond_distance_DH
_geom_hbond_distance_HA
_geom_hbond_distance_DA
_geom_hbond_angle_DHA
_geom_hbond_site_symmetry_A
O1 H1 O2 0.84 1.81 2.6474(13) 173.1 3_755
loop_
_geom_torsion_atom_site_label_1
_geom_torsion_atom_site_label_2
_geom_torsion_atom_site_label_3
_geom_torsion_atom_site_label_4
_geom_torsion
C6 C1 C2 O3 -177.86(11)
C7 C1 C2 O3 3.78(19)
C6 C1 C2 C3 -0.16(19)
C7 C1 C2 C3 -178.52(11)
C1 C2 C3 O5 -178.76(11)
O3 C2 C3 O5 -0.93(17)
C1 C2 C3 C4 1.6(2)
O3 C2 C3 C4 179.46(11)
O5 C3 C4 C5 179.06(12)
C2 C3 C4 C5 -1.4(2)
C3 C4 C5 C6 -0.3(2)
C4 C5 C6 C1 1.8(2)
C2 C1 C6 C5 -1.57(19)
C7 C1 C6 C5 176.84(12)
C2 C1 C7 O2 2.1(2)
C6 C1 C7 O2 -176.21(12)
C2 C1 C7 O1 -179.24(12)
C6 C1 C7 O1 2.41(17)
O4 C8 O3 C2 -2.19(18)
C9 C8 O3 C2 177.60(11)
C1 C2 O3 C8 -83.18(15)
C3 C2 O3 C8 99.01(13)
C4 C3 O5 C10 2.88(19)
C2 C3 O5 C10 -176.69(11)
