#------------------------------------------------------------------------------
#$Date: 2016-02-16 02:10:39 +0100 (mar 16 de feb de 2016) $
#$Revision: 176453 $
#$URL: svn://www.crystallography.net/cod/cif/7/21/65/7216520.cif $
#------------------------------------------------------------------------------
#
# This file is available in the Crystallography Open Database (COD),
# http://www.crystallography.net/
#
# All data on this site have been placed in the public domain by the
# contributors.
#
data_7216520
loop_
_publ_author_name
'Delori, Amit'
'Maclure, Pauline'
'Bhardwaj, Rajni M.'
'Johnston, Andrea'
'Florence, Alastair J.'
'Sutcliffe, Oliver B.'
'Oswald, Iain D. H.'
_publ_section_title
;
 Drug solid solutions -- a method for tuning phase transformations
;
_journal_issue                   26
_journal_name_full               CrystEngComm
_journal_page_first              5827
_journal_paper_doi               10.1039/c4ce00211c
_journal_volume                  16
_journal_year                    2014
_chemical_formula_moiety         'C11 H16 N O, Cl'
_chemical_formula_sum            'C11 H16 Cl N O'
_chemical_formula_weight         213.71
_chemical_melting_point          524
_chemical_name_systematic
'(+-)-4'-methylmethcathinone Hydrochloride, Mephedrone'
_space_group_IT_number           14
_symmetry_cell_setting           monoclinic
_symmetry_space_group_name_Hall  '-P 2yn'
_symmetry_space_group_name_H-M   'P 1 21/n 1'
_atom_sites_solution_hydrogens   difmap
_atom_sites_solution_primary     direct
_cell_angle_alpha                90
_cell_angle_beta                 90.628(2)
_cell_angle_gamma                90
_cell_formula_units_Z            4
_cell_length_a                   7.1365(14)
_cell_length_b                   23.041(5)
_cell_length_c                   7.4304(15)
_cell_measurement_reflns_used    1643
_cell_measurement_temperature    275
_cell_measurement_theta_max      22
_cell_measurement_theta_min      4
_cell_volume                     1221.7(4)
_computing_cell_refinement       'Apex2 (Bruker AXS, 2006)'
_computing_data_collection       'Apex2 (Bruker AXS, 2006)'
_computing_data_reduction        'Apex2 (Bruker AXS, 2006)'
_computing_molecular_graphics    'CAMERON (Watkin et al., 1996)'
_computing_publication_material  'CRYSTALS (Betteridge et al., 2003)'
_computing_structure_refinement  'CRYSTALS (Betteridge et al., 2003)'
_computing_structure_solution    'SIR92 (Altomare et al., 1994)'
_diffrn_ambient_temperature      275
_diffrn_measured_fraction_theta_full 0.975
_diffrn_measured_fraction_theta_max 0.972
_diffrn_measurement_device       Area
_diffrn_measurement_device_type  'Bruker Kappa Apex2'
_diffrn_measurement_method       ω
_diffrn_radiation_monochromator  graphite
_diffrn_radiation_type           'Mo K\a'
_diffrn_radiation_wavelength     0.71073
_diffrn_reflns_av_R_equivalents  0.046
_diffrn_reflns_limit_h_max       8
_diffrn_reflns_limit_h_min       -6
_diffrn_reflns_limit_k_max       28
_diffrn_reflns_limit_k_min       -28
_diffrn_reflns_limit_l_max       9
_diffrn_reflns_limit_l_min       -9
_diffrn_reflns_number            7911
_diffrn_reflns_theta_full        25.588
_diffrn_reflns_theta_max         26.379
_diffrn_reflns_theta_min         3.816
_diffrn_standards_number         0
_exptl_absorpt_coefficient_mu    0.284
_exptl_absorpt_correction_T_max  0.97
_exptl_absorpt_correction_T_min  0.88
_exptl_absorpt_correction_type   multi-scan
_exptl_absorpt_process_details   'SADABS (Siemens, 1996)'
_exptl_crystal_colour            colourless
_exptl_crystal_density_diffrn    1.162
_exptl_crystal_density_method    'not measured'
_exptl_crystal_description       lathe
_exptl_crystal_F_000             456
_exptl_crystal_size_max          0.500
_exptl_crystal_size_mid          0.200
_exptl_crystal_size_min          0.100
_refine_diff_density_max         0.37
_refine_diff_density_min         -0.38
_refine_ls_extinction_method     None
_refine_ls_goodness_of_fit_ref   0.8112
_refine_ls_hydrogen_treatment    constr
_refine_ls_matrix_type           full
_refine_ls_number_parameters     127
_refine_ls_number_reflns         2427
_refine_ls_number_restraints     0
_refine_ls_R_factor_all          0.0836
_refine_ls_R_factor_gt           0.0391
_refine_ls_shift/su_max          0.0010839
_refine_ls_shift/su_mean         0.0000372
_refine_ls_structure_factor_coef Fsqd
_refine_ls_weighting_details
;
 Method= Modified Sheldrick 
 w=1/[σ²(F²) + ( 0.05P)² + 0.00P] 
 ,where P=(max(Fo²,0) + 2Fc²)/3 
;
_refine_ls_weighting_scheme      calc
_refine_ls_wR_factor_all         0.0892
_refine_ls_wR_factor_gt          0.0841
_refine_ls_wR_factor_ref         0.0892
_reflns_limit_h_max              8
_reflns_limit_h_min              -8
_reflns_limit_k_max              28
_reflns_limit_k_min              0
_reflns_limit_l_max              9
_reflns_limit_l_min              0
_reflns_number_gt                1378
_reflns_number_total             2431
_reflns_threshold_expression     I>2.0σ(I)
_oxford_diffrn_Wilson_B_factor   4.96
_oxford_diffrn_Wilson_scale      89.86
_oxford_refine_ls_r_factor_ref   0.0836
_oxford_refine_ls_scale          0.3316(4)
_oxford_reflns_number_all        2427
_oxford_reflns_threshold_expression_ref I>-10.0\s(I)
_oxford_structure_analysis_title '275K in P2(1)/n'
_cod_data_source_file            c4ce00211c2.cif
_cod_data_source_block           1a_I_275K
_cod_depositor_comments
;
The following automatic conversions were performed:

'_chemical_melting_point' value '524 K' was changed to '524' - the
value should be numeric and without a unit
designator.

'_symmetry_cell_setting' value 'Monoclinic' changed to
'monoclinic' according to
/usr/data/users/saulius/crontab/automatic-downloads/rss-feeds/RSC/lib/dictionaries/cif_core.dic
dictionary named 'cif_core.dic' version 2.4.2 from
2011-04-26.

'_atom_sites_solution_primary' value 'Direct' changed to
'direct' according to
/usr/data/users/saulius/crontab/automatic-downloads/rss-feeds/RSC/lib/dictionaries/cif_core.dic
dictionary named 'cif_core.dic' version 2.4.2 from 2011-04-26.

Automatic conversion script
Id: cif_fix_values 2281 2013-09-26 08:29:07Z andrius 

 Adding full bibliography for 7216513--7216526.cif.
;
_cod_original_sg_symbol_H-M      'P 1 21/n 1 '
_cod_original_formula_sum        'C11 H16 Cl1 N O'
_cod_database_code               7216520
#BEGIN Tags that were not found in dictionaries:
_iucr_refine_instruction_details_constraints
;
BLOCK SCALE X'S, U'S 
RIDE C   (   1,X'S) H   (  13,X'S) H   (  11,X'S) H   (  12,X'S) 
RIDE C   (   3,X'S) H   (  31,X'S) 
RIDE C   (   4,X'S) H   (  41,X'S) 
RIDE C   (   6,X'S) H   (  61,X'S) 
RIDE C   (   7,X'S) H   (  71,X'S) 
RIDE C   (  10,X'S) H   ( 101,X'S) 
RIDE C   (  11,X'S) H   ( 113,X'S) H   ( 111,X'S) H   ( 112,X'S) 
RIDE N   (  12,X'S) H   ( 122,X'S) H   ( 121,X'S) 
RIDE C   (  13,X'S) H   ( 131,X'S) H   ( 133,X'S) H   ( 132,X'S) 
END                                                                             
;
_iucr_refine_instruction_details_restraints
;
NO 
REM   HREST   START (DO NOT REMOVE THIS LINE) 
REM   HREST   END (DO NOT REMOVE THIS LINE) 
END                                                                             
;
#END Tags that were not found in dictionaries
loop_
_symmetry_equiv_pos_as_xyz
x,y,z
-x,-y,-z
-x+1/2,y+1/2,-z+1/2
x+1/2,-y+1/2,z+1/2
loop_
_atom_site_label
_atom_site_type_symbol
_atom_site_fract_x
_atom_site_fract_y
_atom_site_fract_z
_atom_site_U_iso_or_equiv
_atom_site_occupancy
_atom_site_adp_type
_atom_site_refinement_flags_posn
C1 C 0.5132(4) 0.43733(9) 0.8011(3) 0.1066 1.0000 Uani .
C2 C 0.3848(5) 0.48865(9) 0.7681(3) 0.0752 1.0000 Uani .
C3 C 0.1958(5) 0.48434(10) 0.8070(3) 0.0924 1.0000 Uani .
C4 C 0.0738(4) 0.53066(10) 0.7801(3) 0.0837 1.0000 Uani .
C5 C 0.1399(3) 0.58259(8) 0.7101(3) 0.0594 1.0000 Uani .
C6 C 0.3286(3) 0.58685(9) 0.6720(2) 0.0617 1.0000 Uani .
C7 C 0.4485(3) 0.54036(9) 0.7016(3) 0.0703 1.0000 Uani .
C8 C 0.0072(3) 0.63108(8) 0.6826(3) 0.0602 1.0000 Uani .
O9 O -0.1439(2) 0.63288(7) 0.7588(2) 0.0959 1.0000 Uani .
C10 C 0.0550(3) 0.67855(8) 0.5497(2) 0.0497 1.0000 Uani .
C11 C 0.0250(4) 0.65697(9) 0.3581(3) 0.0779 1.0000 Uani .
N12 N -0.0620(2) 0.73015(6) 0.58512(18) 0.0496 1.0000 Uani .
C13 C -0.0099(3) 0.78278(8) 0.4819(2) 0.0624 1.0000 Uani .
Cl1 Cl 0.01961(7) 0.77441(2) 0.96723(6) 0.0642 1.0000 Uani .
H13 H 0.6421 0.4483 0.7691 0.1743 1.0000 Uiso R
H11 H 0.5075 0.4255 0.9260 0.1738 1.0000 Uiso R
H12 H 0.4705 0.4058 0.7256 0.1738 1.0000 Uiso R
H31 H 0.1456 0.4493 0.8527 0.1185 1.0000 Uiso R
H41 H -0.0543 0.5271 0.8114 0.1099 1.0000 Uiso R
H61 H 0.3786 0.6219 0.6246 0.0794 1.0000 Uiso R
H71 H 0.5773 0.5438 0.6753 0.0928 1.0000 Uiso R
H101 H 0.1812 0.6909 0.5683 0.0647 1.0000 Uiso R
H113 H 0.0677 0.6861 0.2772 0.1255 1.0000 Uiso R
H111 H -0.1073 0.6484 0.3368 0.1257 1.0000 Uiso R
H112 H 0.0925 0.6223 0.3444 0.1262 1.0000 Uiso R
H131 H -0.0876 0.8148 0.5182 0.1028 1.0000 Uiso R
H133 H 0.1196 0.7925 0.5055 0.1028 1.0000 Uiso R
H132 H -0.0258 0.7764 0.3546 0.1028 1.0000 Uiso R
H122 H -0.0616 0.7389 0.7065 0.0804 1.0000 Uiso R
H121 H -0.1833 0.7213 0.5682 0.0804 1.0000 Uiso R
loop_
_atom_site_aniso_label
_atom_site_aniso_U_11
_atom_site_aniso_U_22
_atom_site_aniso_U_33
_atom_site_aniso_U_23
_atom_site_aniso_U_13
_atom_site_aniso_U_12
C1 0.166(3) 0.0663(15) 0.0872(17) -0.0038(13) -0.0201(17) 0.0416(18)
C2 0.113(2) 0.0561(15) 0.0565(13) -0.0050(11) -0.0123(14) 0.0070(15)
C3 0.135(3) 0.0488(15) 0.0935(18) 0.0103(12) -0.0047(18) -0.0146(17)
C4 0.088(2) 0.0591(14) 0.1042(18) 0.0139(13) 0.0049(15) -0.0138(14)
C5 0.0633(16) 0.0498(12) 0.0651(13) 0.0019(10) 0.0029(11) -0.0063(11)
C6 0.0691(17) 0.0529(13) 0.0630(12) 0.0063(10) 0.0006(11) -0.0003(12)
C7 0.0796(17) 0.0623(14) 0.0690(14) 0.0026(11) -0.0036(12) 0.0133(13)
C8 0.0501(14) 0.0597(13) 0.0710(14) 0.0010(11) 0.0104(11) -0.0103(11)
O9 0.0695(12) 0.0884(12) 0.1306(14) 0.0327(10) 0.0350(10) -0.0002(9)
C10 0.0418(12) 0.0535(12) 0.0539(11) -0.0019(9) 0.0030(9) 0.0014(9)
C11 0.0982(19) 0.0728(14) 0.0627(13) -0.0181(11) 0.0009(12) 0.0178(13)
N12 0.0436(9) 0.0569(10) 0.0483(8) -0.0044(7) 0.0005(7) -0.0031(8)
C13 0.0713(16) 0.0510(12) 0.0649(12) 0.0058(10) 0.0019(11) -0.0030(11)
Cl1 0.0448(3) 0.0976(4) 0.0502(3) -0.0152(3) -0.0038(2) 0.0082(3)
loop_
_atom_type_symbol
_atom_type_scat_dispersion_real
_atom_type_scat_dispersion_imag
_atom_type_scat_Cromer_Mann_a1
_atom_type_scat_Cromer_Mann_b1
_atom_type_scat_Cromer_Mann_a2
_atom_type_scat_Cromer_Mann_b2
_atom_type_scat_Cromer_Mann_a3
_atom_type_scat_Cromer_Mann_b3
_atom_type_scat_Cromer_Mann_a4
_atom_type_scat_Cromer_Mann_b4
_atom_type_scat_Cromer_Mann_c
_atom_type_scat_source
C 0.0033 0.0016 2.3100 20.8439 1.0200 10.2075 1.5886 0.5687 0.8650 51.6512
0.2156 'International Tables Vol C 4.2.6.8 and 6.1.1.4'
H 0.0000 0.0000 0.4930 10.5109 0.3229 26.1257 0.1402 3.1424 0.0408 57.7998
0.0030 'International Tables Vol C 4.2.6.8 and 6.1.1.4'
N 0.0061 0.0033 12.2126 0.0057 3.1322 9.8933 2.0125 28.9975 1.1663 0.5826
-11.5290 'International Tables Vol C 4.2.6.8 and 6.1.1.4'
O 0.0106 0.0060 3.0485 13.2771 2.2868 5.7011 1.5463 0.3239 0.8670 32.9089
0.2508 'International Tables Vol C 4.2.6.8 and 6.1.1.4'
Cl 0.1484 0.1585 11.4604 0.0104 7.1964 1.1662 6.2556 18.5194 1.6455 47.7784
-9.5574 'International Tables Vol C 4.2.6.8 and 6.1.1.4'
loop_
_geom_angle_atom_site_label_1
_geom_angle_atom_site_label_2
_geom_angle_atom_site_label_3
_geom_angle
_geom_angle_publ_flag
C2 C1 H13 109.0 no
C2 C1 H11 110.1 no
H13 C1 H11 110.7 no
C2 C1 H12 107.8 no
H13 C1 H12 110.0 no
H11 C1 H12 109.3 no
C1 C2 C3 119.9(3) yes
C1 C2 C7 122.3(3) yes
C3 C2 C7 117.7(2) yes
C2 C3 C4 121.6(2) yes
C2 C3 H31 120.5 no
C4 C3 H31 117.8 no
C3 C4 C5 120.0(3) yes
C3 C4 H41 120.2 no
C5 C4 H41 119.8 no
C4 C5 C6 118.2(2) yes
C4 C5 C8 118.9(2) yes
C6 C5 C8 122.84(18) yes
C5 C6 C7 120.9(2) yes
C5 C6 H61 120.4 no
C7 C6 H61 118.7 no
C6 C7 C2 121.5(2) yes
C6 C7 H71 120.1 no
C2 C7 H71 118.4 no
C5 C8 O9 121.90(19) yes
C5 C8 C10 119.16(19) yes
O9 C8 C10 118.88(19) yes
C8 C10 C11 110.11(16) yes
C8 C10 N12 109.42(15) yes
C11 C10 N12 110.84(15) yes
C8 C10 H101 109.9 no
C11 C10 H101 110.9 no
N12 C10 H101 105.6 no
C10 C11 H113 108.5 no
C10 C11 H111 110.2 no
H113 C11 H111 110.8 no
C10 C11 H112 108.3 no
H113 C11 H112 111.3 no
H111 C11 H112 107.8 no
C10 N12 C13 114.81(15) yes
C10 N12 H122 110.8 no
C13 N12 H122 109.1 no
C10 N12 H121 109.8 no
C13 N12 H121 111.1 no
H122 N12 H121 100.3 no
N12 C13 H131 109.5 no
N12 C13 H133 109.9 no
H131 C13 H133 108.9 no
N12 C13 H132 110.8 no
H131 C13 H132 109.3 no
H133 C13 H132 108.4 no
loop_
_geom_bond_atom_site_label_1
_geom_bond_atom_site_label_2
_geom_bond_distance
_geom_bond_publ_flag
C1 C2 1.514(3) yes
C1 H13 0.985 no
C1 H11 0.968 no
C1 H12 0.965 no
C2 C3 1.386(4) yes
C2 C7 1.370(3) yes
C3 C4 1.391(4) yes
C3 H31 0.948 no
C4 C5 1.389(3) yes
C4 H41 0.949 no
C5 C6 1.383(3) yes
C5 C8 1.477(3) yes
C6 C7 1.387(3) yes
C6 H61 0.952 no
C7 H71 0.945 no
C8 O9 1.224(2) yes
C8 C10 1.515(2) yes
C10 C11 1.520(3) yes
C10 N12 1.478(2) yes
C10 H101 0.953 no
C11 H113 0.953 no
C11 H111 0.976 no
C11 H112 0.939 no
N12 C13 1.484(2) yes
N12 H122 0.924 no
N12 H121 0.897 no
C13 H131 0.964 no
C13 H133 0.965 no
C13 H132 0.963 no
