#------------------------------------------------------------------------------
#$Date: 2016-03-26 21:16:14 +0100 (Sat 26 de Mar de 2016) $
#$Revision: 180497 $
#$URL: svn://www.crystallography.net/cod/cif/7/21/66/7216654.cif $
#------------------------------------------------------------------------------
#
# This file is available in the Crystallography Open Database (COD),
# http://www.crystallography.net/
#
# All data on this site have been placed in the public domain by the
# contributors.
#
data_7216654
loop_
_publ_author_name
'Centore, Roberto'
'Causà, Mauro'
'Cerciello, Francesca'
'Capone, Fabio'
'Fusco, Sandra'
_publ_section_title
;
 Orthogonal H-bonding synthons, actual and virtual structures in molecular
 crystals: a case study
;
_journal_issue                   39
_journal_name_full               CrystEngComm
_journal_page_first              9168
_journal_paper_doi               10.1039/C4CE00956H
_journal_volume                  16
_journal_year                    2014
_chemical_formula_moiety         'C7 H8 N4 O2'
_chemical_formula_sum            'C7 H8 N4 O2'
_chemical_formula_weight         180.17
_chemical_name_systematic
;
 N-(isonicotinoamido)urea
;
_space_group_IT_number           14
_symmetry_cell_setting           monoclinic
_symmetry_space_group_name_Hall  '-P 2ybc'
_symmetry_space_group_name_H-M   'P 1 21/c 1'
_atom_sites_solution_hydrogens   geom
_atom_sites_solution_primary     direct
_atom_sites_solution_secondary   difmap
_audit_creation_method           SHELXL-97
_cell_angle_alpha                90.00
_cell_angle_beta                 106.34(2)
_cell_angle_gamma                90.00
_cell_formula_units_Z            4
_cell_length_a                   4.513(2)
_cell_length_b                   20.038(7)
_cell_length_c                   9.619(5)
_cell_measurement_reflns_used    150
_cell_measurement_temperature    293(2)
_cell_measurement_theta_max      23.87
_cell_measurement_theta_min      4.41
_cell_volume                     834.7(6)
_computing_cell_refinement
;
Dirax/lsq (Duisenberg et al., 2000)
;
_computing_data_collection       'Collect (Nonius BV, 1997-2000)'
_computing_data_reduction
;
EvalCCD (Duisenberg & Schreurs 1990-2000)
;
_computing_molecular_graphics
;
Ortep-3 for Windows (Farrugia, 1997) and 
Mercury (Macrae et al., 2006)
;
_computing_publication_material  'WinGX (Farrugia, 2012)'
_computing_structure_refinement  'SHELXL-97 (Sheldrick, 2008)'
_computing_structure_solution    'SIR97 (Altomare at al, 1999)'
_diffrn_ambient_temperature      293(2)
_diffrn_detector                 'CCD plate'
_diffrn_detector_area_resol_mean 9
_diffrn_detector_type
;
Bruker-Nonius 95mm CCD camera on \k-goniostat
;
_diffrn_measured_fraction_theta_full 0.991
_diffrn_measured_fraction_theta_max 0.991
_diffrn_measurement_device       'four-circle diffractometer'
_diffrn_measurement_device_type  'Bruker-Nonius KappaCCD'
_diffrn_measurement_method
;
CCD rotation images, thick slices
;
_diffrn_radiation_monochromator  graphite
_diffrn_radiation_probe          x-ray
_diffrn_radiation_source         'normal-focus sealed tube'
_diffrn_radiation_type           MoK\a
_diffrn_radiation_wavelength     0.71073
_diffrn_reflns_av_R_equivalents  0.0386
_diffrn_reflns_av_sigmaI/netI    0.0418
_diffrn_reflns_limit_h_max       5
_diffrn_reflns_limit_h_min       -5
_diffrn_reflns_limit_k_max       25
_diffrn_reflns_limit_k_min       -25
_diffrn_reflns_limit_l_max       12
_diffrn_reflns_limit_l_min       -12
_diffrn_reflns_number            9390
_diffrn_reflns_theta_full        27.50
_diffrn_reflns_theta_max         27.50
_diffrn_reflns_theta_min         3.00
_exptl_absorpt_coefficient_mu    0.110
_exptl_absorpt_correction_T_max  0.9945
_exptl_absorpt_correction_T_min  0.9472
_exptl_absorpt_correction_type   multi-scan
_exptl_absorpt_process_details
;
 SADABS (Bruker, 2000)
;
_exptl_crystal_colour            colourless
_exptl_crystal_density_diffrn    1.434
_exptl_crystal_density_method    'not measured'
_exptl_crystal_description       plate
_exptl_crystal_F_000             376
_exptl_crystal_size_max          0.50
_exptl_crystal_size_mid          0.30
_exptl_crystal_size_min          0.05
_refine_diff_density_max         0.144
_refine_diff_density_min         -0.189
_refine_diff_density_rms         0.040
_refine_ls_extinction_method     none
_refine_ls_goodness_of_fit_ref   1.066
_refine_ls_hydrogen_treatment    mixed
_refine_ls_matrix_type           full
_refine_ls_number_parameters     130
_refine_ls_number_reflns         1901
_refine_ls_number_restraints     0
_refine_ls_restrained_S_all      1.066
_refine_ls_R_factor_all          0.0932
_refine_ls_R_factor_gt           0.0484
_refine_ls_shift/su_max          0.000
_refine_ls_shift/su_mean         0.000
_refine_ls_structure_factor_coef Fsqd
_refine_ls_weighting_details
'calc w=1/[σ²(Fo²)+(0.0443P)²+0.1591P] where P=(Fo²+2Fc²)/3'
_refine_ls_weighting_scheme      calc
_refine_ls_wR_factor_gt          0.0967
_refine_ls_wR_factor_ref         0.1110
_reflns_number_gt                1218
_reflns_number_total             1901
_reflns_threshold_expression     I>2sigma(I)
_cod_data_source_file            c4ce00956h21.cif
_cod_data_source_block           smc31
_cod_depositor_comments
'Adding full bibliography for 7216651--7216656.cif.'
_cod_database_code               7216654
loop_
_symmetry_equiv_pos_as_xyz
'x, y, z'
'-x, y+1/2, -z+1/2'
'-x, -y, -z'
'x, -y-1/2, z-1/2'
loop_
_atom_site_label
_atom_site_type_symbol
_atom_site_fract_x
_atom_site_fract_y
_atom_site_fract_z
_atom_site_U_iso_or_equiv
_atom_site_adp_type
_atom_site_occupancy
_atom_site_symmetry_multiplicity
_atom_site_calc_flag
_atom_site_refinement_flags
C1 C -0.1057(5) 0.05632(10) 0.1638(2) 0.0567(6) Uani 1 1 d .
H1 H -0.1868 0.0271 0.0874 0.068 Uiso 1 1 calc R
C2 C 0.0554(5) 0.11075(9) 0.1379(2) 0.0489(5) Uani 1 1 d .
H2 H 0.0815 0.1178 0.0465 0.059 Uiso 1 1 calc R
C3 C 0.1780(4) 0.15475(8) 0.24923(18) 0.0353(4) Uani 1 1 d .
C4 C 0.1310(5) 0.14117(9) 0.3813(2) 0.0495(5) Uani 1 1 d .
H4 H 0.2086 0.1696 0.4596 0.059 Uiso 1 1 calc R
C5 C -0.0328(5) 0.08496(10) 0.3963(2) 0.0574(6) Uani 1 1 d .
H5 H -0.0601 0.0763 0.4869 0.069 Uiso 1 1 calc R
C6 C 0.3464(4) 0.21464(8) 0.21692(19) 0.0393(4) Uani 1 1 d .
C7 C 0.4306(4) 0.36894(8) 0.27197(19) 0.0351(4) Uani 1 1 d .
N1 N -0.1531(4) 0.04272(7) 0.2907(2) 0.0546(5) Uani 1 1 d .
N2 N 0.4789(3) 0.25437(7) 0.32825(17) 0.0383(4) Uani 1 1 d .
H2N H 0.450(4) 0.2506(9) 0.418(2) 0.046 Uiso 1 1 d .
N3 N 0.6103(3) 0.31406(7) 0.30442(17) 0.0432(4) Uani 1 1 d .
H3N H 0.794(5) 0.3149(10) 0.300(2) 0.052 Uiso 1 1 d .
N4 N 0.5726(4) 0.42391(8) 0.2479(2) 0.0476(5) Uani 1 1 d .
H4A H 0.463(5) 0.4586(10) 0.227(2) 0.057 Uiso 1 1 d .
H4B H 0.766(5) 0.4214(10) 0.250(2) 0.057 Uiso 1 1 d .
O1 O 0.3629(4) 0.22521(7) 0.09496(15) 0.0718(5) Uani 1 1 d .
O2 O 0.1562(3) 0.36734(6) 0.26810(16) 0.0564(4) Uani 1 1 d .
loop_
_atom_site_aniso_label
_atom_site_aniso_U_11
_atom_site_aniso_U_22
_atom_site_aniso_U_33
_atom_site_aniso_U_23
_atom_site_aniso_U_13
_atom_site_aniso_U_12
C1 0.0632(14) 0.0428(11) 0.0573(13) -0.0151(10) 0.0057(11) -0.0089(10)
C2 0.0604(12) 0.0431(11) 0.0405(11) -0.0024(9) 0.0098(9) -0.0005(10)
C3 0.0419(10) 0.0267(8) 0.0371(10) 0.0020(7) 0.0106(8) 0.0037(7)
C4 0.0730(13) 0.0372(10) 0.0400(11) -0.0055(8) 0.0184(10) -0.0176(9)
C5 0.0802(15) 0.0428(11) 0.0527(12) 0.0015(9) 0.0246(11) -0.0175(10)
C6 0.0491(11) 0.0315(9) 0.0411(11) 0.0065(8) 0.0192(9) 0.0060(8)
C7 0.0297(10) 0.0339(9) 0.0460(10) 0.0023(8) 0.0177(8) 0.0000(8)
N1 0.0594(11) 0.0363(9) 0.0669(12) -0.0034(8) 0.0159(9) -0.0111(8)
N2 0.0447(9) 0.0304(7) 0.0437(9) 0.0025(7) 0.0188(7) -0.0060(7)
N3 0.0316(8) 0.0273(8) 0.0769(12) 0.0089(7) 0.0257(8) 0.0007(7)
N4 0.0338(9) 0.0302(8) 0.0842(13) 0.0109(8) 0.0255(9) 0.0039(7)
O1 0.1263(14) 0.0555(9) 0.0446(8) 0.0055(7) 0.0423(9) -0.0130(9)
O2 0.0293(7) 0.0500(8) 0.0966(12) 0.0204(7) 0.0287(7) 0.0057(6)
loop_
_atom_type_symbol
_atom_type_description
_atom_type_scat_dispersion_real
_atom_type_scat_dispersion_imag
_atom_type_scat_source
C C 0.0033 0.0016 'International Tables Vol C Tables 4.2.6.8 and 6.1.1.4'
H H 0.0000 0.0000 'International Tables Vol C Tables 4.2.6.8 and 6.1.1.4'
N N 0.0061 0.0033 'International Tables Vol C Tables 4.2.6.8 and 6.1.1.4'
O O 0.0106 0.0060 'International Tables Vol C Tables 4.2.6.8 and 6.1.1.4'
loop_
_geom_angle_atom_site_label_1
_geom_angle_atom_site_label_2
_geom_angle_atom_site_label_3
_geom_angle
_geom_angle_publ_flag
N1 C1 C2 124.18(18) no
N1 C1 H1 117.9 no
C2 C1 H1 117.9 no
C1 C2 C3 119.03(19) no
C1 C2 H2 120.5 no
C3 C2 H2 120.5 no
C4 C3 C2 117.37(17) no
C4 C3 C6 124.74(16) no
C2 C3 C6 117.87(16) no
C3 C4 C5 119.10(17) no
C3 C4 H4 120.4 no
C5 C4 H4 120.4 no
N1 C5 C4 124.20(19) no
N1 C5 H5 117.9 no
C4 C5 H5 117.9 no
O1 C6 N2 122.43(17) no
O1 C6 C3 120.80(17) no
N2 C6 C3 116.77(15) no
O2 C7 N4 123.26(16) no
O2 C7 N3 121.38(15) no
N4 C7 N3 115.35(15) no
C5 N1 C1 116.11(17) no
C6 N2 N3 119.98(15) no
C6 N2 H2N 124.1(11) no
N3 N2 H2N 114.2(11) no
C7 N3 N2 119.01(14) no
C7 N3 H3N 120.4(13) no
N2 N3 H3N 120.1(13) no
C7 N4 H4A 116.5(14) no
C7 N4 H4B 118.6(14) no
H4A N4 H4B 125(2) no
loop_
_geom_bond_atom_site_label_1
_geom_bond_atom_site_label_2
_geom_bond_distance
_geom_bond_publ_flag
C1 N1 1.326(3) no
C1 C2 1.372(3) no
C1 H1 0.9300 no
C2 C3 1.377(2) no
C2 H2 0.9300 no
C3 C4 1.373(3) no
C3 C6 1.499(2) no
C4 C5 1.377(3) no
C4 H4 0.9300 no
C5 N1 1.317(2) no
C5 H5 0.9300 no
C6 O1 1.215(2) no
C6 N2 1.333(2) no
C7 O2 1.229(2) no
C7 N4 1.327(2) no
C7 N3 1.350(2) no
N2 N3 1.383(2) no
N2 H2N 0.915(19) no
N3 H3N 0.84(2) no
N4 H4A 0.84(2) no
N4 H4B 0.87(2) no
loop_
_geom_torsion_atom_site_label_1
_geom_torsion_atom_site_label_2
_geom_torsion_atom_site_label_3
_geom_torsion_atom_site_label_4
_geom_torsion
_geom_torsion_publ_flag
N1 C1 C2 C3 0.0(3) no
C1 C2 C3 C4 0.1(3) no
C1 C2 C3 C6 -178.57(17) no
C2 C3 C4 C5 0.3(3) no
C6 C3 C4 C5 178.81(18) no
C3 C4 C5 N1 -0.8(3) no
C4 C3 C6 O1 -175.63(18) no
C2 C3 C6 O1 2.9(3) no
C4 C3 C6 N2 5.4(3) no
C2 C3 C6 N2 -176.11(16) no
C4 C5 N1 C1 0.9(3) no
C2 C1 N1 C5 -0.5(3) no
O1 C6 N2 N3 7.7(3) no
C3 C6 N2 N3 -173.28(14) no
O2 C7 N3 N2 2.5(3) no
N4 C7 N3 N2 -178.73(16) no
C6 N2 N3 C7 86.5(2) no
